BEGIN:VCALENDAR
VERSION:2.0
PRODID:-//City of Bend - ECPv6.15.20//NONSGML v1.0//EN
CALSCALE:GREGORIAN
METHOD:PUBLISH
X-WR-CALNAME:City of Bend
X-ORIGINAL-URL:https://bendoregon.gov
X-WR-CALDESC:Events for City of Bend
REFRESH-INTERVAL;VALUE=DURATION:PT1H
X-Robots-Tag:noindex
X-PUBLISHED-TTL:PT1H
BEGIN:VTIMEZONE
TZID:America/Los_Angeles
BEGIN:DAYLIGHT
TZOFFSETFROM:-0800
TZOFFSETTO:-0700
TZNAME:PDT
DTSTART:20230312T100000
END:DAYLIGHT
BEGIN:STANDARD
TZOFFSETFROM:-0700
TZOFFSETTO:-0800
TZNAME:PST
DTSTART:20231105T090000
END:STANDARD
BEGIN:DAYLIGHT
TZOFFSETFROM:-0800
TZOFFSETTO:-0700
TZNAME:PDT
DTSTART:20240310T100000
END:DAYLIGHT
BEGIN:STANDARD
TZOFFSETFROM:-0700
TZOFFSETTO:-0800
TZNAME:PST
DTSTART:20241103T090000
END:STANDARD
BEGIN:DAYLIGHT
TZOFFSETFROM:-0800
TZOFFSETTO:-0700
TZNAME:PDT
DTSTART:20250309T100000
END:DAYLIGHT
BEGIN:STANDARD
TZOFFSETFROM:-0700
TZOFFSETTO:-0800
TZNAME:PST
DTSTART:20251102T090000
END:STANDARD
END:VTIMEZONE
BEGIN:VEVENT
DTSTART;TZID=America/Los_Angeles:20241121T130000
DTEND;TZID=America/Los_Angeles:20241121T143000
DTSTAMP:20260425T210211
CREATED:20251210T231807Z
LAST-MODIFIED:20251210T231807Z
UID:10003820-1732194000-1732199400@bendoregon.gov
SUMMARY:Alternate Meeting Date: City of Bend Accessibility Advisory Committee Hybrid Meeting
DESCRIPTION:Hybrid Meeting Notice (Alternate Meeting Date): \n \nThe City of Bend Accessibility Advisory Committee (COBAAC) will conduct its hybrid regular meeting virtually through Zoom and in person in Council Chambers at City Hall\, 710 NW Wall Street\, Bend\, Oregon\, on the third Thursday of the month\, November 21\, 2024\, from 1:00 to 2:30 p.m. You can also observe the COBAAC meeting live at 1:00 p.m. Virtual attendees need to pre-register to receive a personalized Zoom link to join this meeting. \nPlease Note – Alternate Meeting Date: The COBAAC\, November 21\, 2024\, meeting will be held on the third Thursday of the month\, not the fourth Thursday. \nThe COBAAC November 21\, 2024\, Agenda uploaded closer to the meeting date \nTo Attend by Computer\, Pre-Register: You will receive an email confirmation with a personal link with information to connect via computer or phone. \nTo Attend by Phone (No Pre-Registration Required): \n\nDial Toll-Free: 1888-788-0099\nWebinar ID: 821 2583 5949\nPasscode\, if Prompted: 262222 (COBAAC)\n\nCOBAAC October 24th\, regular hybrid meeting\, live at 1:00 p.m. \nTechnical Difficulties Connecting to this Meeting: Call 541-410-9341 \nPublic Comment Section – Phone Users & Pre-Registered Zoom Attendees\, Two Minute Per Person Limit for 4 Minutes: \nToggle *(Star) nine to raise/lower hand\, and *(Star) six to mute/unmute yourself. The host will enable the raise/lower hand and mute/unmute during the public comment sections only\, then disable this ability/function. For additional input for this meeting\, please email the Accessibility and Equity Manager at ckehoe@bendoregon.gov. \nFor additional information: Please contact the Accessibility and Equity Manager // COBAAC Staff Liaison\, Cassandra Kehoe (She\, Her)\, at ckehoe@bendoregon.gov or call 541-693-2141. \nAccessibility Meeting Notice Information\nThis meeting/event location is accessible. Sign language interpreter service\, assistive listening devices\, materials in alternate format such as Braille\, large print\, electronic formats\, or any other accommodations are available upon advance request. Please contact the Accessibility and Equity Program no later than two days before the meeting date at accessibility@bendoregon.gov or call 541-693-2141; Relay Users Dial 7-1-1. Providing\, at least\, 3 days’ notice prior to the event will help ensure availability. \nPara solicitar copias en español de los documentas en esta página web o en un formato alternativo como Braille\, letra grande\, formatos electrónicos\, etc.: \nPor favor contacte al Director de Equidad e Inclusión\, Andrés Portela aportela@bendoregon.gov o llame al 541-323-8563. Los usuarios de retransmisión marquen el 7-1-1.
URL:https://bendoregon.gov/event/alternate-meeting-date-city-of-bend-accessibility-advisory-committee-hybrid-meeting/
LOCATION:Council Chambers (City Hall)\, 710 NW Wall St\, Bend\, 97703\, United States
CATEGORIES:Accessibility Advisory Committee
END:VEVENT
END:VCALENDAR