BEGIN:VCALENDAR
VERSION:2.0
PRODID:-//City of Bend - ECPv6.15.20//NONSGML v1.0//EN
CALSCALE:GREGORIAN
METHOD:PUBLISH
X-WR-CALNAME:City of Bend
X-ORIGINAL-URL:https://bendoregon.gov
X-WR-CALDESC:Events for City of Bend
REFRESH-INTERVAL;VALUE=DURATION:PT1H
X-Robots-Tag:noindex
X-PUBLISHED-TTL:PT1H
BEGIN:VTIMEZONE
TZID:America/Los_Angeles
BEGIN:DAYLIGHT
TZOFFSETFROM:-0800
TZOFFSETTO:-0700
TZNAME:PDT
DTSTART:20230312T100000
END:DAYLIGHT
BEGIN:STANDARD
TZOFFSETFROM:-0700
TZOFFSETTO:-0800
TZNAME:PST
DTSTART:20231105T090000
END:STANDARD
BEGIN:DAYLIGHT
TZOFFSETFROM:-0800
TZOFFSETTO:-0700
TZNAME:PDT
DTSTART:20240310T100000
END:DAYLIGHT
BEGIN:STANDARD
TZOFFSETFROM:-0700
TZOFFSETTO:-0800
TZNAME:PST
DTSTART:20241103T090000
END:STANDARD
BEGIN:DAYLIGHT
TZOFFSETFROM:-0800
TZOFFSETTO:-0700
TZNAME:PDT
DTSTART:20250309T100000
END:DAYLIGHT
BEGIN:STANDARD
TZOFFSETFROM:-0700
TZOFFSETTO:-0800
TZNAME:PST
DTSTART:20251102T090000
END:STANDARD
END:VTIMEZONE
BEGIN:VEVENT
DTSTART;TZID=America/Los_Angeles:20241125T113000
DTEND;TZID=America/Los_Angeles:20241125T130000
DTSTAMP:20260425T113807
CREATED:20251210T231822Z
LAST-MODIFIED:20251210T231822Z
UID:10003821-1732534200-1732539600@bendoregon.gov
SUMMARY:Stewardship Council Subcommittee
DESCRIPTION:The Stewardship Council Subcommittee will conduct a meeting virtually through Zoom and in person in the Council Chambers at 710 NW Wall Street\, Bend\, OR 97703 on Monday\, November 25\, 2024\, from 11:30 to 1:00 p.m. Virtual meeting links and agenda will be posted closer to the date of the meeting.
URL:https://bendoregon.gov/event/stewardship-council-subcommittee-4/
LOCATION:Council Chambers (City Hall)\, 710 NW Wall St\, Bend\, 97703\, United States
END:VEVENT
BEGIN:VEVENT
DTSTART;TZID=America/Los_Angeles:20241125T173000
DTEND;TZID=America/Los_Angeles:20241125T235900
DTSTAMP:20260425T113807
CREATED:20251210T231822Z
LAST-MODIFIED:20251210T231822Z
UID:10003822-1732555800-1732579140@bendoregon.gov
SUMMARY:CANCELLED: Planning Commission
DESCRIPTION:The November 25th Planning Commission meeting has been cancelled. Please visit the Bend Planning Commission website for future meetings: Planning Commission | City of Bend. 
URL:https://bendoregon.gov/event/cancelled-planning-commission-5/
LOCATION:Council Chambers (City Hall)\, 710 NW Wall St\, Bend\, 97703\, United States
CATEGORIES:Planning Commission
END:VEVENT
BEGIN:VEVENT
DTSTART;TZID=America/Los_Angeles:20241125T173000
DTEND;TZID=America/Los_Angeles:20241125T235900
DTSTAMP:20260425T113807
CREATED:20251210T231822Z
LAST-MODIFIED:20251210T231822Z
UID:10003823-1732555800-1732579140@bendoregon.gov
SUMMARY:Planning Commission
DESCRIPTION:The meeting convenes at 5:30PM on a hybrid\, in-person and virtual Zoom platform. \nJoin the meeting using the following options: \nIn-person location: City Hall\, Council Chambers\, 710 NW Wall Street\, Bend\, OR 97703 \nRegister via Zoom Online Meeting Link: https://bendoregon-gov.zoom.us/webinar/register/WN_yZDSKhrmTFSZT9mucou71A \nYou can also copy and paste the Zoom link into your browser. \nCall-in Phone Number: 1-888-788-0099  \nWebinar ID: 859 9517 0334 \nPasscode: 936576 \nThe public is invited to watch on-line at:  \nhttps://youtube.com/live/phWFQydh0Uo?feature=share \nPlease click here to view the meeting agenda: Agenda
URL:https://bendoregon.gov/event/planning-commission-137/
LOCATION:Council Chambers (City Hall)\, 710 NW Wall St\, Bend\, 97703\, United States
CATEGORIES:Planning Commission
END:VEVENT
END:VCALENDAR