BEGIN:VCALENDAR
VERSION:2.0
PRODID:-//City of Bend - ECPv6.15.20//NONSGML v1.0//EN
CALSCALE:GREGORIAN
METHOD:PUBLISH
X-WR-CALNAME:City of Bend
X-ORIGINAL-URL:https://bendoregon.gov
X-WR-CALDESC:Events for City of Bend
REFRESH-INTERVAL;VALUE=DURATION:PT1H
X-Robots-Tag:noindex
X-PUBLISHED-TTL:PT1H
BEGIN:VTIMEZONE
TZID:America/Los_Angeles
BEGIN:DAYLIGHT
TZOFFSETFROM:-0800
TZOFFSETTO:-0700
TZNAME:PDT
DTSTART:20230312T100000
END:DAYLIGHT
BEGIN:STANDARD
TZOFFSETFROM:-0700
TZOFFSETTO:-0800
TZNAME:PST
DTSTART:20231105T090000
END:STANDARD
BEGIN:DAYLIGHT
TZOFFSETFROM:-0800
TZOFFSETTO:-0700
TZNAME:PDT
DTSTART:20240310T100000
END:DAYLIGHT
BEGIN:STANDARD
TZOFFSETFROM:-0700
TZOFFSETTO:-0800
TZNAME:PST
DTSTART:20241103T090000
END:STANDARD
BEGIN:DAYLIGHT
TZOFFSETFROM:-0800
TZOFFSETTO:-0700
TZNAME:PDT
DTSTART:20250309T100000
END:DAYLIGHT
BEGIN:STANDARD
TZOFFSETFROM:-0700
TZOFFSETTO:-0800
TZNAME:PST
DTSTART:20251102T090000
END:STANDARD
END:VTIMEZONE
BEGIN:VEVENT
DTSTART;TZID=America/Los_Angeles:20241204T100000
DTEND;TZID=America/Los_Angeles:20241204T113000
DTSTAMP:20260425T113810
CREATED:20251210T231837Z
LAST-MODIFIED:20251210T231837Z
UID:10003828-1733306400-1733311800@bendoregon.gov
SUMMARY:BMPO Technical Advisory Committee Meeting
DESCRIPTION:This is a hybrid meeting. The agenda and Zoom link will be available on the BMPO Technical Advisory Committee website prior to the meeting date. \nTo get email notification for these meetings\, submit a subscription request for Bend MPO Technical Advisory Committee event notifications through the Subscribe page. \nQuestions? Contact the BMPO staff.\n  \nAccessible Meeting Information \nThis meeting event/location is accessible. Sign language interpreter service\, assistive listening devices\, materials in alternate format such as Braille\, large print\, electronic formats\, or any other accommodations are available upon advance request. Please contact Kelli Kennedy no later than 3 business days before the meeting date at kkennedy@bendoregon.gov or 541-693-2122; Relay Users Dial 7-1-1. Providing at least 3 days’ notice prior to the event will help ensure availability.
URL:https://bendoregon.gov/event/bmpo-technical-advisory-committee-meeting-15/
LOCATION:Boardroom (City Hall)\, 710 NW Wall St\, Bend\, 97703\, United States
CATEGORIES:Bend MPO Technical Advisory Committee
END:VEVENT
BEGIN:VEVENT
DTSTART;TZID=America/Los_Angeles:20241204T170000
DTEND;TZID=America/Los_Angeles:20241204T220000
DTSTAMP:20260425T113810
CREATED:20251210T231837Z
LAST-MODIFIED:20251210T231837Z
UID:10003829-1733331600-1733349600@bendoregon.gov
SUMMARY:City Council Meeting
DESCRIPTION:
URL:https://bendoregon.gov/event/city-council-meeting-258/
LOCATION:Council Chambers (City Hall)\, 710 NW Wall St\, Bend\, 97703\, United States
END:VEVENT
BEGIN:VEVENT
DTSTART;TZID=America/Los_Angeles:20241204T173000
DTEND;TZID=America/Los_Angeles:20241204T183000
DTSTAMP:20260425T113810
CREATED:20251210T231837Z
LAST-MODIFIED:20251210T231837Z
UID:10003830-1733333400-1733337000@bendoregon.gov
SUMMARY:Community CPR Training
DESCRIPTION:Our hands on CPR course is a free\, non-certified course that teaches our community hands on CPR life saving techniques. This class is for workplaces\, schools and anybody in our community who wants to learn this critical lifesaving skill. The class will cover what to anticipate from 911 dispatch during the emergency\, how to properly and effectively perform CPR\, and what to expect when first responders arrive to help. \nLearn to be a lifesaver! \nWe are glad to have CPR classes back for the community.  \nHand only CPR class is offered the first Wednesday of each month from 5:30pm – 6:30pm. \nBe sure to register as the class is limited to 20 participants. \nPlease click the Register Now button above or call 541-322-6300 \nThis is not a certification class. Certifications in CPR can be obtained through the American Red Cross.  \nGroups\, workplaces and schools can schedule individual classes. Please call 541-322-6300 or email bfrcommunitytraining@bendoregon.gov to schedule.  \nClasses are subject to change based on changing COVID restrictions. Please be sure to check a few days before any class to be sure it is still available.  \n 
URL:https://bendoregon.gov/event/community-cpr-training-30/
LOCATION:Fire Training Center\, 63377 NE Jamison St.\, Bend\, 97701\, United States
CATEGORIES:Fire & Rescue Events & Community Training
END:VEVENT
BEGIN:VEVENT
DTSTART;TZID=America/Los_Angeles:20241204T180000
DTEND;TZID=America/Los_Angeles:20241204T200000
DTSTAMP:20260425T113810
CREATED:20251210T231852Z
LAST-MODIFIED:20260113T013256Z
UID:10003831-1733335200-1733342400@bendoregon.gov
SUMMARY:Bend Fire Santa Express in Southeast Bend
DESCRIPTION:Santa is trading in his sleigh for a fire engine! Bring your donations to the Santa Express!\nThe Bend Fire Santa Express is gearing up for another fun year visiting local neighborhoods to collect food\, clothing and toys in support of The Salvation Army. On Wed. Dec. 4 Santa will be coming through the Foxborough\, Larkspur and Sun Meadow neighborhoods in southeast Bend.  \nThe Santa Express will begin at the corner of Goldenrod Lane and Brosterhous Road at 6 p.m. and slowly walk the route shown in the attached map. Meet Santa and the crews along the route to provide a donation! Anything and everything helps – even one can of food or a small toy will go a long way to providing a good dinner and a nice gift on Christmas. \nNeed ideas? Here are current needs provided by The Salvation Army:\n\nKids (all ages) winter coats \nTeen and Pre-Teen Christmas gifts (t-shirts\, sweatshirts\, bath/body products\, gift cards\, sports supplies\, etc.)\n\nAlternative Donation Drop-off\nIf you miss the Santa Express but would still like to provide donations\, stop by any of the Bend Fire stations or The Salvation Army (515 NE Dekalb Ave.) and place any of your non-perishable foods\, new toys or clothing in our collection bins now through Dec. 13! \nBend Fire & Rescue Station Locations: \n\nWest Fire Station – 1212 SW Simpson Ave\nEast Fire Station – 62420 Hamby Rd\nNorth Fire Station – 63377 Jamison St\nSouth Fire Station – 61080 Country Club Dr\nTumalo Fire Station – 64725 Cook Ave \nPilot Butte Fire Station – 425 NE 15th St \n\nIf you can’t make it any of these locations and would like someone to come by and pick up your donation in the Bend area\, please call our office at 541-322-6386 to arrange a curbside pickup.  \nThanks ahead of time from Bend Firefighters Association\, Bend Fire & Rescue\, Cascade Disposal and The Salvation Army for helping families in need this holiday season. If you need help for this holiday season with food or presents\, please call The Salvation Army at 541-389-8888.
URL:https://bendoregon.gov/event/bend-fire-santa-express-in-southeast-bend-2/
LOCATION:Goldenrod Lane and Brosterhous Road\, Bend\, United States
CATEGORIES:Fire & Rescue Events & Community Training
END:VEVENT
BEGIN:VEVENT
DTSTART;TZID=America/Los_Angeles:20241204T183000
DTEND;TZID=America/Los_Angeles:20241204T193000
DTSTAMP:20260425T113810
CREATED:20251210T231852Z
LAST-MODIFIED:20251210T231852Z
UID:10003832-1733337000-1733340600@bendoregon.gov
SUMMARY:Stop the Bleed Training
DESCRIPTION:This is a free one-hour class designed to teach our community what to do to stop severe uncontrolled bleeding. This class will teach why severe uncontrolled bleeding is dangerous\, how to recognize it\, and more importantly how to control the bleeding quickly and effectively.  \nStop the Bleed class is offered the first Wednesday of each month from 7:00pm – 8:00pm. \nBe sure to register as the class is limited to 20 participants. \nPlease click the Register Now button above or call 541-322-6300 \nGroups\, workplaces and schools can schedule individual classes. Please call 541-322-6300 or email bfrcommunitytraining@bendoregon.gov to schedule.  \nClasses are subject to change based on changing COVID restrictions. Please be sure to check a few days before any class to be sure it is still available.  \n 
URL:https://bendoregon.gov/event/stop-the-bleed-training-30/
LOCATION:Fire Training Center\, 63377 NE Jamison St.\, Bend\, 97701\, United States
CATEGORIES:Fire & Rescue Events & Community Training
END:VEVENT
END:VCALENDAR