BEGIN:VCALENDAR
VERSION:2.0
PRODID:-//City of Bend - ECPv6.15.20//NONSGML v1.0//EN
CALSCALE:GREGORIAN
METHOD:PUBLISH
X-WR-CALNAME:City of Bend
X-ORIGINAL-URL:https://bendoregon.gov
X-WR-CALDESC:Events for City of Bend
REFRESH-INTERVAL;VALUE=DURATION:PT1H
X-Robots-Tag:noindex
X-PUBLISHED-TTL:PT1H
BEGIN:VTIMEZONE
TZID:America/Los_Angeles
BEGIN:DAYLIGHT
TZOFFSETFROM:-0800
TZOFFSETTO:-0700
TZNAME:PDT
DTSTART:20230312T100000
END:DAYLIGHT
BEGIN:STANDARD
TZOFFSETFROM:-0700
TZOFFSETTO:-0800
TZNAME:PST
DTSTART:20231105T090000
END:STANDARD
BEGIN:DAYLIGHT
TZOFFSETFROM:-0800
TZOFFSETTO:-0700
TZNAME:PDT
DTSTART:20240310T100000
END:DAYLIGHT
BEGIN:STANDARD
TZOFFSETFROM:-0700
TZOFFSETTO:-0800
TZNAME:PST
DTSTART:20241103T090000
END:STANDARD
BEGIN:DAYLIGHT
TZOFFSETFROM:-0800
TZOFFSETTO:-0700
TZNAME:PDT
DTSTART:20250309T100000
END:DAYLIGHT
BEGIN:STANDARD
TZOFFSETFROM:-0700
TZOFFSETTO:-0800
TZNAME:PST
DTSTART:20251102T090000
END:STANDARD
END:VTIMEZONE
BEGIN:VEVENT
DTSTART;TZID=America/Los_Angeles:20241211T130000
DTEND;TZID=America/Los_Angeles:20241211T143000
DTSTAMP:20260425T113807
CREATED:20251210T231907Z
LAST-MODIFIED:20251210T231907Z
UID:10003837-1733922000-1733927400@bendoregon.gov
SUMMARY:Local Contract Review Board
DESCRIPTION: 
URL:https://bendoregon.gov/event/local-contract-review-board-9/
LOCATION:Awbrey Butte (City Hall)\, 710 NW Wall St\, Bend\, 97703\, United States
END:VEVENT
BEGIN:VEVENT
DTSTART;TZID=America/Los_Angeles:20241211T150000
DTEND;TZID=America/Los_Angeles:20241211T180000
DTSTAMP:20260425T113807
CREATED:20251210T231907Z
LAST-MODIFIED:20251210T231907Z
UID:10003838-1733929200-1733940000@bendoregon.gov
SUMMARY:Affordable Housing Advisory Committee (AHAC) Meeting
DESCRIPTION:This meeting will be held in City Hall Council Chambers and via Zoom.  Meeting time is 3:00 – 6:00pm \nAgenda: AHAC_Agenda_12_11_24.docx \nPublic comments for this meeting will be accepted two ways.  \n\nTo comment live at the meeting\, you must join the meeting via Zoom. \nOr send comments to dcook@bendoregon.gov prior to 12:00 pm on Wednesday\, December 11\, 2024.  Comments will be shared with committee members.\n\nTo join via Computer (Zoom) use the following link: https://bendoregon-gov.zoom.us/j/88571325169?pwd=IESW94DJBbeBlbA4WQOfIvOtz6aVU8.1 \nPasscode (required): 412138 \nOr you may call into the meeting and enter the Webinar ID. \nCall (toll charges may apply):  1-888-788-0099 or 1-253-215-8782 \n                Webinar ID:  885 7132 5169 \nTo watch live or later via YouTube: https://youtube.com/live/vuSiJTJQHFg?feature=share \nIf you have technical difficulties connecting to the meeting\, call 541-410-9341
URL:https://bendoregon.gov/event/affordable-housing-advisory-committee-ahac-meeting-45/
LOCATION:Virtual meeting – see details below\, United States
CATEGORIES:Affordable Housing Advisory Committee
END:VEVENT
BEGIN:VEVENT
DTSTART;TZID=America/Los_Angeles:20241211T163000
DTEND;TZID=America/Los_Angeles:20241211T174500
DTSTAMP:20260425T113807
CREATED:20251210T231907Z
LAST-MODIFIED:20251210T231907Z
UID:10003839-1733934600-1733939100@bendoregon.gov
SUMMARY:Alternate Date\, Length & Venue Change: Human Rights and Equity Commission Hybrid Meeting
DESCRIPTION:Hybrid Meeting Notice (Alternate Date\, Length\, & Venue Change):\nThe Human Rights and Equity Commission (HREC)conducts its meetings\, virtually through Zoom and in person in the Boardroom\, at City Hall\, 710 NW Wall Street; on Wednesday\, December 11\, 2024\, from 4:30 to 5:45 p.m. Alternate date and venue change or watch the YouTube livestream. \nThe HREC December 11\, 2024\, Agenda. \nTo Attend by Computer\, Pre-Register: You will receive an email confirmation with a personal link with information to connect via computer or phone. \nTo Attend by Phone (No Pre-Registration Required): \n\n\nDial Toll-Free: 1-888-788-0099 \n\n\nWebinar ID: 893 0719 9746 \n\n\nPasscode\, if prompted: 4732 (HREC) \n\n\nTechnical Difficulties Connecting to this Meeting: Call 541-410-9341. \nFor Additional Information: Please call the Equity and Inclusion Director // HREC Staff Liaison\, Andrés Portela\, He/Him/El\, at 541-323-8563\, or email aportela@bendoregon.gov. \nAccessible Meeting Notice Information\nThis meeting/event location is accessible. Sign language interpreter service\, assistive listening devices\, materials in alternate format such as Braille\, large print\, electronic formats\, or any other accommodations are available upon advance request. Please contact the Accessibility and Equity Program no later than two days before the meeting date at accessibility@bendoregon.gov or call 541-693-2141; Relay Users Dial 7-1-1. Providing\, at least\, 3 days’ notice prior to the event will help ensure availability. \nPara solicitar copias en español de los documentas en esta página web o en un formato alternativo como Braille\, letra grande\, formatos electrónicos\, etc.: \nPor favor contacte al Director de Equidad e Inclusión\, Andrés Portela aportela@bendoregon.gov o llame al 541-323-8563. Los usuarios de retransmisión marquen el 7-1-1.
URL:https://bendoregon.gov/event/alternate-date-length-venue-change-human-rights-and-equity-commission-hybrid-meeting/
LOCATION:Boardroom (City Hall)\, 710 NW Wall St\, Bend\, 97703\, United States
CATEGORIES:Human Rights & Equity Commission
END:VEVENT
END:VCALENDAR