BEGIN:VCALENDAR
VERSION:2.0
PRODID:-//City of Bend - ECPv6.15.20//NONSGML v1.0//EN
CALSCALE:GREGORIAN
METHOD:PUBLISH
X-WR-CALNAME:City of Bend
X-ORIGINAL-URL:https://bendoregon.gov
X-WR-CALDESC:Events for City of Bend
REFRESH-INTERVAL;VALUE=DURATION:PT1H
X-Robots-Tag:noindex
X-PUBLISHED-TTL:PT1H
BEGIN:VTIMEZONE
TZID:America/Los_Angeles
BEGIN:DAYLIGHT
TZOFFSETFROM:-0800
TZOFFSETTO:-0700
TZNAME:PDT
DTSTART:20230312T100000
END:DAYLIGHT
BEGIN:STANDARD
TZOFFSETFROM:-0700
TZOFFSETTO:-0800
TZNAME:PST
DTSTART:20231105T090000
END:STANDARD
BEGIN:DAYLIGHT
TZOFFSETFROM:-0800
TZOFFSETTO:-0700
TZNAME:PDT
DTSTART:20240310T100000
END:DAYLIGHT
BEGIN:STANDARD
TZOFFSETFROM:-0700
TZOFFSETTO:-0800
TZNAME:PST
DTSTART:20241103T090000
END:STANDARD
BEGIN:DAYLIGHT
TZOFFSETFROM:-0800
TZOFFSETTO:-0700
TZNAME:PDT
DTSTART:20250309T100000
END:DAYLIGHT
BEGIN:STANDARD
TZOFFSETFROM:-0700
TZOFFSETTO:-0800
TZNAME:PST
DTSTART:20251102T090000
END:STANDARD
END:VTIMEZONE
BEGIN:VEVENT
DTSTART;TZID=America/Los_Angeles:20241219T130000
DTEND;TZID=America/Los_Angeles:20241219T143000
DTSTAMP:20260425T113808
CREATED:20251210T231937Z
LAST-MODIFIED:20251210T231937Z
UID:10003846-1734613200-1734618600@bendoregon.gov
SUMMARY:Alternate Date: City of Bend Accessibility Advisory Committee Hybrid Meeting
DESCRIPTION:Hybrid Meeting Notice Alternate Date: \n \nThe City of Bend Accessibility Advisory Committee (COBAAC) will conduct its meetings\, virtually\, through Zoom and in person at City Hall in Council Chambers\, 710 NW Wall Street\, Bend\, Oregon 97703. Due to the holiday the Thursday\, December 19\, 2024\, alternate date. Or watch the YouTube livestream. \nThe COBAAC December agenda. \nPlease Note- Alternate Meeting Date Change: Due to the holiday\, the meeting date in on December 19th\, the third Thursday of the month\, instead of the fourth Thursday. \nTo Attend by Computer\, Pre-Register: You will receive an email confirmation with a personal link with information to connect via computer or phone. \n\nDial Toll-Free: 1-888-788-0099\nWebinar ID: 879 1909 4271\nPasscode\, if prompted: 262222 (COBAAC)\n\nCOBAAC December 11\, 2024\, regular hybrid meeting\, live at 1:00 p.m. \nTechnical Difficulties Connecting to this Meeting: Call 541-410-9341 \nPublic Comment Section – Phone Users & Pre-Registered Zoom Attendees\, Two Minute Limit: \nToggle *(Star) nine to raise/lower hand\, and *(Star) six to mute/unmute yourself. The host will enable the raise/lower hand and mute/unmute during the public comment sections only\, then disable this ability/function. For additional input for this meeting\, please email the Accessibility and Equity Manager at ckehoe@bendoregon.gov. \nFor additional information: Please contact the Accessibility and Equity Manager // COBAAC Staff Liaison\, Cassandra Kehoe (She\, Her)\, at ckehoe@bendoregon.gov or call 541-693-2141. \nAccessibility Meeting Notice Information\nThis meeting/event location is accessible. Sign language interpreter service\, assistive listening devices\, materials in alternate format such as Braille\, large print\, electronic formats\, or any other accommodations are available upon advance request. Please contact the Accessibility and Equity Program no later than two days before the meeting date at accessibility@bendoregon.gov or call 541-693-2141; Relay Users Dial 7-1-1. Providing\, at least\, 3 days’ notice prior to the event will help ensure availability. \nServicios de asistencia lingüística e información sobre alojamiento para personas con discapacidad\nPuede obtener esta información en formatos alternativos como Braille\, formato electrónico\, etc. También disponemos de servicios gratuitos de asistencia lingüística. Póngase en contacto con Gestor del proyecto o creador del documento Equity and Inclusion Director // HREC Staff Liaison\, Andrés Portela\, He/Him/El equity@bendoregon.gov en correo electrónico/em o número de teléfono 541-323-8563. Los usuarios del servicio de retransmisión deben marcar el 7-1-1.
URL:https://bendoregon.gov/event/alternate-date-city-of-bend-accessibility-advisory-committee-hybrid-meeting/
LOCATION:Council Chambers (City Hall)\, 710 NW Wall St\, Bend\, 97703\, United States
CATEGORIES:Accessibility Advisory Committee
END:VEVENT
BEGIN:VEVENT
DTSTART;TZID=America/Los_Angeles:20241219T150000
DTEND;TZID=America/Los_Angeles:20241219T163000
DTSTAMP:20260425T113808
CREATED:20251210T231937Z
LAST-MODIFIED:20251210T231937Z
UID:10003847-1734620400-1734625800@bendoregon.gov
SUMMARY:CANCELLED: CAAB Development Code Subcommittee Hybrid meeting-December 19\, 2024
DESCRIPTION:For more information on the Core Area Advisory Board\, check out the CAAB website\nNOTICE OF MEETING \nCAAB Development Code Subcommittee-December 19\, 2024 \nTHIS MEETING HAS BEEN CANCELLED.
URL:https://bendoregon.gov/event/cancelled-caab-development-code-subcommittee-hybrid-meeting-december-19-2024/
LOCATION:Council Chambers (City Hall)\, 710 NW Wall St\, Bend\, 97703\, United States
CATEGORIES:Core Area Advisory Board
END:VEVENT
END:VCALENDAR