BEGIN:VCALENDAR
VERSION:2.0
PRODID:-//City of Bend - ECPv6.15.20//NONSGML v1.0//EN
CALSCALE:GREGORIAN
METHOD:PUBLISH
X-ORIGINAL-URL:https://bendoregon.gov
X-WR-CALDESC:Events for City of Bend
REFRESH-INTERVAL;VALUE=DURATION:PT1H
X-Robots-Tag:noindex
X-PUBLISHED-TTL:PT1H
BEGIN:VTIMEZONE
TZID:America/Los_Angeles
BEGIN:DAYLIGHT
TZOFFSETFROM:-0800
TZOFFSETTO:-0700
TZNAME:PDT
DTSTART:20240310T100000
END:DAYLIGHT
BEGIN:STANDARD
TZOFFSETFROM:-0700
TZOFFSETTO:-0800
TZNAME:PST
DTSTART:20241103T090000
END:STANDARD
BEGIN:DAYLIGHT
TZOFFSETFROM:-0800
TZOFFSETTO:-0700
TZNAME:PDT
DTSTART:20250309T100000
END:DAYLIGHT
BEGIN:STANDARD
TZOFFSETFROM:-0700
TZOFFSETTO:-0800
TZNAME:PST
DTSTART:20251102T090000
END:STANDARD
BEGIN:DAYLIGHT
TZOFFSETFROM:-0800
TZOFFSETTO:-0700
TZNAME:PDT
DTSTART:20260308T100000
END:DAYLIGHT
BEGIN:STANDARD
TZOFFSETFROM:-0700
TZOFFSETTO:-0800
TZNAME:PST
DTSTART:20261101T090000
END:STANDARD
END:VTIMEZONE
BEGIN:VEVENT
DTSTART;TZID=America/Los_Angeles:20250114T163000
DTEND;TZID=America/Los_Angeles:20250114T183000
DTSTAMP:20260425T132221
CREATED:20251210T232007Z
LAST-MODIFIED:20251210T232007Z
UID:10003859-1736872200-1736879400@bendoregon.gov
SUMMARY:Advisory Body & Council Goals Summit
DESCRIPTION:The City Council and the Council appointed advisory bodies listed below will conduct a meeting virtually and in person at the Council on Aging\, located at 1036 NE 5th Street\, Bend Oregon\, on January 14\, 2025\, from 4:30 to 6:30 p.m. \n\nAffordable Housing Advisory Committee\nBend Economic Development Advisory Board\nCity of Bend Accessibility Advisory Committee\nCore Area Advisory Board\nEnvironment & Climate Committee\nHuman Rights & Equity Commission\nLandmarks Commission\nPlanning Commission\nTransportation Bond Oversight Committee\n\nMeeting Agenda \nThis meeting’s agenda is linked here and also available on the City Council Meeting Agendas and Minutes page (scroll down to the section titled Additional Meetings). \nNo public comment will be taken at this meeting. \nVirtual attendees have two options.  \n\nTo view the meeting on YouTube: Advisory Body & Council Goals Summit on YouTube \nTo view the meeting on Zoom: Register to receive the link\n\n To Attend by Phone (toll-charges may apply): \n\nCall-in Phone Number: 1-888-788-0099 or 1-253-215-8782\nWebinar ID: 845 8610 3525
URL:https://bendoregon.gov/event/advisory-body-council-goals-summit/
END:VEVENT
END:VCALENDAR