BEGIN:VCALENDAR
VERSION:2.0
PRODID:-//City of Bend - ECPv6.15.20//NONSGML v1.0//EN
CALSCALE:GREGORIAN
METHOD:PUBLISH
X-ORIGINAL-URL:https://bendoregon.gov
X-WR-CALDESC:Events for City of Bend
REFRESH-INTERVAL;VALUE=DURATION:PT1H
X-Robots-Tag:noindex
X-PUBLISHED-TTL:PT1H
BEGIN:VTIMEZONE
TZID:America/Los_Angeles
BEGIN:DAYLIGHT
TZOFFSETFROM:-0800
TZOFFSETTO:-0700
TZNAME:PDT
DTSTART:20240310T100000
END:DAYLIGHT
BEGIN:STANDARD
TZOFFSETFROM:-0700
TZOFFSETTO:-0800
TZNAME:PST
DTSTART:20241103T090000
END:STANDARD
BEGIN:DAYLIGHT
TZOFFSETFROM:-0800
TZOFFSETTO:-0700
TZNAME:PDT
DTSTART:20250309T100000
END:DAYLIGHT
BEGIN:STANDARD
TZOFFSETFROM:-0700
TZOFFSETTO:-0800
TZNAME:PST
DTSTART:20251102T090000
END:STANDARD
BEGIN:DAYLIGHT
TZOFFSETFROM:-0800
TZOFFSETTO:-0700
TZNAME:PDT
DTSTART:20260308T100000
END:DAYLIGHT
BEGIN:STANDARD
TZOFFSETFROM:-0700
TZOFFSETTO:-0800
TZNAME:PST
DTSTART:20261101T090000
END:STANDARD
END:VTIMEZONE
BEGIN:VEVENT
DTSTART;TZID=America/Los_Angeles:20250123T130000
DTEND;TZID=America/Los_Angeles:20250123T143000
DTSTAMP:20260425T132219
CREATED:20251210T232022Z
LAST-MODIFIED:20251210T232022Z
UID:10003864-1737637200-1737642600@bendoregon.gov
SUMMARY:City of Bend Accessibility Advisory Committee Hybrid Meeting
DESCRIPTION:Hybrid Meeting Notice:\nThe City of Bend Accessibility Advisory Committee (COBAAC) will conduct its hybrid meetings through Zoom and in person at City Hall\, in Council Chambers\, 710 NW Wall Street\, Bend\, OR; on Thursday\, January 23\, 2025\, from 1:00 to 2:30 p.m. \nThe COBAAC January 23\, 2025\, Agenda \nTo Attend by Computer\, Pre-Register: You will receive an email confirmation with a personal link with information on connecting via computer or phone. \nTo Attend by Phone (No Pre-Registration Required): \n\nDial Toll-Free: 1-888-788-0099\nWebinar ID: 856 3695 8593\nPasscode\, if prompted: 262222 (COBAAC)\n\nCOBAAC January 23\, 2025\, regular hybrid meeting live at 1:00 p.m. \nTechnical Difficulties Connecting to this meeting: Call 541-410-9341 \nWritten Public Comment and Zoom Attendee Users: \nPublic comments are limited to two minutes per person for four minutes. Please submit written comments 24 hours before the meetings\, or you can submit additional input about this meeting to the Accessibility and Equity Program at accessibility@bendoregon.gov. \nFor additional information: Please call the Accessibility and Equity Manager // COBAAC Staff Liaison\, Cassandra Kehoe\, She/Her/Ella at 541-693-2198 or email ckehoe@bendoregon.gov. \nLanguage Assistance Services & Accommodation Information for People with Disabilities\nYou can obtain this information in alternate formats such as Braille\, electronic format\, etc. Free language assistance services are also available. Please contact the Accessibility & Equity Manager\, Cassandra Kehoe\, She\, Her\, Ella\, at ckehoe@bendoregon.gov or 541-693-2141. Relay Users Dial 7-1-1. \n \nServicios de asistencia lingüística e información sobre alojamiento para personas con discapacidad\nPuede obtener esta información en formatos alternativos como Braille\, formato electrónico\, etc. También disponemos de servicios gratuitos de asistencia lingüística. Póngase en contacto con Gestor del proyecto o creador del documento en correo electrónico equity@bendoregon.gov o número de teléfono 541-323- 8563. Los usuarios del servicio de retransmisión deben marcar el 7-1-1. \n 
URL:https://bendoregon.gov/event/city-of-bend-accessibility-advisory-committee-hybrid-meeting-10/
LOCATION:Council Chambers (City Hall)\, 710 NW Wall St\, Bend\, 97703\, United States
CATEGORIES:Accessibility Advisory Committee
END:VEVENT
BEGIN:VEVENT
DTSTART;TZID=America/Los_Angeles:20250123T140000
DTEND;TZID=America/Los_Angeles:20250123T153000
DTSTAMP:20260425T132219
CREATED:20251210T232022Z
LAST-MODIFIED:20251210T232022Z
UID:10003865-1737640800-1737646200@bendoregon.gov
SUMMARY:Guide Your City's Path Forward Open House
DESCRIPTION:You’re Invited to Guide Your City’s Path Forward \nWith a new City Council taking office this January\, we are excited to host a series of community events to gather input on the most important issues in Bend that you would like your local government leaders to do something about! Your input will help City Council direct Bend’s path forward as they work to establish priorities for the next two years.  \nA few City Councilors will be present at this event to listen and answer questions; the event will also feature an activity to share what you want your local city leaders to focus on in the coming year and next. Your input will help us understand what matters most to you and ensure our city’s future aligns with the community’s needs and aspirations.  \nPlease come when you can and stay as long as you’d like! Note: Spanish interpretation will be available at all sessions (en todas las sesiones tendremos servicio de interpretación en Español). \nWe look forward to seeing you there and working together to create a better future for our community. For more information\, visit bendoregon.gov/guide-your-City. 
URL:https://bendoregon.gov/event/guide-your-citys-path-forward-open-house/
LOCATION:Larkspur Community Center – Classroom A\, 1600 SE Reed Market Rd\, Bend\, 97702\, United States
CATEGORIES:Council Goal Setting
END:VEVENT
BEGIN:VEVENT
DTSTART;TZID=America/Los_Angeles:20250123T150000
DTEND;TZID=America/Los_Angeles:20250123T170000
DTSTAMP:20260425T132219
CREATED:20251210T232037Z
LAST-MODIFIED:20251210T232037Z
UID:10003866-1737644400-1737651600@bendoregon.gov
SUMMARY:Core Area Advisory Hybrid Meeting
DESCRIPTION:For more information on the Core Area Advisory Board\, check out the CAAB website\nNOTICE OF MEETING \nCORE AREA ADVISORY BOARD HYBRID MEETING-February 2025 \n AGENDA \nMEETING NOTICEThe Core Area Advisory Board (CAAB) will conduct a meeting virtually through Zoom and in person in Council Chambers at 710 NW Wall Street\, Bend\, OR 97703 on Thursday\, February 20th from 3:00 to 5:00 p.m. \nFor Committee Members and City Staff: \nYou will receive a Zoom email confirmation with a personal link/information to connect via computer or phone. \nRegular Attendees-Zoom Link: https://bendoregon-gov.zoom.us/j/85453182609?pwd=DzuuzTuPnjHc8MGY5mTNjkbkUmsT15.1 \nTo Attend by Phone:  \n\nCall-in Phone Number: 669-444-4971\nWebinar ID: 854 5318 2609\nPasscode: 688211\n\nYouTube:  \nTechnical Difficulties Connecting to this Meeting: Call 541-410-9341. \nAccessible Meeting Information \nThis meeting/event location is accessible. Sign language interpreter service\, assistive listening devices\, materials in alternate format such as Braille\, large print\, electronic formats\, or any other accommodations are available upon advance request. Please contact Misty Driggers no later than 24 hours in advance at mdriggers@bendoregon.gov; Relay Users Dial 7-1-1. Providing at least 3 days’ notice prior to the event will help ensure availability.
URL:https://bendoregon.gov/event/core-area-advisory-hybrid-meeting/
LOCATION:Council Chambers (City Hall)\, 710 NW Wall St\, Bend\, 97703\, United States
CATEGORIES:Core Area Advisory Board
END:VEVENT
END:VCALENDAR