BEGIN:VCALENDAR
VERSION:2.0
PRODID:-//City of Bend - ECPv6.15.20//NONSGML v1.0//EN
CALSCALE:GREGORIAN
METHOD:PUBLISH
X-WR-CALNAME:City of Bend
X-ORIGINAL-URL:https://bendoregon.gov
X-WR-CALDESC:Events for City of Bend
REFRESH-INTERVAL;VALUE=DURATION:PT1H
X-Robots-Tag:noindex
X-PUBLISHED-TTL:PT1H
BEGIN:VTIMEZONE
TZID:America/Los_Angeles
BEGIN:DAYLIGHT
TZOFFSETFROM:-0800
TZOFFSETTO:-0700
TZNAME:PDT
DTSTART:20240310T100000
END:DAYLIGHT
BEGIN:STANDARD
TZOFFSETFROM:-0700
TZOFFSETTO:-0800
TZNAME:PST
DTSTART:20241103T090000
END:STANDARD
BEGIN:DAYLIGHT
TZOFFSETFROM:-0800
TZOFFSETTO:-0700
TZNAME:PDT
DTSTART:20250309T100000
END:DAYLIGHT
BEGIN:STANDARD
TZOFFSETFROM:-0700
TZOFFSETTO:-0800
TZNAME:PST
DTSTART:20251102T090000
END:STANDARD
BEGIN:DAYLIGHT
TZOFFSETFROM:-0800
TZOFFSETTO:-0700
TZNAME:PDT
DTSTART:20260308T100000
END:DAYLIGHT
BEGIN:STANDARD
TZOFFSETFROM:-0700
TZOFFSETTO:-0800
TZNAME:PST
DTSTART:20261101T090000
END:STANDARD
END:VTIMEZONE
BEGIN:VEVENT
DTSTART;TZID=America/Los_Angeles:20250124T120000
DTEND;TZID=America/Los_Angeles:20250124T133000
DTSTAMP:20260425T132013
CREATED:20251210T232037Z
LAST-MODIFIED:20251210T232037Z
UID:10003867-1737720000-1737725400@bendoregon.gov
SUMMARY:BMPO Policy Board Meeting
DESCRIPTION:This is a hybrid meeting. The agenda and Zoom link will be available on the BMPO Policy Board website prior to the meeting date. \nTo get email notification for these meetings\, submit a subscription request for Bend MPO Policy Board event notifications through the Subscribe page. \nQuestions? Contact the BMPO staff.\n  \nAccessible Meeting Information \nThis meeting event/location is accessible. Sign language interpreter service\, assistive listening devices\, materials in alternate format such as Braille\, large print\, electronic formats\, or any other accommodations are available upon advance request. Please contact Kelli Kennedy no later than 3 business days before the meeting date at kkennedy@bendoregon.gov or 541-693-2122; Relay Users Dial 7-1-1. Providing at least 3 days’ notice prior to the event will help ensure availability.
URL:https://bendoregon.gov/event/bmpo-policy-board-meeting-19/
LOCATION:ODOT Region 4\, Building M\, Baney Conference Rm.\, 63055 N. Highway 97\, Bend\, 97701\, United States
CATEGORIES:Bend MPO Policy Board
END:VEVENT
END:VCALENDAR