BEGIN:VCALENDAR
VERSION:2.0
PRODID:-//City of Bend - ECPv6.15.20//NONSGML v1.0//EN
CALSCALE:GREGORIAN
METHOD:PUBLISH
X-WR-CALNAME:City of Bend
X-ORIGINAL-URL:https://bendoregon.gov
X-WR-CALDESC:Events for City of Bend
REFRESH-INTERVAL;VALUE=DURATION:PT1H
X-Robots-Tag:noindex
X-PUBLISHED-TTL:PT1H
BEGIN:VTIMEZONE
TZID:America/Los_Angeles
BEGIN:DAYLIGHT
TZOFFSETFROM:-0800
TZOFFSETTO:-0700
TZNAME:PDT
DTSTART:20240310T100000
END:DAYLIGHT
BEGIN:STANDARD
TZOFFSETFROM:-0700
TZOFFSETTO:-0800
TZNAME:PST
DTSTART:20241103T090000
END:STANDARD
BEGIN:DAYLIGHT
TZOFFSETFROM:-0800
TZOFFSETTO:-0700
TZNAME:PDT
DTSTART:20250309T100000
END:DAYLIGHT
BEGIN:STANDARD
TZOFFSETFROM:-0700
TZOFFSETTO:-0800
TZNAME:PST
DTSTART:20251102T090000
END:STANDARD
BEGIN:DAYLIGHT
TZOFFSETFROM:-0800
TZOFFSETTO:-0700
TZNAME:PDT
DTSTART:20260308T100000
END:DAYLIGHT
BEGIN:STANDARD
TZOFFSETFROM:-0700
TZOFFSETTO:-0800
TZNAME:PST
DTSTART:20261101T090000
END:STANDARD
END:VTIMEZONE
BEGIN:VEVENT
DTSTART;TZID=America/Los_Angeles:20250125T090000
DTEND;TZID=America/Los_Angeles:20250125T103000
DTSTAMP:20260425T132012
CREATED:20251210T232037Z
LAST-MODIFIED:20251210T232037Z
UID:10003868-1737795600-1737801000@bendoregon.gov
SUMMARY:Guide Your City's Path Forward Open House
DESCRIPTION:You’re Invited to Guide Your City’s Path Forward \nWith a new City Council taking office this January\, we are excited to host a series of community events to gather input on the most important issues in Bend that you would like your local government leaders to do something about! Your input will help City Council direct Bend’s path forward as they work to establish priorities for the next two years.  \nA few City Councilors will be present at this event to listen and answer questions; the event will also feature an activity to share what you want your local city leaders to focus on in the coming year and next. Your input will help us understand what matters most to you and ensure our city’s future aligns with the community’s needs and aspirations.  \nNo formal presentations\, please come when you can and stay as long as you’d like! Note: Spanish interpretation will be available at all sessions (en todas las sesiones tendremos servicio de interpretación en Español). \nWe look forward to seeing you there and working together to create a better future for our community. For more information\, visit bendoregon.gov/guide-your-City.  \n \n\n \n \nUsted está invitado a guiar el camino de su Ciudad\n\nCon la entrada del nuevo Consejo Municipal en enero\, nos complace organizar una serie de eventos comunitarios para conocer su opinión sobre los asuntos más importantes de Bend que le gustaría que los líderes de su gobierno local trataran. Su opinión ayudará al Consejo de la Ciudad a dirigir el camino de Bend hacia adelante mientras trabajan para establecer las prioridades para los próximos dos años.  \nAlgunos concejales de la Ciudad estarán presentes en este evento para escuchar y responder preguntas; el evento también contará con una actividad para compartir lo que usted quiere que sus líderes locales de la Ciudad se centran en el próximo año y el siguiente. Sus aportaciones nos ayudarán a comprender qué es lo que más le importa y a garantizar que el futuro de nuestra ciudad se ajuste a las necesidades y aspiraciones de la comunidad. \nVenga cuando pueda y quédese todo el tiempo que quiera. Nota: En todas las sesiones habrá servicio de interpretación en español. \nEsperamos verle allí y trabajar juntos para crear un futuro mejor para nuestra comunidad. Para más información\, visite bendoregon.gov/guide-your-City.
URL:https://bendoregon.gov/event/guide-your-citys-path-forward-open-house-2/
LOCATION:Council on Aging\, 1036 NE 5th St\, Bend\, 97701\, United States
CATEGORIES:Council Goal Setting
END:VEVENT
END:VCALENDAR