BEGIN:VCALENDAR
VERSION:2.0
PRODID:-//City of Bend - ECPv6.15.20//NONSGML v1.0//EN
CALSCALE:GREGORIAN
METHOD:PUBLISH
X-WR-CALNAME:City of Bend
X-ORIGINAL-URL:https://bendoregon.gov
X-WR-CALDESC:Events for City of Bend
REFRESH-INTERVAL;VALUE=DURATION:PT1H
X-Robots-Tag:noindex
X-PUBLISHED-TTL:PT1H
BEGIN:VTIMEZONE
TZID:America/Los_Angeles
BEGIN:DAYLIGHT
TZOFFSETFROM:-0800
TZOFFSETTO:-0700
TZNAME:PDT
DTSTART:20240310T100000
END:DAYLIGHT
BEGIN:STANDARD
TZOFFSETFROM:-0700
TZOFFSETTO:-0800
TZNAME:PST
DTSTART:20241103T090000
END:STANDARD
BEGIN:DAYLIGHT
TZOFFSETFROM:-0800
TZOFFSETTO:-0700
TZNAME:PDT
DTSTART:20250309T100000
END:DAYLIGHT
BEGIN:STANDARD
TZOFFSETFROM:-0700
TZOFFSETTO:-0800
TZNAME:PST
DTSTART:20251102T090000
END:STANDARD
BEGIN:DAYLIGHT
TZOFFSETFROM:-0800
TZOFFSETTO:-0700
TZNAME:PDT
DTSTART:20260308T100000
END:DAYLIGHT
BEGIN:STANDARD
TZOFFSETFROM:-0700
TZOFFSETTO:-0800
TZNAME:PST
DTSTART:20261101T090000
END:STANDARD
END:VTIMEZONE
BEGIN:VEVENT
DTSTART;TZID=America/Los_Angeles:20250203T083000
DTEND;TZID=America/Los_Angeles:20250203T160000
DTSTAMP:20260425T162530
CREATED:20251210T232052Z
LAST-MODIFIED:20251210T232052Z
UID:10003872-1738571400-1738598400@bendoregon.gov
SUMMARY:City Council Goal Setting
DESCRIPTION:This meeting’s agenda is available under “Additional Meetings” on the City Council Meetings\, Agendas\, and Videos webpage. \n The Bend City Council will conduct a meeting virtually through Zoom and in person at OSU Cascades\, Obsidian Room 207\, 1500 SW Chandler Ave\, Bend\, OR 97702 over the course of two days\, on Monday\, February 3\, 2025\, from 8:30 a.m. to 4:00 p.m. and on Tuesday\, February 4\, 2025\, from 11:30 a.m. to 4:00 p.m. \nNo Public Comment will be taken at this meeting. \nVirtual attendance options:    \n\nTo view the meeting on YouTube:\n\nDay 1: February 3\, 2025\, Livestream link\n\nTo view the meeting on Zoom\, register to receive link: \n\nDay 1: February 3\, 2025\, Zoom registration link \n\nOr\, join by phone\, toll-charges may apply: 1-888-788-0099 or 1-253-215-8782\, Meeting ID: 835 0347 9381 \n\n\n\nTechnical Difficulties Connecting to this Meeting: Call 541-410-9341. \nFor additional information\, please contact Morgen Fry\, City Recorder\, at 541-617-4529 or by email at mfry@bendoregon.gov  \nAccessible Meeting Information  \nThis meeting location is accessible. Sign language interpreter service\, assistive listening devices\, materials in alternate formats such as Braille\, large print\, electronic formats\, or any other accommodations are available upon advance request. Please contact Morgen Fry\, City Recorder\, at 541-617-4529 or by email at mfry@bendoregon.gov at least 24 hours in advance; Relay Users Dial 7-1-1. Providing at least 3 days’ notice prior to the event will help ensure availability. 
URL:https://bendoregon.gov/event/city-council-goal-setting-2/
LOCATION:OSU Cascades – Obsidian Room 207\, 1500 SW Chandler Ave\, Bend\, 97702\, United States
CATEGORIES:Council Goal Setting
END:VEVENT
BEGIN:VEVENT
DTSTART;TZID=America/Los_Angeles:20250203T120000
DTEND;TZID=America/Los_Angeles:20250203T140000
DTSTAMP:20260425T162530
CREATED:20251210T232052Z
LAST-MODIFIED:20251210T232052Z
UID:10003873-1738584000-1738591200@bendoregon.gov
SUMMARY:Bend Economic Development Advisory Board (BEDAB)
DESCRIPTION:The Bend Economic Development Advisory Board (BEDAB) will conduct a hybrid meeting through Zoom and in person in the Council Chambers at 710 NW Wall Street\, Bend\, OR 97703 on Monday February 3\,2025\, from noon to 2:00 pm. \nRegular Attendees-Zoom Link \nTo Attend by Phone: \n\nCall-in Phone Number: 1-888-788-0099\nWebinar ID: 894 7978 3401#\nPasscode: 967957\n\nYouTube Link: Livestream the February BEDAB meeting \nAgenda \nTechnical Difficulties Connecting to this Meeting: Call 541-410-9341.
URL:https://bendoregon.gov/event/bend-economic-development-advisory-board-bedab-2/
LOCATION:Council Chambers (City Hall)\, 710 NW Wall St\, Bend\, 97703\, United States
CATEGORIES:Bend Economic Development Advisory Board
END:VEVENT
END:VCALENDAR