BEGIN:VCALENDAR
VERSION:2.0
PRODID:-//City of Bend - ECPv6.15.20//NONSGML v1.0//EN
CALSCALE:GREGORIAN
METHOD:PUBLISH
X-ORIGINAL-URL:https://bendoregon.gov
X-WR-CALDESC:Events for City of Bend
REFRESH-INTERVAL;VALUE=DURATION:PT1H
X-Robots-Tag:noindex
X-PUBLISHED-TTL:PT1H
BEGIN:VTIMEZONE
TZID:America/Los_Angeles
BEGIN:DAYLIGHT
TZOFFSETFROM:-0800
TZOFFSETTO:-0700
TZNAME:PDT
DTSTART:20240310T100000
END:DAYLIGHT
BEGIN:STANDARD
TZOFFSETFROM:-0700
TZOFFSETTO:-0800
TZNAME:PST
DTSTART:20241103T090000
END:STANDARD
BEGIN:DAYLIGHT
TZOFFSETFROM:-0800
TZOFFSETTO:-0700
TZNAME:PDT
DTSTART:20250309T100000
END:DAYLIGHT
BEGIN:STANDARD
TZOFFSETFROM:-0700
TZOFFSETTO:-0800
TZNAME:PST
DTSTART:20251102T090000
END:STANDARD
BEGIN:DAYLIGHT
TZOFFSETFROM:-0800
TZOFFSETTO:-0700
TZNAME:PDT
DTSTART:20260308T100000
END:DAYLIGHT
BEGIN:STANDARD
TZOFFSETFROM:-0700
TZOFFSETTO:-0800
TZNAME:PST
DTSTART:20261101T090000
END:STANDARD
END:VTIMEZONE
BEGIN:VEVENT
DTSTART;TZID=America/Los_Angeles:20250226T120000
DTEND;TZID=America/Los_Angeles:20250226T133000
DTSTAMP:20260425T162611
CREATED:20251210T232137Z
LAST-MODIFIED:20251210T232137Z
UID:10003890-1740571200-1740576600@bendoregon.gov
SUMMARY:Hearings Officer Public Hearing - Appeal of Middle Housing Land Division PLLD20240609
DESCRIPTION:Wednesday\, February 26\, 2025 \nThe hearing will be held virtually\, via Zoom (no in-person component)\, starting at 12:00 p.m. and ending promptly at 1:30 p.m.  \nThe public is invited to watch online via the YouTube link below: https://youtube.com/live/B1ABe_8TcQk?feature=share. This link can also be accessed via the City of Bend Hearings Officer webpage: https://www.bendoregon.gov/departments/community-development/online-permit-center/planning-historic/hearings-officer  \nFor attendees who are entitled to participate in the virtual hearing\, register by clicking the Zoom link below to receive a link to the meeting. You can also copy and paste the Zoom link into your browser. \nZoom Online Meeting Link: https://bendoregon-gov.zoom.us/webinar/register/WN_xK_9ro8hRH2czvfEGP_i2Q  \nCall-in Phone Number: 1-888-788-0099  \nWebinar ID: 829 7468 5355 \nPasscode:   457849 \n Hearings Officer Agenda 2.26.2025 \n 
URL:https://bendoregon.gov/event/hearings-officer-public-hearing-appeal-of-middle-housing-land-division-plld20240609/
CATEGORIES:Hearings Officer
END:VEVENT
BEGIN:VEVENT
DTSTART;TZID=America/Los_Angeles:20250226T163000
DTEND;TZID=America/Los_Angeles:20250226T183000
DTSTAMP:20260425T162611
CREATED:20251210T232152Z
LAST-MODIFIED:20251210T232152Z
UID:10003891-1740587400-1740594600@bendoregon.gov
SUMMARY:Human Rights and Equity Commission Regular Hybrid Meeting
DESCRIPTION:Notice of Hybrid Meeting:\n\nThe Human Rights and Equity Commission (HREC) conducts hybrid regular meetings in person in Council Chambers at City Hall\, 710 NW Wall Street\, and via Zoom. To join this meeting via Zoom\, attendees must pre-register to receive a personalized Zoom link. On the last Wednesday of the month\, February 26\, 2025\, from 4:30 to 6:30 PM\, you can watch the HREC hybrid meeting live at 4:30 p.m. \nTo Attend by Computer\, Pre-Register: You will receive an email confirmation with a personal link with information on how to connect via computer or phone. \nTo Attend by Phone (No Pre-Registration Required): \n\nDial Toll Free: 1-888-788-0099\nWebinar ID: 864 2212 0978\nPasscode\, if prompted: 4732 (HREC)\n\nHREC February 26\, 2025\, regular hybrid meeting\, live at 4:30 p.m. \nTechnical Difficulties Connecting to this Meeting: Call 541-410-9341. \nPublic Comment Section: \nPublic Comment during the Human Rights and Equity Commission is intended to be welcoming and inclusive toward all speakers at public meetings and to create an atmosphere of mutual care and respect. These meetings often provide an opportunity to provide public input and for community members to share thoughts and opinions with their elected leaders. However\, they are not a time to level personal attacks or threats\, disrupt the meeting\, use obscene\, vulgar\, or discriminatory language\, or discourage anyone from participating. While community members may disagree with each other or the City on issues and give critical feedback\, they are expected to do so respectfully\, under these rules. This advisory body will hear five public comments limited to 2 minutes each or 10 minutes total. If a speaker is over the allotted 2-minute time they will be asked to pause or be muted to advance the meeting. \nToggle *(Star) nine to raise/lower hand\, and *(Star) six to mute/unmute yourself. The host will enable the raise/lower hand and mute/unmute during the public comment sections only\, then disable this ability/function. \nFor additional information: Please contact the Equity & Inclusion Director // HREC Staff Liaison\, Andrés Portela He/Him/El at aportela@bendoregon.gov or call 541-693-2141. \nLanguage Assistance Services & Accommodation Information for People with Disabilities\nYou can obtain this information in alternate formats such as Braille\, electronic format\, etc. Free language assistance services are also available. Please contact the Equity & Inclusion Director\, Andrés Portela\, He\, Him\, El\, at equity@bendoregon.gov or 541-693-2141. Relay Users Dial 7-1-1. \nWe strive to host accessible\, inclusive events that enable all individuals to engage fully. Please submit reasonable accommodation requests 24-hours before the event date; providing at least a 3-day notice before the event date will help ensure our ability to secure the needs with the diversity in accommodation requests. \n \nServicios de asistencia lingüística e información sobre alojamiento para personas con discapacidad\n \nPuede obtener esta información en formatos alternativos como Braille\, formato electrónico\, etc. También disponemos de servicios gratuitos de asistencia lingüística. Póngase en contacto con Gestor del proyecto o creador del documento en correo electrónico equity@bendoregon.gov o número de teléfono 541-323- 8563. Los usuarios del servicio de retransmisión deben marcar el 7-1-1.
URL:https://bendoregon.gov/event/human-rights-and-equity-commission-regular-hybrid-meeting/
LOCATION:Council Chambers (City Hall)\, 710 NW Wall St\, Bend\, 97703\, United States
CATEGORIES:Human Rights & Equity Commission
END:VEVENT
END:VCALENDAR