BEGIN:VCALENDAR
VERSION:2.0
PRODID:-//City of Bend - ECPv6.15.20//NONSGML v1.0//EN
CALSCALE:GREGORIAN
METHOD:PUBLISH
X-WR-CALNAME:City of Bend
X-ORIGINAL-URL:https://bendoregon.gov
X-WR-CALDESC:Events for City of Bend
REFRESH-INTERVAL;VALUE=DURATION:PT1H
X-Robots-Tag:noindex
X-PUBLISHED-TTL:PT1H
BEGIN:VTIMEZONE
TZID:America/Los_Angeles
BEGIN:DAYLIGHT
TZOFFSETFROM:-0800
TZOFFSETTO:-0700
TZNAME:PDT
DTSTART:20240310T100000
END:DAYLIGHT
BEGIN:STANDARD
TZOFFSETFROM:-0700
TZOFFSETTO:-0800
TZNAME:PST
DTSTART:20241103T090000
END:STANDARD
BEGIN:DAYLIGHT
TZOFFSETFROM:-0800
TZOFFSETTO:-0700
TZNAME:PDT
DTSTART:20250309T100000
END:DAYLIGHT
BEGIN:STANDARD
TZOFFSETFROM:-0700
TZOFFSETTO:-0800
TZNAME:PST
DTSTART:20251102T090000
END:STANDARD
BEGIN:DAYLIGHT
TZOFFSETFROM:-0800
TZOFFSETTO:-0700
TZNAME:PDT
DTSTART:20260308T100000
END:DAYLIGHT
BEGIN:STANDARD
TZOFFSETFROM:-0700
TZOFFSETTO:-0800
TZNAME:PST
DTSTART:20261101T090000
END:STANDARD
END:VTIMEZONE
BEGIN:VEVENT
DTSTART;TZID=America/Los_Angeles:20250306T180000
DTEND;TZID=America/Los_Angeles:20250306T190000
DTSTAMP:20260425T210206
CREATED:20251210T232207Z
LAST-MODIFIED:20251210T232207Z
UID:10003898-1741284000-1741287600@bendoregon.gov
SUMMARY:Green Gardens Group Workshop - Landscape Myth Busters
DESCRIPTION:Join us for a ZOOM Webinar (60 minutes) on Thursday\, March 6\, 2025\, for a free “Landscape Myth Busters\,” webinar hosted by City of Bend. \nWith so much information available\, it can sometimes be difficult to distinguish fact from fiction. Join us to learn about common landscape misconceptions: \n\nWhat plants really need to thrive\nHow to save money and time working with natural systems\nSometimes\, it’s not as simple as they say it is\nNot all irrigation is created equal\n\nThe class is free\, but advance registration is required. Please make sure to sign up below. \nClick here to register. \n Please join us at our other events on: \n\nDrip Irrigation 101: 6-7 p.m. March 11\nGarden Design Workshop: 9-10:30 a.m. March 15\n\nVisit WaterWiseTips.org to learn more about water conservation.
URL:https://bendoregon.gov/event/green-gardens-group-workshop-landscape-myth-busters/
CATEGORIES:Water Conservation
END:VEVENT
END:VCALENDAR