BEGIN:VCALENDAR
VERSION:2.0
PRODID:-//City of Bend - ECPv6.15.20//NONSGML v1.0//EN
CALSCALE:GREGORIAN
METHOD:PUBLISH
X-ORIGINAL-URL:https://bendoregon.gov
X-WR-CALDESC:Events for City of Bend
REFRESH-INTERVAL;VALUE=DURATION:PT1H
X-Robots-Tag:noindex
X-PUBLISHED-TTL:PT1H
BEGIN:VTIMEZONE
TZID:America/Los_Angeles
BEGIN:DAYLIGHT
TZOFFSETFROM:-0800
TZOFFSETTO:-0700
TZNAME:PDT
DTSTART:20240310T100000
END:DAYLIGHT
BEGIN:STANDARD
TZOFFSETFROM:-0700
TZOFFSETTO:-0800
TZNAME:PST
DTSTART:20241103T090000
END:STANDARD
BEGIN:DAYLIGHT
TZOFFSETFROM:-0800
TZOFFSETTO:-0700
TZNAME:PDT
DTSTART:20250309T100000
END:DAYLIGHT
BEGIN:STANDARD
TZOFFSETFROM:-0700
TZOFFSETTO:-0800
TZNAME:PST
DTSTART:20251102T090000
END:STANDARD
BEGIN:DAYLIGHT
TZOFFSETFROM:-0800
TZOFFSETTO:-0700
TZNAME:PDT
DTSTART:20260308T100000
END:DAYLIGHT
BEGIN:STANDARD
TZOFFSETFROM:-0700
TZOFFSETTO:-0800
TZNAME:PST
DTSTART:20261101T090000
END:STANDARD
END:VTIMEZONE
BEGIN:VEVENT
DTSTART;TZID=America/Los_Angeles:20250317T120000
DTEND;TZID=America/Los_Angeles:20250317T133000
DTSTAMP:20260425T192904
CREATED:20251210T232237Z
LAST-MODIFIED:20251210T232237Z
UID:10003906-1742212800-1742218200@bendoregon.gov
SUMMARY:Bend Economic Development Advisory Board (BEDAB) - Additional Meeting
DESCRIPTION:The Bend Economic Development Advisory Board (BEDAB) will conduct a hybrid meeting on the topic of the Transportation Fee through Zoom and in person in the Council Chambers at 710 NW Wall Street\, Bend\, OR 97703 on Monday\, March 17\, 2025\, from 12:00 p.m. to 1:30 pm. \nAgenda \nTo attend via Zoom\, Preregister \nTo Attend by Phone: \n\n\nCall-in Phone Number: 1-888-788-0099\nWebinar ID: # 895 6720 3395\nPasscode: 417644\n\n\nYouTube Link: Livestream the March 17 BEDAB Meeting \nTechnical Difficulties Connecting to this Meeting: Call 541-410-9341.
URL:https://bendoregon.gov/event/bend-economic-development-advisory-board-bedab-additional-meeting/
LOCATION:Council Chambers (City Hall)\, 710 NW Wall St\, Bend\, 97703\, United States
END:VEVENT
END:VCALENDAR