BEGIN:VCALENDAR
VERSION:2.0
PRODID:-//City of Bend - ECPv6.15.20//NONSGML v1.0//EN
CALSCALE:GREGORIAN
METHOD:PUBLISH
X-WR-CALNAME:City of Bend
X-ORIGINAL-URL:https://bendoregon.gov
X-WR-CALDESC:Events for City of Bend
REFRESH-INTERVAL;VALUE=DURATION:PT1H
X-Robots-Tag:noindex
X-PUBLISHED-TTL:PT1H
BEGIN:VTIMEZONE
TZID:America/Los_Angeles
BEGIN:DAYLIGHT
TZOFFSETFROM:-0800
TZOFFSETTO:-0700
TZNAME:PDT
DTSTART:20240310T100000
END:DAYLIGHT
BEGIN:STANDARD
TZOFFSETFROM:-0700
TZOFFSETTO:-0800
TZNAME:PST
DTSTART:20241103T090000
END:STANDARD
BEGIN:DAYLIGHT
TZOFFSETFROM:-0800
TZOFFSETTO:-0700
TZNAME:PDT
DTSTART:20250309T100000
END:DAYLIGHT
BEGIN:STANDARD
TZOFFSETFROM:-0700
TZOFFSETTO:-0800
TZNAME:PST
DTSTART:20251102T090000
END:STANDARD
BEGIN:DAYLIGHT
TZOFFSETFROM:-0800
TZOFFSETTO:-0700
TZNAME:PDT
DTSTART:20260308T100000
END:DAYLIGHT
BEGIN:STANDARD
TZOFFSETFROM:-0700
TZOFFSETTO:-0800
TZNAME:PST
DTSTART:20261101T090000
END:STANDARD
END:VTIMEZONE
BEGIN:VEVENT
DTSTART;TZID=America/Los_Angeles:20250326T123000
DTEND;TZID=America/Los_Angeles:20250326T140000
DTSTAMP:20260425T175436
CREATED:20251210T232252Z
LAST-MODIFIED:20251210T232252Z
UID:10003912-1742992200-1742997600@bendoregon.gov
SUMMARY:BMPO Budget Committee Meeting
DESCRIPTION:This is a hybrid meeting. The agenda and Zoom link will be available on the BMPO Work Program & Budget webpage prior to the meeting date. \nTo get email notification for these meetings\, submit a subscription request for Bend MPO news notifications through the Subscribe page. \nQuestions? Contact the BMPO staff.\n  \nAccessible Meeting InformationThis meeting location is accessible. Sign language interpreter service\, assistive listening devices\, materials in alternate formats such as Braille\, large print\, electronic formats\, or any other accommodations are available upon advance request. Please contact Kelli Kennedy no later than 24 hours in advance at kkennedy@bendoregon.gov or call 541-693-2122; Relay Users Dial 7-1-1. Providing at least 3 days’ notice prior to the event will help ensure availability. \nInformación sobre accesibilidad en reunionesHay accesibilidad disponible en esta reunión. Si se solicita con antelación\, se puede disponer de servicio de intérprete de lengua de señas\, dispositivos de ayuda auditiva\, materiales en formatos alternativos como Braille\, letra grande\, formatos electrónicos o cualquier otro tipo de adaptación. Comuníquese con Kelli Kennedy a más tardar con 24 horas de antelación al kkennedy@bendoregon.gov o llame al 541-693-2122; los usuarios del servicio de retransmisión deben marcar el 7-1-1. Si avisa al menos 3 días antes\, se asegurará la disponibilidad. \n 
URL:https://bendoregon.gov/event/bmpo-budget-committee-meeting-3/
LOCATION:Boardroom (City Hall)\, 710 NW Wall St\, Bend\, 97703\, United States
CATEGORIES:Bend MPO Policy Board
END:VEVENT
BEGIN:VEVENT
DTSTART;TZID=America/Los_Angeles:20250326T163000
DTEND;TZID=America/Los_Angeles:20250326T183000
DTSTAMP:20260425T175436
CREATED:20251210T232252Z
LAST-MODIFIED:20251210T232252Z
UID:10003913-1743006600-1743013800@bendoregon.gov
SUMMARY:Human Rights and Equity Commission Regular Hybrid Meeting
DESCRIPTION:Hybrid Meeting Notice:\nThe Human Rights and Equity Commission (HREC) will conduct its March 26\, 2025\, hybrid meeting through Zoom and in person at City Hall\, in Council Chambers\, 710 NW Wall Street\, Bend\, OR\, from 4:30 to 6:30 p.m. \nTo Attend by Computer\, Pre-Register: You will receive an email confirmation with a personal link with information on connecting via computer or phone. \nTo Attend by Phone (No Pre-Registration Required) \n\nDial Till Free: 1-888-788-0099\nWebinar ID: 891 1517 6080\nPasscode\, if prompted: 4732 (HREC)\n\nThe HREC March 26\, 2025\, regular hybrid meeting is live at 4:30 p.m. \nTechnical Difficulties Connecting to this meeting: Call 541-410-9341. \nWritten Public Comment: Please submit written comments 24 hours before the meetings to the Equity and Inclusion Department at equity@bendoregon.gov. \nFor additional information\, please email the Equity and Inclusion Director // HREC Staff Liaison\, Andrés Portela\, He/Him/El\, at aportela@bendoregon.gov or call 541-323-8563. \nLanguage Assistance Services & Accommodation Information for People with Disabilities\nYou can obtain this information in alternate formats such as Braille\, electronic format\, etc. Free language assistance services are also available. Please contact the Equity & Inclusion Director\, Andrés Portela\, He\, Him\, El\, at equity@bendoregon.gov or 541-693-2141. Relay Users Dial 7-1-1. \nServicios de asistencia lingüística e información sobre alojamiento para personas con discapacidad\nPuede obtener esta información en formatos alternativos como Braille\, formato electrónico\, etc. También disponemos de servicios gratuitos de asistencia lingüística. Póngase en contacto con Gestor del proyecto o creador del documento en correo electrónico equity@bendoregon.gov o número de teléfono 541-323- 8563. Los usuarios del servicio de retransmisión deben marcar el 7-1-1.
URL:https://bendoregon.gov/event/human-rights-and-equity-commission-regular-hybrid-meeting-2/
LOCATION:Council Chambers (City Hall)\, 710 NW Wall St\, Bend\, 97703\, United States
CATEGORIES:Human Rights & Equity Commission
END:VEVENT
END:VCALENDAR