BEGIN:VCALENDAR
VERSION:2.0
PRODID:-//City of Bend - ECPv6.15.20//NONSGML v1.0//EN
CALSCALE:GREGORIAN
METHOD:PUBLISH
X-ORIGINAL-URL:https://bendoregon.gov
X-WR-CALDESC:Events for City of Bend
REFRESH-INTERVAL;VALUE=DURATION:PT1H
X-Robots-Tag:noindex
X-PUBLISHED-TTL:PT1H
BEGIN:VTIMEZONE
TZID:America/Los_Angeles
BEGIN:DAYLIGHT
TZOFFSETFROM:-0800
TZOFFSETTO:-0700
TZNAME:PDT
DTSTART:20240310T100000
END:DAYLIGHT
BEGIN:STANDARD
TZOFFSETFROM:-0700
TZOFFSETTO:-0800
TZNAME:PST
DTSTART:20241103T090000
END:STANDARD
BEGIN:DAYLIGHT
TZOFFSETFROM:-0800
TZOFFSETTO:-0700
TZNAME:PDT
DTSTART:20250309T100000
END:DAYLIGHT
BEGIN:STANDARD
TZOFFSETFROM:-0700
TZOFFSETTO:-0800
TZNAME:PST
DTSTART:20251102T090000
END:STANDARD
BEGIN:DAYLIGHT
TZOFFSETFROM:-0800
TZOFFSETTO:-0700
TZNAME:PDT
DTSTART:20260308T100000
END:DAYLIGHT
BEGIN:STANDARD
TZOFFSETFROM:-0700
TZOFFSETTO:-0800
TZNAME:PST
DTSTART:20261101T090000
END:STANDARD
END:VTIMEZONE
BEGIN:VEVENT
DTSTART;TZID=America/Los_Angeles:20250327T130000
DTEND;TZID=America/Los_Angeles:20250327T143000
DTSTAMP:20260425T175504
CREATED:20251210T232252Z
LAST-MODIFIED:20251210T232252Z
UID:10003914-1743080400-1743085800@bendoregon.gov
SUMMARY:City of Bend Accessibility Advisory Committee Hybrid Meeting
DESCRIPTION:The information and links below will be uploaded closer to the meeting date.\nHybrid Meeting Notice:\nThe City of Bend Accessibility Advisory Committee (COBAAC) will conduct its hybrid meetings through Zoom and in person at City Hall\, in Council Chambers\, 710 NW Wall Street\, Bend\, OR; on Thursday\, March 27\, 2025\, from 1:00 to 2:30 p.m. \nTo Attend by Computer\, Pre-Register: You will receive an email confirmation with a personal link with information to connect via computer or phone. \n\nDial Toll-Free: 1-888-788-0099\nWebinar ID: 848 2362 4210\nPasscode\, if prompted: 262222 (COBAAC)\n\nThe COBAAC March\, regular hybrid meeting\, live at 1:00 p.m. \nTechnical Difficulties Connecting to this meeting: Call 541-410-9341 \nWritten Public Comment and Zoom Attendee Users: \nPublic comments are limited to two minutes per person for four minutes. Please submit written comments 24 hours before the meetings\, or you can submit additional input about this meeting to the Accessibility and Equity Program at accessibility@bendoregon.gov. \nFor additional information: Please call the Accessibility and Equity Manager // COBAAC Staff Liaison\, Cassandra Kehoe\, She/Her/Ella at 541-693-2198 or email ckehoe@bendoregon.gov. \nAccessible Meeting Information\nThis meeting/event location is accessible. Sign language interpreter service\, assistive listening devices\, materials in alternate formats such as Braille\, large print\, electronic formats\, or any other accommodations are available upon advance request. Please contact the Accessibility and Equity Program 24 hours in advance of meeting at accessibility@bendoregon.gov or call 541-693-2198; Relay Users Dial 7-1-1. Providing\, at least\, 3 days’ notice prior to the event will help ensure availability. \nPara solicitar copias en español de los documentas en esta página web o en un formato alternativo como Braille\, letra grande\, formatos electrónicos\, etc.: \nPor favor contacte al Director de Equidad e Inclusión\, Andrés Portela aportela@bendoregon.gov o llame al 541-323-8563. Los usuarios de retransmisión marquen el 7-1-1. \n 
URL:https://bendoregon.gov/event/city-of-bend-accessibility-advisory-committee-hybrid-meeting-11/
LOCATION:Council Chambers (City Hall)\, 710 NW Wall St\, Bend\, 97703\, United States
CATEGORIES:Accessibility Advisory Committee
END:VEVENT
END:VCALENDAR