BEGIN:VCALENDAR
VERSION:2.0
PRODID:-//City of Bend - ECPv6.15.20//NONSGML v1.0//EN
CALSCALE:GREGORIAN
METHOD:PUBLISH
X-WR-CALNAME:City of Bend
X-ORIGINAL-URL:https://bendoregon.gov
X-WR-CALDESC:Events for City of Bend
REFRESH-INTERVAL;VALUE=DURATION:PT1H
X-Robots-Tag:noindex
X-PUBLISHED-TTL:PT1H
BEGIN:VTIMEZONE
TZID:America/Los_Angeles
BEGIN:DAYLIGHT
TZOFFSETFROM:-0800
TZOFFSETTO:-0700
TZNAME:PDT
DTSTART:20240310T100000
END:DAYLIGHT
BEGIN:STANDARD
TZOFFSETFROM:-0700
TZOFFSETTO:-0800
TZNAME:PST
DTSTART:20241103T090000
END:STANDARD
BEGIN:DAYLIGHT
TZOFFSETFROM:-0800
TZOFFSETTO:-0700
TZNAME:PDT
DTSTART:20250309T100000
END:DAYLIGHT
BEGIN:STANDARD
TZOFFSETFROM:-0700
TZOFFSETTO:-0800
TZNAME:PST
DTSTART:20251102T090000
END:STANDARD
BEGIN:DAYLIGHT
TZOFFSETFROM:-0800
TZOFFSETTO:-0700
TZNAME:PDT
DTSTART:20260308T100000
END:DAYLIGHT
BEGIN:STANDARD
TZOFFSETFROM:-0700
TZOFFSETTO:-0800
TZNAME:PST
DTSTART:20261101T090000
END:STANDARD
END:VTIMEZONE
BEGIN:VEVENT
DTSTART;TZID=America/Los_Angeles:20250423T093000
DTEND;TZID=America/Los_Angeles:20250423T110000
DTSTAMP:20260425T210214
CREATED:20251210T232352Z
LAST-MODIFIED:20251210T232352Z
UID:10003934-1745400600-1745406000@bendoregon.gov
SUMMARY:Community Building Subcommittee
DESCRIPTION:
URL:https://bendoregon.gov/event/community-building-subcommittee-10/
LOCATION:Council Chambers (City Hall)\, 710 NW Wall St\, Bend\, 97703\, United States
END:VEVENT
BEGIN:VEVENT
DTSTART;TZID=America/Los_Angeles:20250423T120000
DTEND;TZID=America/Los_Angeles:20250423T133000
DTSTAMP:20260425T210214
CREATED:20251210T232352Z
LAST-MODIFIED:20251210T232352Z
UID:10003935-1745409600-1745415000@bendoregon.gov
SUMMARY:Bend City Council & Warm Springs Tribal Council Joint Meeting
DESCRIPTION:The Bend City Council and Confederated Tribes of Warm Springs Tribal Council will hold a joint meeting on April 23\, from 12 p.m. – 1:30 p.m. in Council Chambers (City Hall\, 710 NW Wall St\, Bend) and online. \nTo attend via Zoom\, Preregister. \nTo Attend by Phone: \n\nCall-in Phone Number: 1-888-788-0099\nWebinar ID: 841 3632 2606\nPasscode: 819624\n\nLivestream link \nMeeting Agenda
URL:https://bendoregon.gov/event/bend-city-council-warm-springs-tribal-council-joint-meeting/
LOCATION:Council Chambers (City Hall)\, 710 NW Wall St\, Bend\, 97703\, United States
END:VEVENT
END:VCALENDAR