BEGIN:VCALENDAR
VERSION:2.0
PRODID:-//City of Bend - ECPv6.15.20//NONSGML v1.0//EN
CALSCALE:GREGORIAN
METHOD:PUBLISH
X-ORIGINAL-URL:https://bendoregon.gov
X-WR-CALDESC:Events for City of Bend
REFRESH-INTERVAL;VALUE=DURATION:PT1H
X-Robots-Tag:noindex
X-PUBLISHED-TTL:PT1H
BEGIN:VTIMEZONE
TZID:America/Los_Angeles
BEGIN:DAYLIGHT
TZOFFSETFROM:-0800
TZOFFSETTO:-0700
TZNAME:PDT
DTSTART:20240310T100000
END:DAYLIGHT
BEGIN:STANDARD
TZOFFSETFROM:-0700
TZOFFSETTO:-0800
TZNAME:PST
DTSTART:20241103T090000
END:STANDARD
BEGIN:DAYLIGHT
TZOFFSETFROM:-0800
TZOFFSETTO:-0700
TZNAME:PDT
DTSTART:20250309T100000
END:DAYLIGHT
BEGIN:STANDARD
TZOFFSETFROM:-0700
TZOFFSETTO:-0800
TZNAME:PST
DTSTART:20251102T090000
END:STANDARD
BEGIN:DAYLIGHT
TZOFFSETFROM:-0800
TZOFFSETTO:-0700
TZNAME:PDT
DTSTART:20260308T100000
END:DAYLIGHT
BEGIN:STANDARD
TZOFFSETFROM:-0700
TZOFFSETTO:-0800
TZNAME:PST
DTSTART:20261101T090000
END:STANDARD
END:VTIMEZONE
BEGIN:VEVENT
DTSTART;TZID=America/Los_Angeles:20250428T143000
DTEND;TZID=America/Los_Angeles:20250428T170000
DTSTAMP:20260425T210242
CREATED:20251210T232407Z
LAST-MODIFIED:20251210T232407Z
UID:10003938-1745850600-1745859600@bendoregon.gov
SUMMARY:Joint Meeting of Bend City Council & Deschutes County Board of Commissioners
DESCRIPTION:The Bend City Council & Deschutes County Board of Commissioners will hold a joint meeting on April 28\, from 2:30 p.m. – 4:40 p.m. in Council Chambers (City Hall\, 710 NW Wall St\, Bend) and online. \nTo attend via Zoom\, Preregister. \nTo Attend by Phone: \n\nCall-in Phone Number: 1-888-788-0099\nWebinar ID: 841 3131 9175\nPasscode: 730324\n\nLivestream link \nMeeting Agenda
URL:https://bendoregon.gov/event/joint-meeting-of-bend-city-council-deschutes-county-board-of-commissioners/
LOCATION:Council Chambers (City Hall)\, 710 NW Wall St\, Bend\, 97703\, United States
END:VEVENT
BEGIN:VEVENT
DTSTART;TZID=America/Los_Angeles:20250428T173000
DTEND;TZID=America/Los_Angeles:20250428T235900
DTSTAMP:20260425T210242
CREATED:20251210T232407Z
LAST-MODIFIED:20251210T232407Z
UID:10003939-1745861400-1745884740@bendoregon.gov
SUMMARY:Planning Commission
DESCRIPTION:The meeting convenes at 5:30PM on a hybrid\, in-person and virtual Zoom platform. \nJoin the meeting using the following options: \nIn-person location: City Hall\, Council Chambers\, 710 NW Wall Street\, Bend\, OR 97703 \nRegister via Zoom Online Meeting Link:   \nhttps://bendoregon-gov.zoom.us/webinar/register/WN_haVGFeFGSmu82HdDYvr6VA  \nYou can also copy and paste the Zoom link into your browser. \nCall in Phone Number:1- 888-788-0099 \nWebinar ID: 868 8725 0391 \nPasscode: 656295 \nThe public is invited to watch on-line at: https://youtube.com/live/gLtqi8_5zaw?feature=share \nPlease click to view the meeting agenda: Planning Commission Agenda 4.28.25
URL:https://bendoregon.gov/event/planning-commission-145/
LOCATION:Council Chambers (City Hall)\, 710 NW Wall St\, Bend\, 97703\, United States
CATEGORIES:Planning Commission
END:VEVENT
END:VCALENDAR