BEGIN:VCALENDAR
VERSION:2.0
PRODID:-//City of Bend - ECPv6.15.20//NONSGML v1.0//EN
CALSCALE:GREGORIAN
METHOD:PUBLISH
X-WR-CALNAME:City of Bend
X-ORIGINAL-URL:https://bendoregon.gov
X-WR-CALDESC:Events for City of Bend
REFRESH-INTERVAL;VALUE=DURATION:PT1H
X-Robots-Tag:noindex
X-PUBLISHED-TTL:PT1H
BEGIN:VTIMEZONE
TZID:America/Los_Angeles
BEGIN:DAYLIGHT
TZOFFSETFROM:-0800
TZOFFSETTO:-0700
TZNAME:PDT
DTSTART:20240310T100000
END:DAYLIGHT
BEGIN:STANDARD
TZOFFSETFROM:-0700
TZOFFSETTO:-0800
TZNAME:PST
DTSTART:20241103T090000
END:STANDARD
BEGIN:DAYLIGHT
TZOFFSETFROM:-0800
TZOFFSETTO:-0700
TZNAME:PDT
DTSTART:20250309T100000
END:DAYLIGHT
BEGIN:STANDARD
TZOFFSETFROM:-0700
TZOFFSETTO:-0800
TZNAME:PST
DTSTART:20251102T090000
END:STANDARD
BEGIN:DAYLIGHT
TZOFFSETFROM:-0800
TZOFFSETTO:-0700
TZNAME:PDT
DTSTART:20260308T100000
END:DAYLIGHT
BEGIN:STANDARD
TZOFFSETFROM:-0700
TZOFFSETTO:-0800
TZNAME:PST
DTSTART:20261101T090000
END:STANDARD
END:VTIMEZONE
BEGIN:VEVENT
DTSTART;TZID=America/Los_Angeles:20250501T000000
DTEND;TZID=America/Los_Angeles:20250501T235900
DTSTAMP:20260425T210209
CREATED:20251210T232422Z
LAST-MODIFIED:20260113T012815Z
UID:10003942-1746057600-1746143940@bendoregon.gov
SUMMARY:2025 Camp Fire Axe Applications Close
DESCRIPTION:Bend Fire & Rescue Invites High School Students to Apply for 2025 Camp Fire Axe \nBend Fire & Rescue invites Central Oregon high school students considering a career in the fire service to apply for Camp Fire Axe\, an annual 4-day summer academy put on by professional firefighter/paramedics.  \nCamp Fire Axe is an opportunity for students ages 16 to 19 to learn about fire response\, CPR\, trauma and first aid in a real academy setting. This year’s academy will take place June 19  – 22 from 6:30 a.m. to 5:30 p.m. each day at the Bend Fire & Rescue North Station (63377 NE Jamison Street\, Bend). Attendance is limited to 12 students with a $250 fee per person. Scholarships are available.  \nApplications are accepted on a first come\, first served basis through May 1\, and can be found at bendoregon.gov/camp-fire-axe.  \nQuestions? Reach out to campfireaxe@bendoregon.gov 
URL:https://bendoregon.gov/event/2025-camp-fire-axe-applications-close/
CATEGORIES:Fire & Rescue Events & Community Training
END:VEVENT
END:VCALENDAR