BEGIN:VCALENDAR
VERSION:2.0
PRODID:-//City of Bend - ECPv6.15.20//NONSGML v1.0//EN
CALSCALE:GREGORIAN
METHOD:PUBLISH
X-ORIGINAL-URL:https://bendoregon.gov
X-WR-CALDESC:Events for City of Bend
REFRESH-INTERVAL;VALUE=DURATION:PT1H
X-Robots-Tag:noindex
X-PUBLISHED-TTL:PT1H
BEGIN:VTIMEZONE
TZID:America/Los_Angeles
BEGIN:DAYLIGHT
TZOFFSETFROM:-0800
TZOFFSETTO:-0700
TZNAME:PDT
DTSTART:20240310T100000
END:DAYLIGHT
BEGIN:STANDARD
TZOFFSETFROM:-0700
TZOFFSETTO:-0800
TZNAME:PST
DTSTART:20241103T090000
END:STANDARD
BEGIN:DAYLIGHT
TZOFFSETFROM:-0800
TZOFFSETTO:-0700
TZNAME:PDT
DTSTART:20250309T100000
END:DAYLIGHT
BEGIN:STANDARD
TZOFFSETFROM:-0700
TZOFFSETTO:-0800
TZNAME:PST
DTSTART:20251102T090000
END:STANDARD
BEGIN:DAYLIGHT
TZOFFSETFROM:-0800
TZOFFSETTO:-0700
TZNAME:PDT
DTSTART:20260308T100000
END:DAYLIGHT
BEGIN:STANDARD
TZOFFSETFROM:-0700
TZOFFSETTO:-0800
TZNAME:PST
DTSTART:20261101T090000
END:STANDARD
END:VTIMEZONE
BEGIN:VEVENT
DTSTART;TZID=America/Los_Angeles:20250526T000000
DTEND;TZID=America/Los_Angeles:20250526T235900
DTSTAMP:20260425T162729
CREATED:20251210T232507Z
LAST-MODIFIED:20251210T232507Z
UID:10003960-1748217600-1748303940@bendoregon.gov
SUMMARY:Memorial Day - All City Offices Closed
DESCRIPTION:
URL:https://bendoregon.gov/event/memorial-day-all-city-offices-closed-2/
END:VEVENT
BEGIN:VEVENT
DTSTART;TZID=America/Los_Angeles:20250526T173000
DTEND;TZID=America/Los_Angeles:20250526T235900
DTSTAMP:20260425T162729
CREATED:20251210T232522Z
LAST-MODIFIED:20251210T232522Z
UID:10003961-1748280600-1748303940@bendoregon.gov
SUMMARY:CANCELLED: Planning Commission
DESCRIPTION:The 5/26/25 Planning Commission meeting has been cancelled due to Memorial Day. Please visit Planning Commission | City of Bend for upcoming events. 
URL:https://bendoregon.gov/event/cancelled-planning-commission-8/
LOCATION:Council Chambers (City Hall)\, 710 NW Wall St\, Bend\, 97703\, United States
CATEGORIES:Planning Commission
END:VEVENT
END:VCALENDAR