BEGIN:VCALENDAR
VERSION:2.0
PRODID:-//City of Bend - ECPv6.15.20//NONSGML v1.0//EN
CALSCALE:GREGORIAN
METHOD:PUBLISH
X-WR-CALNAME:City of Bend
X-ORIGINAL-URL:https://bendoregon.gov
X-WR-CALDESC:Events for City of Bend
REFRESH-INTERVAL;VALUE=DURATION:PT1H
X-Robots-Tag:noindex
X-PUBLISHED-TTL:PT1H
BEGIN:VTIMEZONE
TZID:America/Los_Angeles
BEGIN:DAYLIGHT
TZOFFSETFROM:-0800
TZOFFSETTO:-0700
TZNAME:PDT
DTSTART:20240310T100000
END:DAYLIGHT
BEGIN:STANDARD
TZOFFSETFROM:-0700
TZOFFSETTO:-0800
TZNAME:PST
DTSTART:20241103T090000
END:STANDARD
BEGIN:DAYLIGHT
TZOFFSETFROM:-0800
TZOFFSETTO:-0700
TZNAME:PDT
DTSTART:20250309T100000
END:DAYLIGHT
BEGIN:STANDARD
TZOFFSETFROM:-0700
TZOFFSETTO:-0800
TZNAME:PST
DTSTART:20251102T090000
END:STANDARD
BEGIN:DAYLIGHT
TZOFFSETFROM:-0800
TZOFFSETTO:-0700
TZNAME:PDT
DTSTART:20260308T100000
END:DAYLIGHT
BEGIN:STANDARD
TZOFFSETFROM:-0700
TZOFFSETTO:-0800
TZNAME:PST
DTSTART:20261101T090000
END:STANDARD
END:VTIMEZONE
BEGIN:VEVENT
DTSTART;TZID=America/Los_Angeles:20250619T000000
DTEND;TZID=America/Los_Angeles:20250619T235900
DTSTAMP:20260425T162533
CREATED:20251210T232552Z
LAST-MODIFIED:20251210T232552Z
UID:10003975-1750291200-1750377540@bendoregon.gov
SUMMARY:Juneteenth Holiday - All City Offices Closed
DESCRIPTION:
URL:https://bendoregon.gov/event/juneteenth-holiday-all-city-offices-closed-3/
END:VEVENT
BEGIN:VEVENT
DTSTART;TZID=America/Los_Angeles:20250619T063000
DTEND;TZID=America/Los_Angeles:20250622T173000
DTSTAMP:20260425T162533
CREATED:20251210T232607Z
LAST-MODIFIED:20260113T012839Z
UID:10003976-1750314600-1750613400@bendoregon.gov
SUMMARY:2025 Camp Fire Axe
DESCRIPTION:
URL:https://bendoregon.gov/event/2025-camp-fire-axe/
LOCATION:Bend Fire North Station (305)\, 63377 Jamison St\, Bend\, 97703\, United States
CATEGORIES:Fire & Rescue Events & Community Training
END:VEVENT
END:VCALENDAR