BEGIN:VCALENDAR
VERSION:2.0
PRODID:-//City of Bend - ECPv6.15.20//NONSGML v1.0//EN
CALSCALE:GREGORIAN
METHOD:PUBLISH
X-WR-CALNAME:City of Bend
X-ORIGINAL-URL:https://bendoregon.gov
X-WR-CALDESC:Events for City of Bend
REFRESH-INTERVAL;VALUE=DURATION:PT1H
X-Robots-Tag:noindex
X-PUBLISHED-TTL:PT1H
BEGIN:VTIMEZONE
TZID:America/Los_Angeles
BEGIN:DAYLIGHT
TZOFFSETFROM:-0800
TZOFFSETTO:-0700
TZNAME:PDT
DTSTART:20240310T100000
END:DAYLIGHT
BEGIN:STANDARD
TZOFFSETFROM:-0700
TZOFFSETTO:-0800
TZNAME:PST
DTSTART:20241103T090000
END:STANDARD
BEGIN:DAYLIGHT
TZOFFSETFROM:-0800
TZOFFSETTO:-0700
TZNAME:PDT
DTSTART:20250309T100000
END:DAYLIGHT
BEGIN:STANDARD
TZOFFSETFROM:-0700
TZOFFSETTO:-0800
TZNAME:PST
DTSTART:20251102T090000
END:STANDARD
BEGIN:DAYLIGHT
TZOFFSETFROM:-0800
TZOFFSETTO:-0700
TZNAME:PDT
DTSTART:20260308T100000
END:DAYLIGHT
BEGIN:STANDARD
TZOFFSETFROM:-0700
TZOFFSETTO:-0800
TZNAME:PST
DTSTART:20261101T090000
END:STANDARD
END:VTIMEZONE
BEGIN:VEVENT
DTSTART;TZID=America/Los_Angeles:20250626T130000
DTEND;TZID=America/Los_Angeles:20250626T143000
DTSTAMP:20260425T162531
CREATED:20251210T232622Z
LAST-MODIFIED:20251210T232622Z
UID:10003982-1750942800-1750948200@bendoregon.gov
SUMMARY:City of Bend Accessibility Advisory Committee Hybrid Meeting
DESCRIPTION:Hybrid Meeting Notice:\nThe City of Bend Accessibility Advisory Committee (COBAAC) will conduct its hybrid meetings through Zoom and in person at City Hall\, in Council Chambers\, 710 NW Wall Street\, Bend\, OR; on Thursday\, June 26\, 2025\, from 1:00 to 2:30 p.m. \nTo Attend by Computer\, Pre-Register: You will receive an email confirmation with a personal link with information to connect via computer or phone. \n\nDial Toll-Free: 1-888-788-0099\nWebinar ID: 811 8765 4785\nPasscode\, if prompted: 262222 (COBAAC)\n\nCOBAAC June 26\, 2025\, regular hybrid meeting\, live at 1:00 p.m. \nTechnical Difficulties Connecting to this meeting: Call 541-410-9341 \nWritten Public Comment and Zoom Attendee Users: \nPublic comments are limited to two minutes per person for four minutes. Please submit written comments 24 hours before the meetings\, or you can submit additional input about this meeting to the Accessibility and Equity Program at accessibility@bendoregon.gov. \nFor additional information: Please call the Accessibility and Equity Manager // COBAAC Staff Liaison\, Cassandra Kehoe\, She/Her/Ella at 541-693-2198 or email ckehoe@bendoregon.gov. \nLanguage Assistance Services & Accommodation Information for People with Disabilities:\nYou can obtain this information in alternate formats such as Braille\, electronic format\, etc. Free language assistance services are also available.  Please contact the Accessibility and Equity Program 24 hours in advance of meeting at accessibility@bendoregon.gov or call 541-693-2198; Relay Users Dial 7-1-1. Providing\, at least\, 3 days’ notice prior to the event will help ensure availability. \nServicios de asistencia lingüística e información sobre alojamiento para personas con discapacidad: \nPuede obtener esta información en formatos alternativos como Braille\, formato electrónico\, etc. También disponemos de servicios gratuitos de asistencia lingüística. Póngase en contacto con Gestor del proyecto o creador del documento en equity@bendoregon.gov o número de teléfono 541-323-8563. Los usuarios del servicio de retransmisión deben marcar el 7-1-1.
URL:https://bendoregon.gov/event/city-of-bend-accessibility-advisory-committee-hybrid-meeting-14/
LOCATION:Council Chambers (City Hall)\, 710 NW Wall St\, Bend\, 97703\, United States
CATEGORIES:Accessibility Advisory Committee
END:VEVENT
BEGIN:VEVENT
DTSTART;TZID=America/Los_Angeles:20250626T150000
DTEND;TZID=America/Los_Angeles:20250626T170000
DTSTAMP:20260425T162531
CREATED:20251210T232622Z
LAST-MODIFIED:20251210T232622Z
UID:10003983-1750950000-1750957200@bendoregon.gov
SUMMARY:Core Area Advisory Board Hybrid Meeting - June 2025
DESCRIPTION:For more information on the Core Area Advisory Board\, check out the CAAB website\nAgenda \nMEETING NOTICE \nThe Core Area Advisory Board (CAAB) will conduct a meeting virtually through Zoom and in person in Council Chambers at 710 NW Wall Street\, Bend\, OR 97703 on Thursday\, July 17\, 2025\, from 3:00 to 5:00 p.m. \nFor Committee Members and City Staff: \nYou will receive a Zoom email confirmation with a personal link/information to connect via computer or phone. \nRegular Attendees-Zoom Link: https://bendoregon-gov.zoom.us/j/88498823270?pwd=b7PBBLTI6nqfhPsWrWe9WhSGlqXdtQ.1 \n \nTo Attend by Phone: \n\nCall-in Phone Number: 1-669-900-9128\nWebinar ID: 884 9882 3270\nPasscode: 265331\n\nYouTube: https://youtube.com/live/qE4cSZm2Gtk?feature=share \nTechnical Difficulties Connecting to this Meeting: Call 541-410-9341. \nAccessible Meeting Information \nThis meeting/event location is accessible. Sign language interpreter service\, assistive listening devices\, materials in alternate format such as Braille\, large print\, electronic formats\, or any other accommodations are available upon advance request. Please contact Misty Driggers no later than 24 hours in advance at mdriggers@bendoregon.gov or call 541-388-5505; Relay Users Dial 7-1-1. Providing at least 3 days’ notice prior to the event will help ensure availability.
URL:https://bendoregon.gov/event/core-area-advisory-board-hybrid-meeting-june-2025/
LOCATION:Council Chambers (City Hall)\, 710 NW Wall St\, Bend\, 97703\, United States
CATEGORIES:Core Area Advisory Board
END:VEVENT
END:VCALENDAR