BEGIN:VCALENDAR
VERSION:2.0
PRODID:-//City of Bend - ECPv6.15.20//NONSGML v1.0//EN
CALSCALE:GREGORIAN
METHOD:PUBLISH
X-ORIGINAL-URL:https://bendoregon.gov
X-WR-CALDESC:Events for City of Bend
REFRESH-INTERVAL;VALUE=DURATION:PT1H
X-Robots-Tag:noindex
X-PUBLISHED-TTL:PT1H
BEGIN:VTIMEZONE
TZID:America/Los_Angeles
BEGIN:DAYLIGHT
TZOFFSETFROM:-0800
TZOFFSETTO:-0700
TZNAME:PDT
DTSTART:20240310T100000
END:DAYLIGHT
BEGIN:STANDARD
TZOFFSETFROM:-0700
TZOFFSETTO:-0800
TZNAME:PST
DTSTART:20241103T090000
END:STANDARD
BEGIN:DAYLIGHT
TZOFFSETFROM:-0800
TZOFFSETTO:-0700
TZNAME:PDT
DTSTART:20250309T100000
END:DAYLIGHT
BEGIN:STANDARD
TZOFFSETFROM:-0700
TZOFFSETTO:-0800
TZNAME:PST
DTSTART:20251102T090000
END:STANDARD
BEGIN:DAYLIGHT
TZOFFSETFROM:-0800
TZOFFSETTO:-0700
TZNAME:PDT
DTSTART:20260308T100000
END:DAYLIGHT
BEGIN:STANDARD
TZOFFSETFROM:-0700
TZOFFSETTO:-0800
TZNAME:PST
DTSTART:20261101T090000
END:STANDARD
END:VTIMEZONE
BEGIN:VEVENT
DTSTART;TZID=America/Los_Angeles:20250811T113000
DTEND;TZID=America/Los_Angeles:20250811T133000
DTSTAMP:20260425T084130
CREATED:20251210T232722Z
LAST-MODIFIED:20251210T232722Z
UID:10004003-1754911800-1754919000@bendoregon.gov
SUMMARY:Community Building Subcommittee
DESCRIPTION:
URL:https://bendoregon.gov/event/community-building-subcommittee-12/
LOCATION:Council Chambers (City Hall)\, 710 NW Wall St\, Bend\, 97703\, United States
END:VEVENT
BEGIN:VEVENT
DTSTART;TZID=America/Los_Angeles:20250811T173000
DTEND;TZID=America/Los_Angeles:20250811T235900
DTSTAMP:20260425T084130
CREATED:20251210T232722Z
LAST-MODIFIED:20251210T232722Z
UID:10004004-1754933400-1754956740@bendoregon.gov
SUMMARY:Planning Commission
DESCRIPTION:The meeting convenes at 5:30PM on a hybrid\, in-person and virtual Zoom platform. \nJoin the meeting using the following options: \nIn-person location: City Hall\, Council Chambers\, 710 NW Wall Street\, Bend\, OR 97703 \nRegister via Zoom Online Meeting Link:  https://bendoregon-gov.zoom.us/webinar/register/WN_df_p4BVtSqerkabNtLQhPw \nYou can also copy and paste the Zoom link into your browser. \nCall in Phone Number:1- 888-788-0099 \nWebinar ID: 880 1531 5560 \nPasscode: 097821 \nThe public is invited to watch on-line at: YouTube link https://youtube.com/live/weZnyF5X2E0?feature=share \nPlease click to view the meeting agenda: 8/11/25 Agenda
URL:https://bendoregon.gov/event/planning-commission-148/
LOCATION:Council Chambers (City Hall)\, 710 NW Wall St\, Bend\, 97703\, United States
CATEGORIES:Planning Commission
END:VEVENT
END:VCALENDAR