BEGIN:VCALENDAR
VERSION:2.0
PRODID:-//City of Bend - ECPv6.15.20//NONSGML v1.0//EN
CALSCALE:GREGORIAN
METHOD:PUBLISH
X-ORIGINAL-URL:https://bendoregon.gov
X-WR-CALDESC:Events for City of Bend
REFRESH-INTERVAL;VALUE=DURATION:PT1H
X-Robots-Tag:noindex
X-PUBLISHED-TTL:PT1H
BEGIN:VTIMEZONE
TZID:America/Los_Angeles
BEGIN:DAYLIGHT
TZOFFSETFROM:-0800
TZOFFSETTO:-0700
TZNAME:PDT
DTSTART:20240310T100000
END:DAYLIGHT
BEGIN:STANDARD
TZOFFSETFROM:-0700
TZOFFSETTO:-0800
TZNAME:PST
DTSTART:20241103T090000
END:STANDARD
BEGIN:DAYLIGHT
TZOFFSETFROM:-0800
TZOFFSETTO:-0700
TZNAME:PDT
DTSTART:20250309T100000
END:DAYLIGHT
BEGIN:STANDARD
TZOFFSETFROM:-0700
TZOFFSETTO:-0800
TZNAME:PST
DTSTART:20251102T090000
END:STANDARD
BEGIN:DAYLIGHT
TZOFFSETFROM:-0800
TZOFFSETTO:-0700
TZNAME:PDT
DTSTART:20260308T100000
END:DAYLIGHT
BEGIN:STANDARD
TZOFFSETFROM:-0700
TZOFFSETTO:-0800
TZNAME:PST
DTSTART:20261101T090000
END:STANDARD
END:VTIMEZONE
BEGIN:VEVENT
DTSTART;TZID=America/Los_Angeles:20250903T173000
DTEND;TZID=America/Los_Angeles:20250903T183000
DTSTAMP:20260425T034802
CREATED:20251210T232822Z
LAST-MODIFIED:20260113T012433Z
UID:10004021-1756920600-1756924200@bendoregon.gov
SUMMARY:Community CPR Training
DESCRIPTION:Our hands on CPR course is a free\, non-certified course that teaches our community hands on CPR life saving techniques. This class is for workplaces\, schools and anybody in our community who wants to learn this critical lifesaving skill. The class will cover what to anticipate from 911 dispatch during the emergency\, how to properly and effectively perform CPR\, and what to expect when first responders arrive to help. \nLearn to be a lifesaver! \nHand only CPR class is offered the first Wednesday of each month from 5:30 p.m. – 6:30 p.m. \nBe sure to register as the class is limited to 20 participants. \nPlease register using the form below or call 541-322-6300 \nThis is not a certification class. Certifications in CPR can be obtained through the American Red Cross.  \nGroups\, workplaces and schools can schedule individual classes. Please call 541-322-6300 or email bfrcommunitytraining@bendoregon.gov to schedule. 
URL:https://bendoregon.gov/event/community-cpr-training-38/
LOCATION:Fire Training Center\, 63377 NE Jamison St.\, Bend\, 97701\, United States
CATEGORIES:Fire & Rescue Events & Community Training
END:VEVENT
BEGIN:VEVENT
DTSTART;TZID=America/Los_Angeles:20250903T180000
DTEND;TZID=America/Los_Angeles:20250903T210000
DTSTAMP:20260425T034802
CREATED:20251210T232822Z
LAST-MODIFIED:20251210T232822Z
UID:10004022-1756922400-1756933200@bendoregon.gov
SUMMARY:City Council Business Meeting
DESCRIPTION:
URL:https://bendoregon.gov/event/city-council-business-meeting/
LOCATION:Council Chambers (City Hall)\, 710 NW Wall St\, Bend\, 97703\, United States
CATEGORIES:City Council
END:VEVENT
BEGIN:VEVENT
DTSTART;TZID=America/Los_Angeles:20250903T183000
DTEND;TZID=America/Los_Angeles:20250903T193000
DTSTAMP:20260425T034802
CREATED:20251210T232822Z
LAST-MODIFIED:20260113T012433Z
UID:10004023-1756924200-1756927800@bendoregon.gov
SUMMARY:Stop the Bleed Training
DESCRIPTION:This is a free one-hour class designed to teach our community what to do to stop severe uncontrolled bleeding. This class will teach why severe uncontrolled bleeding is dangerous\, how to recognize it\, and more importantly how to control the bleeding quickly and effectively.  \nStop the Bleed class is offered the first Wednesday of each month from 6:30 p.m. – 8 p.m. \nBe sure to register as the class is limited to 20 participants. \nUse the form below to register or call 541-322-6300. \nGroups\, workplaces and schools can schedule individual classes. Please call 541-322-6300 or email bfrcommunitytraining@bendoregon.gov to schedule. 
URL:https://bendoregon.gov/event/stop-the-bleed-training-38/
LOCATION:Fire Training Center\, 63377 NE Jamison St.\, Bend\, 97701\, United States
CATEGORIES:Fire & Rescue Events & Community Training
END:VEVENT
END:VCALENDAR