BEGIN:VCALENDAR
VERSION:2.0
PRODID:-//City of Bend - ECPv6.15.20//NONSGML v1.0//EN
CALSCALE:GREGORIAN
METHOD:PUBLISH
X-WR-CALNAME:City of Bend
X-ORIGINAL-URL:https://bendoregon.gov
X-WR-CALDESC:Events for City of Bend
REFRESH-INTERVAL;VALUE=DURATION:PT1H
X-Robots-Tag:noindex
X-PUBLISHED-TTL:PT1H
BEGIN:VTIMEZONE
TZID:America/Los_Angeles
BEGIN:DAYLIGHT
TZOFFSETFROM:-0800
TZOFFSETTO:-0700
TZNAME:PDT
DTSTART:20240310T100000
END:DAYLIGHT
BEGIN:STANDARD
TZOFFSETFROM:-0700
TZOFFSETTO:-0800
TZNAME:PST
DTSTART:20241103T090000
END:STANDARD
BEGIN:DAYLIGHT
TZOFFSETFROM:-0800
TZOFFSETTO:-0700
TZNAME:PDT
DTSTART:20250309T100000
END:DAYLIGHT
BEGIN:STANDARD
TZOFFSETFROM:-0700
TZOFFSETTO:-0800
TZNAME:PST
DTSTART:20251102T090000
END:STANDARD
BEGIN:DAYLIGHT
TZOFFSETFROM:-0800
TZOFFSETTO:-0700
TZNAME:PDT
DTSTART:20260308T100000
END:DAYLIGHT
BEGIN:STANDARD
TZOFFSETFROM:-0700
TZOFFSETTO:-0800
TZNAME:PST
DTSTART:20261101T090000
END:STANDARD
END:VTIMEZONE
BEGIN:VEVENT
DTSTART;TZID=America/Los_Angeles:20251218T163000
DTEND;TZID=America/Los_Angeles:20251218T183000
DTSTAMP:20260424T144149
CREATED:20251215T193727Z
LAST-MODIFIED:20251215T193727Z
UID:10004116-1766075400-1766082600@bendoregon.gov
SUMMARY:Alt-Date\, Day & Venue: Human Rights and Equity Commission Hybrid Meeting
DESCRIPTION:Hybrid Meeting Notice Alternate Meeting Date\, day and Venue – December 18\, 2025:\nThe HREC December agenda. \nThe Human Rights and Equity Commission (HREC) will conduct its hybrid meetings via Zoom and in person\, in the Boardroom\, 710 NW Wall Street\, on an alternate date\, day and month\, on Thursday\, December 18\, 2025\, in the Boardroom\, from 4:30 to TBA pm. Virtual attendees must pre-register to receive a personalized Zoom link to join this meeting. \nTo Attend by Computer\, Pre-Register: \nYou will receive an email confirmation with a personalized link informing you how to connect via computer or phone. \nTo Attend by Phone (No Pre-Registration Required): \n\nDial Toll Free: 1-888-788-0099:\nWebinar ID: 826 7253 9861\nPasscode\, if prompted: 4732 (HREC)\n\nThe HREC December livestream starts at 4:30 pm. \nFor more information about this meeting: Contact Communications Manager\, and HREC Staff Liaison\, Kathi Barguil at hrec@bendoregon.gov or call 541-323-5992 \nComment Section Information: \nPublic Comment during the Human Rights and Equity Commission is intended to be welcoming and inclusive toward all speakers at public meetings and to create an atmosphere of mutual care and respect. These meetings often offer an opportunity to provide public input and for community members to share thoughts and opinions with their leaders. However\, they are not a time to level personal attacks or threats\, disrupt the meeting\, use obscene\, vulgar\, or discriminatory language\, or discourage anyone else from participating. While community members may disagree with each other or the City on issues and give critical feedback\, they are expected to do so respectfully\, in accordance with these rules. This advisory body will hear five public comments for 2 minutes for 10 minutes. If a speaker exceeds the allotted time\, they will be asked to pause or be muted to advance the meeting. \nLanguage Assistance Services & Accommodation Information for People with Disabilities\nYou can obtain this information in alternate formats such as Braille\, electronic format\, etc. Free language assistance services are also available. Please email us at hrec@bendoregon.gov or call 541-323-5992. Relay Users Dial 7-1 1. Contacting us with your accommodation 48 to 72 hours in advance will help us procure your request\, subject to vendor processing times. \nServicios de asistencia lingüística e información sobre alojamiento para personas con discapacidad\nPuede obtener esta información en formatos alternativos como Braille\, formato electrónico\, etc. También disponemos de servicios gratuitos de asistencia lingüística. Póngase en contacto con Gestor del proyecto o creador del documento Kati Barguil\, HREC Staff Liaison en correo electrónico hrec@bendoregon.gov o número de teléfono 541-323-5992. Los usuarios del servicio de retransmisión deben marcar el 7-1-1. \n 
URL:https://bendoregon.gov/event/alt-date-day-venue-human-rights-and-equity-commission-hybrid-meeting/
LOCATION:Boardroom (City Hall)\, 710 NW Wall St\, Bend\, 97703\, United States
CATEGORIES:Human Rights & Equity Commission
END:VEVENT
END:VCALENDAR