BEGIN:VCALENDAR
VERSION:2.0
PRODID:-//City of Bend - ECPv6.15.20//NONSGML v1.0//EN
CALSCALE:GREGORIAN
METHOD:PUBLISH
X-WR-CALNAME:City of Bend
X-ORIGINAL-URL:https://bendoregon.gov
X-WR-CALDESC:Events for City of Bend
REFRESH-INTERVAL;VALUE=DURATION:PT1H
X-Robots-Tag:noindex
X-PUBLISHED-TTL:PT1H
BEGIN:VTIMEZONE
TZID:America/Los_Angeles
BEGIN:DAYLIGHT
TZOFFSETFROM:-0800
TZOFFSETTO:-0700
TZNAME:PDT
DTSTART:20250309T100000
END:DAYLIGHT
BEGIN:STANDARD
TZOFFSETFROM:-0700
TZOFFSETTO:-0800
TZNAME:PST
DTSTART:20251102T090000
END:STANDARD
BEGIN:DAYLIGHT
TZOFFSETFROM:-0800
TZOFFSETTO:-0700
TZNAME:PDT
DTSTART:20260308T100000
END:DAYLIGHT
BEGIN:STANDARD
TZOFFSETFROM:-0700
TZOFFSETTO:-0800
TZNAME:PST
DTSTART:20261101T090000
END:STANDARD
BEGIN:DAYLIGHT
TZOFFSETFROM:-0800
TZOFFSETTO:-0700
TZNAME:PDT
DTSTART:20270314T100000
END:DAYLIGHT
BEGIN:STANDARD
TZOFFSETFROM:-0700
TZOFFSETTO:-0800
TZNAME:PST
DTSTART:20271107T090000
END:STANDARD
END:VTIMEZONE
BEGIN:VEVENT
DTSTART;TZID=America/Los_Angeles:20260115T150000
DTEND;TZID=America/Los_Angeles:20260115T170000
DTSTAMP:20260424T124502
CREATED:20251215T193742Z
LAST-MODIFIED:20260114T181542Z
UID:10004122-1768489200-1768496400@bendoregon.gov
SUMMARY:Core Area Advisory Board Hybrid Meeting - January 2026
DESCRIPTION:For more information on the Core Area Advisory Board\, check out the CAAB website\nMEETING NOTICE \nThe Core Area Advisory Board (CAAB) will conduct a meeting virtually through Zoom and in person in Council Chambers at 710 NW Wall Street\, Bend\, OR 97703 on Thursday\, January 15\, 2026\, from 3:00 to 5:00 p.m. \nFor Committee Members and City Staff: \nYou will receive a Zoom email confirmation with a personal link/information to connect via computer or phone. \nThose attending remote – CAAB January Zoom Link \nTo Attend by Phone: \n\nCall-in Phone Number: 1-888-788-0099\nWebinar ID: 839 8983 6448\nPasscode: 452858\n\nCAAB January Livestream link \nAccessible Meeting Information \nThis meeting/event location is accessible. Sign language interpreter service\, assistive listening devices\, materials in alternate format such as Braille\, large print\, electronic formats\, or any other accommodations are available upon advance request. Please contact Misty Driggers no later than 24 hours in advance at jtaylor@bendoregon.gov or call 541-388-5505; Relay Users Dial 7-1-1. Providing at least 3 days’ notice prior to the event will help ensure availability.
URL:https://bendoregon.gov/event/core-area-advisory-board-hybrid-meeting-january-2026/
LOCATION:Council Chambers (City Hall)\, 710 NW Wall St\, Bend\, 97703\, United States
CATEGORIES:Core Area Advisory Board
END:VEVENT
END:VCALENDAR