BEGIN:VCALENDAR
VERSION:2.0
PRODID:-//City of Bend - ECPv6.15.20//NONSGML v1.0//EN
CALSCALE:GREGORIAN
METHOD:PUBLISH
X-WR-CALNAME:City of Bend
X-ORIGINAL-URL:https://bendoregon.gov
X-WR-CALDESC:Events for City of Bend
REFRESH-INTERVAL;VALUE=DURATION:PT1H
X-Robots-Tag:noindex
X-PUBLISHED-TTL:PT1H
BEGIN:VTIMEZONE
TZID:America/Los_Angeles
BEGIN:DAYLIGHT
TZOFFSETFROM:-0800
TZOFFSETTO:-0700
TZNAME:PDT
DTSTART:20250309T100000
END:DAYLIGHT
BEGIN:STANDARD
TZOFFSETFROM:-0700
TZOFFSETTO:-0800
TZNAME:PST
DTSTART:20251102T090000
END:STANDARD
BEGIN:DAYLIGHT
TZOFFSETFROM:-0800
TZOFFSETTO:-0700
TZNAME:PDT
DTSTART:20260308T100000
END:DAYLIGHT
BEGIN:STANDARD
TZOFFSETFROM:-0700
TZOFFSETTO:-0800
TZNAME:PST
DTSTART:20261101T090000
END:STANDARD
BEGIN:DAYLIGHT
TZOFFSETFROM:-0800
TZOFFSETTO:-0700
TZNAME:PDT
DTSTART:20270314T100000
END:DAYLIGHT
BEGIN:STANDARD
TZOFFSETFROM:-0700
TZOFFSETTO:-0800
TZNAME:PST
DTSTART:20271107T090000
END:STANDARD
END:VTIMEZONE
BEGIN:VEVENT
DTSTART;TZID=America/Los_Angeles:20260123T100000
DTEND;TZID=America/Los_Angeles:20260123T113000
DTSTAMP:20260424T124302
CREATED:20260107T211404Z
LAST-MODIFIED:20260107T213251Z
UID:10004344-1769162400-1769167800@bendoregon.gov
SUMMARY:Bend Transportation Safety Action Plan Project Advisory Committee Meeting
DESCRIPTION:This is a hybrid meeting. The agenda and Zoom link will be available on the BMPO Technical Advisory Committee (TAC) website prior to the meeting date. The Bend Transportation Safety Action Plan (TSAP) Project Advisory Committee (PAC) membership includes the BMPO TAC and additional members representing local jurisdictions and agencies. Bend TSAP PAC meeting agendas will focus on the Bend TSAP Update that is in progress. \nTo get email notification for these meetings\, submit a subscription request for Bend MPO Technical Advisory Committee event notifications through the Subscribe page. \nQuestions? Contact the BMPO staff. \nAccessible Meeting Information\nThis meeting location is accessible. Sign language interpreter service\, assistive listening devices\, materials in alternate formats such as Braille\, large print\, electronic formats\, or any other accommodations are available upon advance request. Please contact Kelli Kennedy no later than 24 hours in advance at kkennedy@bendoregon.gov or call 541-693-2122; Relay Users Dial 7-1-1. Providing at least 3 days’ notice prior to the event will help ensure availability. \nInformación sobre accesibilidad en reuniones\nHay accesibilidad disponible en esta reunión. Si se solicita con antelación\, se puede disponer de servicio de intérprete de lengua de señas\, dispositivos de ayuda auditiva\, materiales en formatos alternativos como Braille\, letra grande\, formatos electrónicos o cualquier otro tipo de adaptación. Comuníquese con Kelli Kennedy a más tardar con 24 horas de antelación al kkennedy@bendoregon.gov o llame al 541-693-2122; los usuarios del servicio de retransmisión deben marcar el 7-1-1. Si avisa al menos 3 días antes\, se asegurará la disponibilidad.
URL:https://bendoregon.gov/event/bend-transportation-safety-action-plan-project-advisory-committee-meeting/
LOCATION:Bend City Hall Boardroom\, 710 NW Wall Street\, United States
CATEGORIES:Bend MPO Technical Advisory Committee
END:VEVENT
END:VCALENDAR