BEGIN:VCALENDAR
VERSION:2.0
PRODID:-//City of Bend - ECPv6.15.20//NONSGML v1.0//EN
CALSCALE:GREGORIAN
METHOD:PUBLISH
X-ORIGINAL-URL:https://bendoregon.gov
X-WR-CALDESC:Events for City of Bend
REFRESH-INTERVAL;VALUE=DURATION:PT1H
X-Robots-Tag:noindex
X-PUBLISHED-TTL:PT1H
BEGIN:VTIMEZONE
TZID:America/Los_Angeles
BEGIN:DAYLIGHT
TZOFFSETFROM:-0800
TZOFFSETTO:-0700
TZNAME:PDT
DTSTART:20250309T100000
END:DAYLIGHT
BEGIN:STANDARD
TZOFFSETFROM:-0700
TZOFFSETTO:-0800
TZNAME:PST
DTSTART:20251102T090000
END:STANDARD
BEGIN:DAYLIGHT
TZOFFSETFROM:-0800
TZOFFSETTO:-0700
TZNAME:PDT
DTSTART:20260308T100000
END:DAYLIGHT
BEGIN:STANDARD
TZOFFSETFROM:-0700
TZOFFSETTO:-0800
TZNAME:PST
DTSTART:20261101T090000
END:STANDARD
BEGIN:DAYLIGHT
TZOFFSETFROM:-0800
TZOFFSETTO:-0700
TZNAME:PDT
DTSTART:20270314T100000
END:DAYLIGHT
BEGIN:STANDARD
TZOFFSETFROM:-0700
TZOFFSETTO:-0800
TZNAME:PST
DTSTART:20271107T090000
END:STANDARD
END:VTIMEZONE
BEGIN:VEVENT
DTSTART;TZID=America/Los_Angeles:20260209T113000
DTEND;TZID=America/Los_Angeles:20260209T133000
DTSTAMP:20260424T105309
CREATED:20260206T165216Z
LAST-MODIFIED:20260206T165216Z
UID:10004394-1770636600-1770643800@bendoregon.gov
SUMMARY:Open House: Infrastructure Permit Process Changes
DESCRIPTION:Come learn and ask questions about changes to the permit process related to SB 974. \nThe meeting convenes at 11:30 AM on a hybrid\, in-person and virtual Zoom platform. \nJoin the meeting using the following options: \nIn-person location: City Hall\, Council Chambers\, 710 NW Wall Street\, Bend\, OR 97703 \nRegister via Zoom Online Meeting Link: https://bendoregon-gov.zoom.us/webinar/register/WN_vMq2G1HPQz-GaBkudT3Usw \nYou can also copy and paste the Zoom link into your browser. \nCall in Phone Number: 1-888-788-0099 \nWebinar ID: 885 2137 5468 \nPasscode:  012101 \nThe public is invited to watch on-line through Youtube: Open House: Infrastructure Permit Process Changes – 2/9/26 11:30am
URL:https://bendoregon.gov/event/open-house-infrastructure-permit-process-changes/
LOCATION:Bend Council Chambers\, 710 NW Wall Street\, Bend\, 97701\, United States
END:VEVENT
BEGIN:VEVENT
DTSTART;TZID=America/Los_Angeles:20260209T173000
DTEND;TZID=America/Los_Angeles:20260209T200000
DTSTAMP:20260424T105309
CREATED:20260130T170326Z
LAST-MODIFIED:20260130T170326Z
UID:10004351-1770658200-1770667200@bendoregon.gov
SUMMARY:Planning Commission
DESCRIPTION:The meeting convenes at 5:30PM on a hybrid\, in-person and virtual Zoom platform. \nJoin the meeting using the following options: \nIn-person location: City Hall\, Council Chambers\, 710 NW Wall Street\, Bend\, OR 97703 \nRegister via Zoom Online Meeting Link: https://bendoregon-gov.zoom.us/webinar/register/WN_FyWpxUMESuGLr5RZ3tKKUQ \nYou can also copy and paste the Zoom link into your browser. \nCall in Phone Number: 1-888-788-0099 \nWebinar ID: 861 0212 2511 \nPasscode: 073643 \nThe public is invited to watch on-line through Youtube: https://youtube.com/live/eK0h3vYOHnc?feature=share \nPlease click to view the meeting agenda: Planning Commission Agenda 2/9/2026
URL:https://bendoregon.gov/event/planning-commission-155-3/
LOCATION:Bend City Council Chambers\, 710 NW Wall Street\, Bend\, 97701\, United States
CATEGORIES:Planning Commission
END:VEVENT
END:VCALENDAR