BEGIN:VCALENDAR
VERSION:2.0
PRODID:-//City of Bend - ECPv6.15.20//NONSGML v1.0//EN
CALSCALE:GREGORIAN
METHOD:PUBLISH
X-ORIGINAL-URL:https://bendoregon.gov
X-WR-CALDESC:Events for City of Bend
REFRESH-INTERVAL;VALUE=DURATION:PT1H
X-Robots-Tag:noindex
X-PUBLISHED-TTL:PT1H
BEGIN:VTIMEZONE
TZID:America/Los_Angeles
BEGIN:DAYLIGHT
TZOFFSETFROM:-0800
TZOFFSETTO:-0700
TZNAME:PDT
DTSTART:20250309T100000
END:DAYLIGHT
BEGIN:STANDARD
TZOFFSETFROM:-0700
TZOFFSETTO:-0800
TZNAME:PST
DTSTART:20251102T090000
END:STANDARD
BEGIN:DAYLIGHT
TZOFFSETFROM:-0800
TZOFFSETTO:-0700
TZNAME:PDT
DTSTART:20260308T100000
END:DAYLIGHT
BEGIN:STANDARD
TZOFFSETFROM:-0700
TZOFFSETTO:-0800
TZNAME:PST
DTSTART:20261101T090000
END:STANDARD
BEGIN:DAYLIGHT
TZOFFSETFROM:-0800
TZOFFSETTO:-0700
TZNAME:PDT
DTSTART:20270314T100000
END:DAYLIGHT
BEGIN:STANDARD
TZOFFSETFROM:-0700
TZOFFSETTO:-0800
TZNAME:PST
DTSTART:20271107T090000
END:STANDARD
END:VTIMEZONE
BEGIN:VEVENT
DTSTART;TZID=America/Los_Angeles:20260219T150000
DTEND;TZID=America/Los_Angeles:20260219T170000
DTSTAMP:20260424T110730
CREATED:20260213T192836Z
LAST-MODIFIED:20260217T184545Z
UID:10004132-1771513200-1771520400@bendoregon.gov
SUMMARY:Core Area Advisory Board
DESCRIPTION:For more information on the Core Area Advisory Board\, check out the CAAB website\nFebruary 2026 Agenda\nMEETING NOTICE \nThe Core Area Advisory Board (CAAB) will conduct a meeting virtually through Zoom and in person in Council Chambers at 710 NW Wall Street\, Bend\, OR 97703. \nThis meeting will be held in person and via Zoom. To Join via Computer: \nCAAB Zoom Link – Webinar ID: 839 8983 6448 \nYou may call into the meeting\nUnited States Toll: 1-888-788-0099\nWebinar ID: 860 3770 8032\nPasscode: 452858 \nWatch Live on YouTube \n  \nAccessible Meeting Information \nThis meeting/event location is accessible. Sign language interpreter service\, assistive listening devices\, materials in alternate format such as Braille\, large print\, electronic formats\, or any other accommodations are available upon advance request. Please contact Misty Driggers no later than 24 hours in advance at jtaylor@bendoregon.gov or call 541-388-5505; Relay Users Dial 7-1-1. Providing at least 3 days’ notice prior to the event will help ensure availability.
URL:https://bendoregon.gov/event/core-area-advisory-board/
LOCATION:Council Chambers (City Hall)\, 710 NW Wall St\, Bend\, 97703\, United States
CATEGORIES:Core Area Advisory Board
END:VEVENT
END:VCALENDAR