BEGIN:VCALENDAR
VERSION:2.0
PRODID:-//City of Bend - ECPv6.15.20//NONSGML v1.0//EN
CALSCALE:GREGORIAN
METHOD:PUBLISH
X-ORIGINAL-URL:https://bendoregon.gov
X-WR-CALDESC:Events for City of Bend
REFRESH-INTERVAL;VALUE=DURATION:PT1H
X-Robots-Tag:noindex
X-PUBLISHED-TTL:PT1H
BEGIN:VTIMEZONE
TZID:America/Los_Angeles
BEGIN:DAYLIGHT
TZOFFSETFROM:-0800
TZOFFSETTO:-0700
TZNAME:PDT
DTSTART:20250309T100000
END:DAYLIGHT
BEGIN:STANDARD
TZOFFSETFROM:-0700
TZOFFSETTO:-0800
TZNAME:PST
DTSTART:20251102T090000
END:STANDARD
BEGIN:DAYLIGHT
TZOFFSETFROM:-0800
TZOFFSETTO:-0700
TZNAME:PDT
DTSTART:20260308T100000
END:DAYLIGHT
BEGIN:STANDARD
TZOFFSETFROM:-0700
TZOFFSETTO:-0800
TZNAME:PST
DTSTART:20261101T090000
END:STANDARD
BEGIN:DAYLIGHT
TZOFFSETFROM:-0800
TZOFFSETTO:-0700
TZNAME:PDT
DTSTART:20270314T100000
END:DAYLIGHT
BEGIN:STANDARD
TZOFFSETFROM:-0700
TZOFFSETTO:-0800
TZNAME:PST
DTSTART:20271107T090000
END:STANDARD
END:VTIMEZONE
BEGIN:VEVENT
DTSTART;TZID=America/Los_Angeles:20260220T100000
DTEND;TZID=America/Los_Angeles:20260220T130000
DTSTAMP:20260424T110735
CREATED:20251219T235325Z
LAST-MODIFIED:20260123T205439Z
UID:10004280-1771581600-1771592400@bendoregon.gov
SUMMARY:Bend Fire & Rescue Car Seat Clinic
DESCRIPTION:Free Car Seat Clinic\nCertified car seat technicians will help you learn how to correctly install your car seat.\n2025 Car Seat Clinic Dates: Feb. 20\, Apr. 17\, June 19\, Aug. 21\, Oct. 16\, Dec. 18. \nTime: 10 a.m. – 1 p.m. \nLocation: Bend Fire North Station (305)\, 63377 NE Jamison Street\, Bend \nFollow the signs into the bay and one of our technicians will check out your car seat set up. \nPrior to the Clinic: \n\nRead through the car seat and vehicle manual\nInstall the car seat to the best of your ability\n\nVisit our website for more information regarding car seat clinics and other community programs: Car Seat Clinic Details and Information
URL:https://bendoregon.gov/event/bend-fire-rescue-car-seat-clinic/
LOCATION:Bend Fire North Station (305)\, 63377 Jamison St\, Bend\, 97703\, United States
CATEGORIES:Car Seat
ATTACH;FMTTYPE=image/jpeg:https://bendoregon.gov/wp-content/uploads/2025/12/car-seat-check.jpg
END:VEVENT
BEGIN:VEVENT
DTSTART;TZID=America/Los_Angeles:20260220T120000
DTEND;TZID=America/Los_Angeles:20260220T140000
DTSTAMP:20260424T110735
CREATED:20251215T193816Z
LAST-MODIFIED:20260213T002754Z
UID:10004133-1771588800-1771596000@bendoregon.gov
SUMMARY:BMPO Policy Board Meeting
DESCRIPTION:This is a hybrid meeting. The agenda and Zoom link will be available on the BMPO Policy Board website prior to the meeting date. \nTo receive notification of these meetings\, visit the Updates and Subscriptions section of the City of Bend Connect webpage and select City Events. To receive other notifications from the BMPO\, select Transportation Planning from the options listed. \nQuestions? Contact the BMPO staff.\n\nAccessible Meeting/Alternate Format Information\nThis meeting/event location is accessible. Sign and other language interpreter service\, assistive listening devices\, materials in alternate format such as Braille\, large print\, electronic formats\, language translations or any other accommodations are available upon advance request at no cost. Please email accessibility@bendoregon.gov or call 541-693-2198. Relay Users Dial 7-1-1. All requests are subject to vendor processing times and should be submitted 48-72 hours in advance of events. \nInformación sobre accesibilidad en reuniones\nHay accesibilidad disponible en esta reunión. Si se solicita con antelación\, se puede disponer de servicio de intérprete de lengua de señas\, dispositivos de ayuda auditiva\, materiales en formatos alternativos como Braille\, letra grande\, formatos electrónicos o cualquier otro tipo de adaptación. Póngase en contacto en correo electrónico accessibility@bendoregon.gov o número de teléfono 541-693-2198. Los usuarios del servicio de retransmisión deben marcar el 7-1-1. Por favor\, envíe sus solicitudes con 48-72 horas de antelación al evento; todas las solicitudes están sujetas a los tiempos de procesamiento del proveedor.
URL:https://bendoregon.gov/event/bmpo-policy-board-meeting-3/
LOCATION:Baney Conference Room (ODOT Region 4 Headquarters\, Building M)\, 63055 N. Highway 97\, Bend\, 97701\, United States
CATEGORIES:Bend MPO Policy Board
END:VEVENT
END:VCALENDAR