BEGIN:VCALENDAR
VERSION:2.0
PRODID:-//City of Bend - ECPv6.15.20//NONSGML v1.0//EN
CALSCALE:GREGORIAN
METHOD:PUBLISH
X-ORIGINAL-URL:https://bendoregon.gov
X-WR-CALDESC:Events for City of Bend
REFRESH-INTERVAL;VALUE=DURATION:PT1H
X-Robots-Tag:noindex
X-PUBLISHED-TTL:PT1H
BEGIN:VTIMEZONE
TZID:America/Los_Angeles
BEGIN:DAYLIGHT
TZOFFSETFROM:-0800
TZOFFSETTO:-0700
TZNAME:PDT
DTSTART:20250309T100000
END:DAYLIGHT
BEGIN:STANDARD
TZOFFSETFROM:-0700
TZOFFSETTO:-0800
TZNAME:PST
DTSTART:20251102T090000
END:STANDARD
BEGIN:DAYLIGHT
TZOFFSETFROM:-0800
TZOFFSETTO:-0700
TZNAME:PDT
DTSTART:20260308T100000
END:DAYLIGHT
BEGIN:STANDARD
TZOFFSETFROM:-0700
TZOFFSETTO:-0800
TZNAME:PST
DTSTART:20261101T090000
END:STANDARD
BEGIN:DAYLIGHT
TZOFFSETFROM:-0800
TZOFFSETTO:-0700
TZNAME:PDT
DTSTART:20270314T100000
END:DAYLIGHT
BEGIN:STANDARD
TZOFFSETFROM:-0700
TZOFFSETTO:-0800
TZNAME:PST
DTSTART:20271107T090000
END:STANDARD
END:VTIMEZONE
BEGIN:VEVENT
DTSTART;TZID=America/Los_Angeles:20260226T130000
DTEND;TZID=America/Los_Angeles:20260226T143000
DTSTAMP:20260424T092757
CREATED:20260222T052819Z
LAST-MODIFIED:20260223T204242Z
UID:10004397-1772110800-1772116200@bendoregon.gov
SUMMARY:City of Bend Accessibility Advisory Committee Regular Meeting
DESCRIPTION:Hybrid Meeting Notice:\nFebruary Meeting Agenda \nThe City of Bend Accessibility Advisory Committee (COBAAC) will conduct its hybrid meetings through Zoom and in person in Council Chambers\, 710 NW Wall Street\, from 1:00 to 2:30 PM. \nTo Attend by Computer\, Pre-Register: You will receive an email confirmation with a personalized link with information to connect by computer and phone. \nTo Attend by Phone\, No Registration Required: \n\nDial Toll-Free: 1-888-788-0099\nWebinar ID: 850 2097 9644\nPasscode (if prompted): 262222 (COBAAC)\n\nCOBAAC February Meeting\, live at 1:00 PM. \nTechnical Difficulties Connecting to the meeting: Call 541-410-9341 \nFor additional information: Please contact the Accessibility Manager // COBAAC Liaison\, Cassandra Kehoe\, She\, Her\, Ella\, at ckehoe@bendoregon.gov or call 541-693-2141. \nLanguage Assistance Services and Accommodation Information for People with Disabilities:\nYou can obtain this information in alternative formats such as Braille\, electronic format\, etc. Free language services are also available. Please contact the Accessibility Department at accessibility@bendoregon.gov or call 541-693-2141. Relay users Dial 7-1-1. Contacting us with your accommodations 24 to 72 hours in advance will help us procure your request. \nServicios de asistencia lingüística e información sobre alojamiento para personas con discapacidad:\nPuede obtener esta información en formatos alternativos como Braille\, formato electrónico\, etc. También disponemos de servicios gratuitos de asistencia lingüística. Póngase en contacto con Gestor del proyecto o creador del documento en correo electrónico equity@bendoregon.gov o número de teléfono 541-323- 8563. Los usuarios del servicio de retransmisión deben marcar el 7-1-1.
URL:https://bendoregon.gov/event/city-of-bend-accessibility-advisory-committee-regular-meeting-13/
LOCATION:Bend City Hall – Council Chambers\, 710 NW Wall St.\, Bend\, 97701\, United States
CATEGORIES:Accessibility Advisory Committee
END:VEVENT
BEGIN:VEVENT
DTSTART;TZID=America/Los_Angeles:20260226T160000
DTEND;TZID=America/Los_Angeles:20260226T180000
DTSTAMP:20260424T092757
CREATED:20260202T233647Z
LAST-MODIFIED:20260219T231025Z
UID:10004391-1772121600-1772128800@bendoregon.gov
SUMMARY:Advisory Body & Council Summit
DESCRIPTION:The City Council and the City of Bend advisory bodies listed below will conduct a meeting virtually and in person in Prowell Springs Conference Room\, 3rd Floor\, Public Works Campus Headquarters\, 21051 NE Talus Place\, Bend\, OR 97701\, on February 26\, 2026\, from 4:00 to 6:00 p.m. \n\nAffordable Housing Advisory Committee\nBend Economic Development Advisory Board\nCity of Bend Accessibility Advisory Committee\nCore Area Advisory Board\nEnvironment & Climate Committee\nHousing Options Made for Everyone\nHuman Rights & Equity Commission\nLandmarks Commission\nPlanning Commission\nTransportation Bond Oversight Committee\n\nMeeting Agenda \nNo public comment will be taken at this meeting. \nVirtual attendees have two options. \n\nStream the meeting on YouTube\nTo view the meeting on Zoom: Register to receive the link\n\n To Attend by Phone (toll-charges may apply): \n\nCall-in Phone Number: 1-888-788-0099\nWebinar ID: 846 2606 5943\nPasscode\, if prompted: 901382
URL:https://bendoregon.gov/event/advisory-body-council-summit/
LOCATION:Prowell Springs Conference Room (Public Works Campus)\, United States
END:VEVENT
END:VCALENDAR