BEGIN:VCALENDAR
VERSION:2.0
PRODID:-//City of Bend - ECPv6.15.20//NONSGML v1.0//EN
CALSCALE:GREGORIAN
METHOD:PUBLISH
X-ORIGINAL-URL:https://bendoregon.gov
X-WR-CALDESC:Events for City of Bend
REFRESH-INTERVAL;VALUE=DURATION:PT1H
X-Robots-Tag:noindex
X-PUBLISHED-TTL:PT1H
BEGIN:VTIMEZONE
TZID:America/Los_Angeles
BEGIN:DAYLIGHT
TZOFFSETFROM:-0800
TZOFFSETTO:-0700
TZNAME:PDT
DTSTART:20250309T100000
END:DAYLIGHT
BEGIN:STANDARD
TZOFFSETFROM:-0700
TZOFFSETTO:-0800
TZNAME:PST
DTSTART:20251102T090000
END:STANDARD
BEGIN:DAYLIGHT
TZOFFSETFROM:-0800
TZOFFSETTO:-0700
TZNAME:PDT
DTSTART:20260308T100000
END:DAYLIGHT
BEGIN:STANDARD
TZOFFSETFROM:-0700
TZOFFSETTO:-0800
TZNAME:PST
DTSTART:20261101T090000
END:STANDARD
BEGIN:DAYLIGHT
TZOFFSETFROM:-0800
TZOFFSETTO:-0700
TZNAME:PDT
DTSTART:20270314T100000
END:DAYLIGHT
BEGIN:STANDARD
TZOFFSETFROM:-0700
TZOFFSETTO:-0800
TZNAME:PST
DTSTART:20271107T090000
END:STANDARD
END:VTIMEZONE
BEGIN:VEVENT
DTSTART;TZID=America/Los_Angeles:20260312T110000
DTEND;TZID=America/Los_Angeles:20260312T130000
DTSTAMP:20260424T092836
CREATED:20260309T223052Z
LAST-MODIFIED:20260309T224000Z
UID:10004610-1773313200-1773320400@bendoregon.gov
SUMMARY:Environment and Climate Committee Meeting
DESCRIPTION:Environment and Climate Committee meetings are held via a hybrid format at City Hall\, in Council Chambers and Virtual Meeting Platform\, Zoom. Once the meeting has started\, the meeting can also be live streamed by clicking the YouTube link below. Meetings are held every 2nd Thursday of every month from 11:00 a.m. – 1:00 p.m. unless otherwise specified. \nAll Committee meeting information\, including how to attend virtually\, can be found at Environment and Climate Committee – City of Bend. \n  \n 
URL:https://bendoregon.gov/event/environment-and-climate-committee-meeting-42/2026-03-12/
LOCATION:Bend City Hall – Council Chambers\, 710 NW Wall St.\, Bend\, 97701\, United States
CATEGORIES:Environment & Climate Committee
END:VEVENT
BEGIN:VEVENT
DTSTART;TZID=America/Los_Angeles:20260312T140000
DTEND;TZID=America/Los_Angeles:20260312T160000
DTSTAMP:20260424T092836
CREATED:20260226T183314Z
LAST-MODIFIED:20260226T183449Z
UID:10004434-1773324000-1773331200@bendoregon.gov
SUMMARY:Bend Fire Civil Service Commission Meeting
DESCRIPTION:The Bend Fire & Rescue Civil Service Commission meets on an as-needed basis to ensure merit-based employment for the Fire Department by overseeing hiring\, promotions\, and disciplinary actions. They establish rules\, conduct examinations\, manage eligibility lists and act as a deciding body for employee disputes.\n\n \nCivil Service Commission meetings are held in person and online. Details in the agenda posted below.\n\n \nMeeting Agenda – March 12\, 2026\n\n \nQuestions?\nTrish Connolly\, Deputy Chief of Administration\nBend Fire & Rescue\n541-322-6314\n\n \nAccessible Meeting/Alternate Format Information\nThis meeting/event location is accessible. Sign and other language interpreter service\, assistive listening devices\, materials in alternate format such as Braille\, large print\, electronic formats\, language translations or any other accommodations are available upon advance request at no cost. Please email accessibility@bendoregon.gov or call 541-693-2198. Relay Users Dial 7-1-1. All requests are subject to vendor processing times and should be submitted 48-72 hours in advance of events.\n \nInformación sobre accesibilidad en reuniones\nHay accesibilidad disponible en esta reunión. Si se solicita con antelación\, se puede disponer de servicio de intérprete de lengua de señas\, dispositivos de ayuda auditiva\, materiales en formatos alternativos como Braille\, letra grande\, formatos electrónicos o cualquier otro tipo de adaptación. Póngase en contacto en correo electrónico accessibility@bendoregon.gov o número de teléfono 541-693-2198. Los usuarios del servicio de retransmisión deben marcar el 7-1-1. Por favor\, envíe sus solicitudes con 48-72 horas de antelación al evento; todas las solicitudes están sujetas a los tiempos de procesamiento del proveedor.
URL:https://bendoregon.gov/event/bend-fire-civil-service-commission-meeting/
LOCATION:Bend Fire Administration\, 1212 SW Simpson Ave\, Bend\, 97702\, United States
CATEGORIES:Fire & Rescue Events & Community Training
END:VEVENT
BEGIN:VEVENT
DTSTART;TZID=America/Los_Angeles:20260312T173000
DTEND;TZID=America/Los_Angeles:20260312T193000
DTSTAMP:20260424T092836
CREATED:20260225T163913Z
LAST-MODIFIED:20260304T163433Z
UID:10004432-1773336600-1773343800@bendoregon.gov
SUMMARY:Southeast Area Neighborhood Roundtable on Growth and Future Planning
DESCRIPTION:The City of Bend is hosting a neighborhood roundtable with the Bend City council and three neighborhood districts in the southeast area of town to discuss growth\, infrastructure projects\, complete neighborhoods and other topics relevant to southeast Bend. \nThe roundtable will take place March 12\, 2026\, from 5:30-7:45 p.m. at the Larkspur Community Center\, 1600 SE Reed Market Road. \nWhile this meeting will focus on the southeast area of town\, all community members are welcome to attend. \nThe meeting will include a formal presentation by City staff\, followed by an opportunity for community members to speak with staff an ask specific questions and will conclude with a roundtable discussion with representatives from the three neighborhood districts (Old Farm\, Larkspur and Southeast Bend) and the City Council. \nAbout the City of Bend Neighborhood Districts: \nThe Bend Neighborhood Districts provide community members the opportunity to help shape the future of their neighborhood and the City. Neighborhood Districts maintain and improve the quality of life in the city\, increase citizen participation in local decision making\, and form an effective partnership between the city and neighborhood residents. There are 13 neighborhood districts that are recognized by the Bend City Council. For more information visit bendoregon.gov/neighborhoods. \nMeeting Format: In accordance with Oregon state law\, this meeting is open to the public and can be accessed and attended in person or remotely. \nIn-person: Members of the public may attend in-person at Larkspur Community Center 1600 SE Reed Market Rd\, Bend\, OR. \nVirtual/Remote: \n\nZoom: Register to receive the Zoom link to the meeting. After registering\, you will receive a confirmation email containing information about joining the webinar. Registration link: https://bendoregon-gov.zoom.us/webinar/register/WN_VDWvoVEnTA-3Qvd-VgITxg\nYouTube: Livestream the meeting on YouTube at: https://youtube.com/live/go5IqvTRJRA?feature=share\nPhone: (toll-charges may apply): Call 1-888-788-0099 and enter the webinar ID: 886 2203 6370 followed by the passcode: 389459.\n\nAgenda
URL:https://bendoregon.gov/event/southeast-area-neighborhood-roundtable-on-growth-and-future-planning/
LOCATION:Larkspur Community Center\, 1600 SE Reed Market Rd\, Bend\, 97702\, United States
CATEGORIES:Neighborhood Districts
END:VEVENT
END:VCALENDAR