BEGIN:VCALENDAR
VERSION:2.0
PRODID:-//City of Bend - ECPv6.15.20//NONSGML v1.0//EN
CALSCALE:GREGORIAN
METHOD:PUBLISH
X-WR-CALNAME:City of Bend
X-ORIGINAL-URL:https://bendoregon.gov
X-WR-CALDESC:Events for City of Bend
REFRESH-INTERVAL;VALUE=DURATION:PT1H
X-Robots-Tag:noindex
X-PUBLISHED-TTL:PT1H
BEGIN:VTIMEZONE
TZID:America/Los_Angeles
BEGIN:DAYLIGHT
TZOFFSETFROM:-0800
TZOFFSETTO:-0700
TZNAME:PDT
DTSTART:20250309T100000
END:DAYLIGHT
BEGIN:STANDARD
TZOFFSETFROM:-0700
TZOFFSETTO:-0800
TZNAME:PST
DTSTART:20251102T090000
END:STANDARD
BEGIN:DAYLIGHT
TZOFFSETFROM:-0800
TZOFFSETTO:-0700
TZNAME:PDT
DTSTART:20260308T100000
END:DAYLIGHT
BEGIN:STANDARD
TZOFFSETFROM:-0700
TZOFFSETTO:-0800
TZNAME:PST
DTSTART:20261101T090000
END:STANDARD
BEGIN:DAYLIGHT
TZOFFSETFROM:-0800
TZOFFSETTO:-0700
TZNAME:PDT
DTSTART:20270314T100000
END:DAYLIGHT
BEGIN:STANDARD
TZOFFSETFROM:-0700
TZOFFSETTO:-0800
TZNAME:PST
DTSTART:20271107T090000
END:STANDARD
END:VTIMEZONE
BEGIN:VEVENT
DTSTART;TZID=America/Los_Angeles:20260331T130000
DTEND;TZID=America/Los_Angeles:20260331T143000
DTSTAMP:20260424T060146
CREATED:20260224T233454Z
LAST-MODIFIED:20260224T233454Z
UID:10004421-1774962000-1774967400@bendoregon.gov
SUMMARY:BMPO Policy Board Meeting
DESCRIPTION:This is a hybrid meeting. The agenda and Zoom link will be available on the BMPO Policy Board website prior to the meeting date. \nTo receive notification of these meetings\, visit the Updates and Subscriptions section of the City of Bend Connect webpage and select City Events. To receive other notifications from the BMPO\, select Transportation Planning from the options listed. \nQuestions? Contact the BMPO staff.\n\nAccessible Meeting/Alternate Format Information\nThis meeting/event location is accessible. Sign and other language interpreter service\, assistive listening devices\, materials in alternate format such as Braille\, large print\, electronic formats\, language translations or any other accommodations are available upon advance request at no cost. Please email accessibility@bendoregon.gov or call 541-693-2198. Relay Users Dial 7-1-1. All requests are subject to vendor processing times and should be submitted 48-72 hours in advance of events. \nInformación sobre accesibilidad en reuniones\nHay accesibilidad disponible en esta reunión. Si se solicita con antelación\, se puede disponer de servicio de intérprete de lengua de señas\, dispositivos de ayuda auditiva\, materiales en formatos alternativos como Braille\, letra grande\, formatos electrónicos o cualquier otro tipo de adaptación. Póngase en contacto en correo electrónico accessibility@bendoregon.gov o número de teléfono 541-693-2198. Los usuarios del servicio de retransmisión deben marcar el 7-1-1. Por favor\, envíe sus solicitudes con 48-72 horas de antelación al evento; todas las solicitudes están sujetas a los tiempos de procesamiento del proveedor.
URL:https://bendoregon.gov/event/bmpo-policy-board-meeting-31/
LOCATION:Baney Conference Room (ODOT Region 4 Headquarters\, Building M)\, 63055 N. Highway 97\, Bend\, 97701\, United States
CATEGORIES:Bend MPO Policy Board
END:VEVENT
BEGIN:VEVENT
DTSTART;TZID=America/Los_Angeles:20260331T150000
DTEND;TZID=America/Los_Angeles:20260331T170000
DTSTAMP:20260424T060146
CREATED:20260302T222336Z
LAST-MODIFIED:20260330T221415Z
UID:10004607-1774969200-1774976400@bendoregon.gov
SUMMARY:Affordable Housing Advisory Committee (AHAC)
DESCRIPTION:This meeting will be held in City Hall Council Chambers and via Zoom.  Meeting time is 3-5 p.m. \n Meeting Agenda   CDBG Public Services Applications and Funding Recommendations \nAll Committee meeting information\, to include how to attend virtually\, can be found in the agenda located at Affordable Housing Advisory Committee – City of Bend
URL:https://bendoregon.gov/event/affordable-housing-advisory-committee-ahac/
CATEGORIES:Affordable Housing Advisory Committee
END:VEVENT
END:VCALENDAR