BEGIN:VCALENDAR
VERSION:2.0
PRODID:-//City of Bend - ECPv6.15.20//NONSGML v1.0//EN
CALSCALE:GREGORIAN
METHOD:PUBLISH
X-ORIGINAL-URL:https://bendoregon.gov
X-WR-CALDESC:Events for City of Bend
REFRESH-INTERVAL;VALUE=DURATION:PT1H
X-Robots-Tag:noindex
X-PUBLISHED-TTL:PT1H
BEGIN:VTIMEZONE
TZID:America/Los_Angeles
BEGIN:DAYLIGHT
TZOFFSETFROM:-0800
TZOFFSETTO:-0700
TZNAME:PDT
DTSTART:20250309T100000
END:DAYLIGHT
BEGIN:STANDARD
TZOFFSETFROM:-0700
TZOFFSETTO:-0800
TZNAME:PST
DTSTART:20251102T090000
END:STANDARD
BEGIN:DAYLIGHT
TZOFFSETFROM:-0800
TZOFFSETTO:-0700
TZNAME:PDT
DTSTART:20260308T100000
END:DAYLIGHT
BEGIN:STANDARD
TZOFFSETFROM:-0700
TZOFFSETTO:-0800
TZNAME:PST
DTSTART:20261101T090000
END:STANDARD
BEGIN:DAYLIGHT
TZOFFSETFROM:-0800
TZOFFSETTO:-0700
TZNAME:PDT
DTSTART:20270314T100000
END:DAYLIGHT
BEGIN:STANDARD
TZOFFSETFROM:-0700
TZOFFSETTO:-0800
TZNAME:PST
DTSTART:20271107T090000
END:STANDARD
END:VTIMEZONE
BEGIN:VEVENT
DTSTART;TZID=America/Los_Angeles:20260410T130000
DTEND;TZID=America/Los_Angeles:20260410T140000
DTSTAMP:20260424T060231
CREATED:20260330T204630Z
LAST-MODIFIED:20260410T164441Z
UID:10004679-1775826000-1775829600@bendoregon.gov
SUMMARY:Public Contracts Subcommittee Meeting
DESCRIPTION:The Public Contracts Subcommittee will meet on Friday\, April 10\, 2026\, from 1-2 p.m. in Awbrey Butte Conference Room\, located on the second floor of City Hall (710 NW Wall Street)\, and online. \nAgenda \nTo Attend by Computer\, pre-register. \nYou will receive an email confirmation with a personal link/information to connect via computer or phone. \nTo Attend by Phone (No Pre-registration Required): \n\nCall-in Phone Number: 1-888-788-0099\nWebinar ID: 871 6067 5648\nPasscode: 911135\n\nYouTube Livestream Link: Livestream the April 10 Public Contracts Subcommittee Meeting.
URL:https://bendoregon.gov/event/public-contracts-subcommittee-meeting/
LOCATION:Awbrey Butte Conference Room\, City Hall\, 710 NW Wall Street\, Bend\, United States
END:VEVENT
END:VCALENDAR