BEGIN:VCALENDAR
VERSION:2.0
PRODID:-//City of Bend - ECPv6.15.20//NONSGML v1.0//EN
CALSCALE:GREGORIAN
METHOD:PUBLISH
X-WR-CALNAME:City of Bend
X-ORIGINAL-URL:https://bendoregon.gov
X-WR-CALDESC:Events for City of Bend
REFRESH-INTERVAL;VALUE=DURATION:PT1H
X-Robots-Tag:noindex
X-PUBLISHED-TTL:PT1H
BEGIN:VTIMEZONE
TZID:America/Los_Angeles
BEGIN:DAYLIGHT
TZOFFSETFROM:-0800
TZOFFSETTO:-0700
TZNAME:PDT
DTSTART:20250309T100000
END:DAYLIGHT
BEGIN:STANDARD
TZOFFSETFROM:-0700
TZOFFSETTO:-0800
TZNAME:PST
DTSTART:20251102T090000
END:STANDARD
BEGIN:DAYLIGHT
TZOFFSETFROM:-0800
TZOFFSETTO:-0700
TZNAME:PDT
DTSTART:20260308T100000
END:DAYLIGHT
BEGIN:STANDARD
TZOFFSETFROM:-0700
TZOFFSETTO:-0800
TZNAME:PST
DTSTART:20261101T090000
END:STANDARD
BEGIN:DAYLIGHT
TZOFFSETFROM:-0800
TZOFFSETTO:-0700
TZNAME:PDT
DTSTART:20270314T100000
END:DAYLIGHT
BEGIN:STANDARD
TZOFFSETFROM:-0700
TZOFFSETTO:-0800
TZNAME:PST
DTSTART:20271107T090000
END:STANDARD
END:VTIMEZONE
BEGIN:VEVENT
DTSTART;TZID=America/Los_Angeles:20260414T163000
DTEND;TZID=America/Los_Angeles:20260414T183000
DTSTAMP:20260424T060036
CREATED:20260409T152332Z
LAST-MODIFIED:20260409T152332Z
UID:10004687-1776184200-1776191400@bendoregon.gov
SUMMARY:Human Rights and Equity Commission Regular Meeting
DESCRIPTION:Hybrid Meeting Information: \nHREC April Meeting Agenda \nThe Human Rights and Equity Commission (HREC) will conduct its hybrid meetings via Zoom and in person at City Hall\, in Council Chambers\, 710 NW Wall Street\, Bend\, OR\, on the second Tuesday of the month\, from 4:30 to 6:30 p.m. Virtual attendees must pre-register to receive a personalized Zoom link to join this meeting.  \nTo Attend by Computer\, Pre-Register:  \n You will receive an email confirmation with a personized link informing you how to connect via computer or phone.  \nTo Attend by Phone (No Pre-Registration Required):  \n\nDial Toll-Free: 1-888-788-0099 \n\n\nWebinar ID: 875 4960 2090\n\n\nPasscode\, if prompted: 4732 (HREC) \n\nThe HREC April 14\, livestream starts at 4:30 p.m.  \nWritten Public Comment:  \nSubmit to email hrec@bendoregon.gov by noon\, the day before the meeting date.  \nFor Additional Information:  \nPlease contact Staff Liaison Mellissa Kamanya\, She/Her/Hers\, Affordable Housing Coordinator\, HREC Interim Staff Liaison\, Staff Liaison Title\, at 541-382-5615 or by email at mkamanya@bendoregon.gov.  \nAccommodation Information for People with Disabilities & Language Assistance Services\nYou can obtain this information in alternate formats such as Braille\, electronic format\, etc. Free language assistance services are also available. Please email accessibility@bendoregon.gov or call 541-693-2198. Relay Users Dial 7-1-1. All requests are subject to vendor processing times and should be submitted 48-72 hours in advance of events.  \nServicios de asistencia lingüística e información sobre alojamiento para personas con discapacidad\nPuede obtener esta información en formatos alternativos como Braille\, formato electrónico\, etc. También disponemos de servicios gratuitos de asistencia lingüística. Póngase en contacto en correo electrónico accessibility@bendoregon.gov o número de teléfono 541-693-2198. Los usuarios del servicio de retransmisión deben marcar el 7-1-1. Por favor\, envíe sus solicitudes con 48-72 horas de antelación al evento: todas las solicitudes están sujetas a los tiempos de procesamiento del proveedor. 
URL:https://bendoregon.gov/event/human-rights-and-equity-commission-regular-meeting-4/
LOCATION:Bend City Hall – Council Chambers\, 710 NW Wall St.\, Bend\, 97701\, United States
CATEGORIES:Human Rights & Equity Commission
END:VEVENT
END:VCALENDAR