BEGIN:VCALENDAR
VERSION:2.0
PRODID:-//City of Bend - ECPv6.15.20//NONSGML v1.0//EN
CALSCALE:GREGORIAN
METHOD:PUBLISH
X-ORIGINAL-URL:https://bendoregon.gov
X-WR-CALDESC:Events for City of Bend
REFRESH-INTERVAL;VALUE=DURATION:PT1H
X-Robots-Tag:noindex
X-PUBLISHED-TTL:PT1H
BEGIN:VTIMEZONE
TZID:America/Los_Angeles
BEGIN:DAYLIGHT
TZOFFSETFROM:-0800
TZOFFSETTO:-0700
TZNAME:PDT
DTSTART:20250309T100000
END:DAYLIGHT
BEGIN:STANDARD
TZOFFSETFROM:-0700
TZOFFSETTO:-0800
TZNAME:PST
DTSTART:20251102T090000
END:STANDARD
BEGIN:DAYLIGHT
TZOFFSETFROM:-0800
TZOFFSETTO:-0700
TZNAME:PDT
DTSTART:20260308T100000
END:DAYLIGHT
BEGIN:STANDARD
TZOFFSETFROM:-0700
TZOFFSETTO:-0800
TZNAME:PST
DTSTART:20261101T090000
END:STANDARD
BEGIN:DAYLIGHT
TZOFFSETFROM:-0800
TZOFFSETTO:-0700
TZNAME:PDT
DTSTART:20270314T100000
END:DAYLIGHT
BEGIN:STANDARD
TZOFFSETFROM:-0700
TZOFFSETTO:-0800
TZNAME:PST
DTSTART:20271107T090000
END:STANDARD
END:VTIMEZONE
BEGIN:VEVENT
DTSTART;TZID=America/Los_Angeles:20260423T130000
DTEND;TZID=America/Los_Angeles:20260423T143000
DTSTAMP:20260424T060331
CREATED:20260413T234823Z
LAST-MODIFIED:20260420T181530Z
UID:10004688-1776949200-1776954600@bendoregon.gov
SUMMARY:City of Bend Accessibility Advisory Committee Regular Meeting
DESCRIPTION:Hybrid Meeting Notice:\nCOBAAC April 2026 Meeting Agenda \nThe City of Bend Accessibility Advisory Committee (COBAAC) will conduct its hybrid meetings through Zoom and in person in Council Chambers\, 710 NW Wall Street\, from 1:00 to 2:30 PM. \nTo Attend by Computer\, Pre-Register: You will receive an email confirmation with a personalized link with information to connect by computer and phone. \nTo Attend by Phone\, No Registration Required: \n\nDial Toll-Free: 1-888-788-0099\nWebinar ID: 880 3132 3407\nPasscode (if prompted): 262222 (COBAAC)\n\nThe COBAAC April 2026 Meeting\, live at 1:00 PM. \nFor additional information: Please contact the Accessibility Manager // COBAAC Liaison\, Cassandra Kehoe\, She\, Her\, Ella\, at ckehoe@bendoregon.gov or call 541-693-2141. \nLanguage Assistance Services and Accommodation Information for People with Disabilities:\nYou can obtain this information in alternative formats such as Braille\, electronic format\, etc. Free language services are also available. Please contact the Accessibility Department at accessibility@bendoregon.gov or call 541-693-2198. Relay users Dial 7-1-1. Contacting us with your accommodations 48 to 72 hours in advance will help us procure your request. \nServicios de asistencia lingüística e información sobre alojamiento para personas con discapacidad:\nPuede obtener esta información en formatos alternativos como Braille\, formato electrónico\, etc. También disponemos de servicios gratuitos de asistencia lingüística. Póngase en contacto con Gestor del proyecto o creador del documento en correo electrónico accessibility@bendoregon.gov o número de teléfono 541-693-2198. Los usuarios del servicio de retransmisión deben marcar el 7-1-1.
URL:https://bendoregon.gov/event/city-of-bend-accessibility-advisory-committee-regular-meeting-15/
LOCATION:Bend City Hall – Council Chambers\, 710 NW Wall St.\, Bend\, 97701\, United States
CATEGORIES:Accessibility Advisory Committee
END:VEVENT
BEGIN:VEVENT
DTSTART;TZID=America/Los_Angeles:20260423T150000
DTEND;TZID=America/Los_Angeles:20260423T170000
DTSTAMP:20260424T060331
CREATED:20260312T173036Z
LAST-MODIFIED:20260410T234256Z
UID:10004382-1776956400-1776963600@bendoregon.gov
SUMMARY:Core Area Advisory Board
DESCRIPTION:For more information on the Core Area Advisory Board\, check out the CAAB website\nApril Agenda\nMEETING NOTICE\nThe Core Area Advisory Board will conduct a meeting virtually through Zoom and in person in Council Chambers at 710 NW Wall Street\, Bend\, OR 97703 on Thursday\, April 23\, 2026\, from 3:00 p.m. to 5:00 p.m. \nAll Committee meeting information\, to include how to attend virtually\, can be found in the posted agenda and on the CAAB website.
URL:https://bendoregon.gov/event/core-area-advisory-board-hybrid-meeting-february-2026-3/
LOCATION:Council Chambers (City Hall)\, 710 NW Wall St\, Bend\, 97703\, United States
CATEGORIES:Core Area Advisory Board
END:VEVENT
BEGIN:VEVENT
DTSTART;TZID=America/Los_Angeles:20260423T163000
DTEND;TZID=America/Los_Angeles:20260423T183000
DTSTAMP:20260424T060331
CREATED:20260417T230903Z
LAST-MODIFIED:20260417T230903Z
UID:10004721-1776961800-1776969000@bendoregon.gov
SUMMARY:2027 Neighborhood Street Safety Program Open House
DESCRIPTION:The projects that are scheduled for the 2027 Neighborhood Street Safety program are: \n\nUpdating and improving the existing crossings at the intersection of NE Sierra Drive and NE Boyd Acres Road\, and NE Town Drive and NE Boyd Acres Road to facilitate safer crossings of NE Boyd Acres Road.\nImplementing traffic calming along Blakely Road from Powers Road to Chamberlain Street. Improvements to include speed humps and sidewalk infill at select locations.\nBuilding a raised crossing at the intersection of NW Discovery Park Way and NW High Lakes Loop.\nUpdating and improving the crossing of NW Mt. Washington Drive at Regency Street. Improvements will include a Rectangular Rapid Flashing Beacon and removal of the right-turn lane onto Regency Street.\nInstalling speed humps and sidewalk infill along Tucson Way from Neff Road to Conners Avenue.\n\nThe projects are part of the Neighborhood Street Safety Program\, a yearly program that aims to address sidewalk infill\, traffic calming and safer crossings of busy streets\, increasing safety for all users of the roadway. \nSee webpage for details.
URL:https://bendoregon.gov/event/2027-neighborhood-street-safety-program-open-house/
LOCATION:VFW Event Room\, 1503 NE Fourth St.\, Bend\, Oregon\, 97701
END:VEVENT
END:VCALENDAR