BEGIN:VCALENDAR
VERSION:2.0
PRODID:-//City of Bend - ECPv6.15.20//NONSGML v1.0//EN
CALSCALE:GREGORIAN
METHOD:PUBLISH
X-WR-CALNAME:City of Bend
X-ORIGINAL-URL:https://bendoregon.gov
X-WR-CALDESC:Events for City of Bend
REFRESH-INTERVAL;VALUE=DURATION:PT1H
X-Robots-Tag:noindex
X-PUBLISHED-TTL:PT1H
BEGIN:VTIMEZONE
TZID:America/Los_Angeles
BEGIN:DAYLIGHT
TZOFFSETFROM:-0800
TZOFFSETTO:-0700
TZNAME:PDT
DTSTART:20250309T100000
END:DAYLIGHT
BEGIN:STANDARD
TZOFFSETFROM:-0700
TZOFFSETTO:-0800
TZNAME:PST
DTSTART:20251102T090000
END:STANDARD
BEGIN:DAYLIGHT
TZOFFSETFROM:-0800
TZOFFSETTO:-0700
TZNAME:PDT
DTSTART:20260308T100000
END:DAYLIGHT
BEGIN:STANDARD
TZOFFSETFROM:-0700
TZOFFSETTO:-0800
TZNAME:PST
DTSTART:20261101T090000
END:STANDARD
BEGIN:DAYLIGHT
TZOFFSETFROM:-0800
TZOFFSETTO:-0700
TZNAME:PDT
DTSTART:20270314T100000
END:DAYLIGHT
BEGIN:STANDARD
TZOFFSETFROM:-0700
TZOFFSETTO:-0800
TZNAME:PST
DTSTART:20271107T090000
END:STANDARD
END:VTIMEZONE
BEGIN:VEVENT
DTSTART;TZID=America/Los_Angeles:20260514T110000
DTEND;TZID=America/Los_Angeles:20260514T130000
DTSTAMP:20260424T092609
CREATED:20260309T223052Z
LAST-MODIFIED:20260309T224000Z
UID:10004612-1778756400-1778763600@bendoregon.gov
SUMMARY:Environment and Climate Committee Meeting
DESCRIPTION:Environment and Climate Committee meetings are held via a hybrid format at City Hall\, in Council Chambers and Virtual Meeting Platform\, Zoom. Once the meeting has started\, the meeting can also be live streamed by clicking the YouTube link below. Meetings are held every 2nd Thursday of every month from 11:00 a.m. – 1:00 p.m. unless otherwise specified. \nAll Committee meeting information\, including how to attend virtually\, can be found at Environment and Climate Committee – City of Bend. \n  \n 
URL:https://bendoregon.gov/event/environment-and-climate-committee-meeting-42/2026-05-14/
LOCATION:Bend City Hall – Council Chambers\, 710 NW Wall St.\, Bend\, 97701\, United States
CATEGORIES:Environment & Climate Committee
END:VEVENT
BEGIN:VEVENT
DTSTART;TZID=America/Los_Angeles:20260514T133000
DTEND;TZID=America/Los_Angeles:20260514T163000
DTSTAMP:20260424T092609
CREATED:20251215T193831Z
LAST-MODIFIED:20251215T193831Z
UID:10004138-1778765400-1778776200@bendoregon.gov
SUMMARY:Housing Options Made for Everyone Committee Meeting
DESCRIPTION:For more information on the Home Options Made for Everyone Committee\, check out the HOME website\nMEETING NOTICE\nThe Home Options Made for Everyone (HOME) Committee will conduct a meeting virtually through Zoom and in person in Council Chambers at 710 NW Wall Street\, Bend\, OR 97703 on Thursday\, October 2nd\, 2025\, from 1:30 to 4:30 p.m. \nFor Committee Members and City Staff: \nYou will receive a Zoom email confirmation with a personal link/information to connect via computer or phone. \nRegular Attendees-Zoom Link:  \n\nHousing Options Made for Everyone Zoom Link – TBP\n Webinar ID: \n Passcode: \n\nTo Attend by Phone: \n\nToll Free Call-in Number:  \nCall-in Phone Number: \nWebinar ID: \nPasscode: \n\nYouTube: Livestream the October 2nd HOME Committee Meeting here \nTechnical Difficulties Connecting to this Meeting: Call 541-410-9341. \nAccessible Meeting Information \nThis meeting/event location is accessible. Sign language interpreter service\, assistive listening devices\, materials in alternate format such as Braille\, large print\, electronic formats\, or any other accommodations are available upon advance request. Please contact Misty Driggers no later than 24 hours in advance at  ckerr@bendoregon.gov or call 541-388-5505; Relay Users Dial 7-1-1. Providing at least 3 days’ notice prior to the event will help ensure availability.
URL:https://bendoregon.gov/event/housing-options-made-for-everyone-committee-meeting-3/
LOCATION:Council Chambers (City Hall)\, 710 NW Wall St\, Bend\, 97703\, United States
CATEGORIES:Housing Options Made for Everyone
END:VEVENT
BEGIN:VEVENT
DTSTART;TZID=America/Los_Angeles:20260514T160000
DTEND;TZID=America/Los_Angeles:20260514T190000
DTSTAMP:20260424T092609
CREATED:20260407T174428Z
LAST-MODIFIED:20260407T191318Z
UID:10004686-1778774400-1778785200@bendoregon.gov
SUMMARY:Public Works Grand Opening and Public Art Exhibition
DESCRIPTION:Celebrating community\, art and the people who keep our City moving\nJoin us for an open house on Thursday May 14 from 4-7 p.m. as we celebrate our new Public Works Campus! Explore the new Public Art collection\, get a behind-the-scenes look at our Public Works facilities\, and help honor the 100-year anniversary of the City’s water services. Enjoy family-friendly activities\, and connect with City staff and artists.
URL:https://bendoregon.gov/event/public-works-grand-opening-and-public-art-exhibition/
LOCATION:Public Works Campus\, 21051 NE Talus Place\, Bend\, OR\, 97701\, United States
CATEGORIES:City of Bend
ATTACH;FMTTYPE=image/jpeg:https://bendoregon.gov/wp-content/uploads/2026/04/public-works-medium.jpg
END:VEVENT
END:VCALENDAR