BEGIN:VCALENDAR
VERSION:2.0
PRODID:-//City of Bend - ECPv6.15.20//NONSGML v1.0//EN
CALSCALE:GREGORIAN
METHOD:PUBLISH
X-ORIGINAL-URL:https://bendoregon.gov
X-WR-CALDESC:Events for City of Bend
REFRESH-INTERVAL;VALUE=DURATION:PT1H
X-Robots-Tag:noindex
X-PUBLISHED-TTL:PT1H
BEGIN:VTIMEZONE
TZID:America/Los_Angeles
BEGIN:DAYLIGHT
TZOFFSETFROM:-0800
TZOFFSETTO:-0700
TZNAME:PDT
DTSTART:20240310T100000
END:DAYLIGHT
BEGIN:STANDARD
TZOFFSETFROM:-0700
TZOFFSETTO:-0800
TZNAME:PST
DTSTART:20241103T090000
END:STANDARD
BEGIN:DAYLIGHT
TZOFFSETFROM:-0800
TZOFFSETTO:-0700
TZNAME:PDT
DTSTART:20250309T100000
END:DAYLIGHT
BEGIN:STANDARD
TZOFFSETFROM:-0700
TZOFFSETTO:-0800
TZNAME:PST
DTSTART:20251102T090000
END:STANDARD
BEGIN:DAYLIGHT
TZOFFSETFROM:-0800
TZOFFSETTO:-0700
TZNAME:PDT
DTSTART:20260308T100000
END:DAYLIGHT
BEGIN:STANDARD
TZOFFSETFROM:-0700
TZOFFSETTO:-0800
TZNAME:PST
DTSTART:20261101T090000
END:STANDARD
END:VTIMEZONE
BEGIN:VEVENT
DTSTART;TZID=America/Los_Angeles:20250225T160000
DTEND;TZID=America/Los_Angeles:20250225T180000
DTSTAMP:20260425T063714
CREATED:20251210T232137Z
LAST-MODIFIED:20251210T232137Z
UID:10003889-1740499200-1740506400@bendoregon.gov
SUMMARY:Transportation Bond Oversight Committee Meeting
DESCRIPTION:Transportation Bond Oversight Committee Meeting\nThis meeting is open to the public.  All are welcome. \nHYBRID MEETING NOTIFICATION \nThe meeting will be held both in person in City Council Chambers (City Hall\, 710 NW Wall St.) and virtually through Zoom (see link below). \nPUBLIC COMMENT (In-person or virtual)Virtual option: please join the meeting on Zoom with your first and last name and your email address. During the scheduled public comment period\, click on the “Raise Hand” option and you will be called. Please state your first and last name as you begin your comment.In-person option: please add your name to the sign-in sheet available at the meeting location. When invited to the podium\, please state your name prior to presenting.Written option: please send by email to TBOC@bendoregon.gov or complete the public comment form at the meeting location and submit to City staff. \nIn Person Location: City Council Chambers\, City Hall 710 NW Wall St.  \nOnline Zoom: Please click the link below to join the webinar. \nhttps://bendoregon-gov.zoom.us/j/85394942754?pwd=aThsbGFZdHpaWitURHJucXdsa1QwQT09 \n Passcode: 948763 \nOr Telephone:+1 253 215 8782  or +1 346 248 7799  or +1 669 900 9128 or 888 788 0099 (Toll Free)Webinar ID: 853 9494 2754  \nThe Zoom link and agenda are  available on bendoregon.gov/TBOC \n\nAccessible Meeting Information \nThis meeting event/location is accessible. Sign language\, interpreter service\, assistive listening devices\, materials in alternate format\, such as Braille\, large print\, electronic formats\, or any other accommodations are available upon advance request. Please contact Garrett Sabourin at 541-323-8591\, gsabourin@bendoregon.gov. Providing at least three business days notice prior to the event will help ensure availability. 
URL:https://bendoregon.gov/event/transportation-bond-oversight-committee-meeting-11/
LOCATION:Council Chambers (City Hall)\, 710 NW Wall St\, Bend\, 97703\, United States
CATEGORIES:2020 Transportation GO Bond
END:VEVENT
END:VCALENDAR