BEGIN:VCALENDAR
VERSION:2.0
PRODID:-//City of Bend - ECPv6.15.20//NONSGML v1.0//EN
CALSCALE:GREGORIAN
METHOD:PUBLISH
X-WR-CALNAME:City of Bend
X-ORIGINAL-URL:https://bendoregon.gov
X-WR-CALDESC:Events for City of Bend
REFRESH-INTERVAL;VALUE=DURATION:PT1H
X-Robots-Tag:noindex
X-PUBLISHED-TTL:PT1H
BEGIN:VTIMEZONE
TZID:America/Los_Angeles
BEGIN:DAYLIGHT
TZOFFSETFROM:-0800
TZOFFSETTO:-0700
TZNAME:PDT
DTSTART:20250309T100000
END:DAYLIGHT
BEGIN:STANDARD
TZOFFSETFROM:-0700
TZOFFSETTO:-0800
TZNAME:PST
DTSTART:20251102T090000
END:STANDARD
BEGIN:DAYLIGHT
TZOFFSETFROM:-0800
TZOFFSETTO:-0700
TZNAME:PDT
DTSTART:20260308T100000
END:DAYLIGHT
BEGIN:STANDARD
TZOFFSETFROM:-0700
TZOFFSETTO:-0800
TZNAME:PST
DTSTART:20261101T090000
END:STANDARD
BEGIN:DAYLIGHT
TZOFFSETFROM:-0800
TZOFFSETTO:-0700
TZNAME:PDT
DTSTART:20270314T100000
END:DAYLIGHT
BEGIN:STANDARD
TZOFFSETFROM:-0700
TZOFFSETTO:-0800
TZNAME:PST
DTSTART:20271107T090000
END:STANDARD
END:VTIMEZONE
BEGIN:VEVENT
DTSTART;TZID=America/Los_Angeles:20260420T160000
DTEND;TZID=America/Los_Angeles:20260420T180000
DTSTAMP:20260424T024941
CREATED:20260225T195941Z
LAST-MODIFIED:20260225T195941Z
UID:10004433-1776700800-1776708000@bendoregon.gov
SUMMARY:Transportation Bond Oversight Committee Meeting
DESCRIPTION:HYBRID MEETING \nIn Person Location: City Council Chambers\, City Hall 710 NW Wall St. \nOnline Zoom: \nTBOC members\, please use the panelist link emailed to you from “Mary P” via Zoom. A reminder email (with link) will also be sent about one hour before the meeting start time. \nVisitors\, please click the link below to join the webinar. \nhttps://bendoregon-gov.zoom.us/j/85394942754?pwd=aThsbGFZdHpaWitURHJucXdsa1QwQT09 \nPasscode: 948763 \nOr Telephone:\n+1 253 215 8782 or +1 346 248 7799 or +1 669 900 9128 or 888 788 0099 (Toll Free)\nWebinar ID: 853 9494 2754 \nAGENDA \nThe meeting agenda and materials are available at bendoregon.gov/tboc.
URL:https://bendoregon.gov/event/transportation-bond-oversight-committee-meeting-15/
LOCATION:Bend City Hall – Council Chambers\, 710 NW Wall St.\, Bend\, 97701\, United States
CATEGORIES:2020 Transportation GO Bond,Transportation Bond Oversight Committee | 2020 Transportation GO Bond
END:VEVENT
END:VCALENDAR