BEGIN:VCALENDAR
VERSION:2.0
PRODID:-//City of Bend - ECPv6.15.20//NONSGML v1.0//EN
CALSCALE:GREGORIAN
METHOD:PUBLISH
X-WR-CALNAME:City of Bend
X-ORIGINAL-URL:https://bendoregon.gov
X-WR-CALDESC:Events for City of Bend
REFRESH-INTERVAL;VALUE=DURATION:PT1H
X-Robots-Tag:noindex
X-PUBLISHED-TTL:PT1H
BEGIN:VTIMEZONE
TZID:America/Los_Angeles
BEGIN:DAYLIGHT
TZOFFSETFROM:-0800
TZOFFSETTO:-0700
TZNAME:PDT
DTSTART:20230312T100000
END:DAYLIGHT
BEGIN:STANDARD
TZOFFSETFROM:-0700
TZOFFSETTO:-0800
TZNAME:PST
DTSTART:20231105T090000
END:STANDARD
BEGIN:DAYLIGHT
TZOFFSETFROM:-0800
TZOFFSETTO:-0700
TZNAME:PDT
DTSTART:20240310T100000
END:DAYLIGHT
BEGIN:STANDARD
TZOFFSETFROM:-0700
TZOFFSETTO:-0800
TZNAME:PST
DTSTART:20241103T090000
END:STANDARD
BEGIN:DAYLIGHT
TZOFFSETFROM:-0800
TZOFFSETTO:-0700
TZNAME:PDT
DTSTART:20250309T100000
END:DAYLIGHT
BEGIN:STANDARD
TZOFFSETFROM:-0700
TZOFFSETTO:-0800
TZNAME:PST
DTSTART:20251102T090000
END:STANDARD
END:VTIMEZONE
BEGIN:VEVENT
DTSTART;TZID=America/Los_Angeles:20241211T150000
DTEND;TZID=America/Los_Angeles:20241211T180000
DTSTAMP:20260425T150157
CREATED:20251210T231907Z
LAST-MODIFIED:20251210T231907Z
UID:10003838-1733929200-1733940000@bendoregon.gov
SUMMARY:Affordable Housing Advisory Committee (AHAC) Meeting
DESCRIPTION:This meeting will be held in City Hall Council Chambers and via Zoom.  Meeting time is 3:00 – 6:00pm \nAgenda: AHAC_Agenda_12_11_24.docx \nPublic comments for this meeting will be accepted two ways.  \n\nTo comment live at the meeting\, you must join the meeting via Zoom. \nOr send comments to dcook@bendoregon.gov prior to 12:00 pm on Wednesday\, December 11\, 2024.  Comments will be shared with committee members.\n\nTo join via Computer (Zoom) use the following link: https://bendoregon-gov.zoom.us/j/88571325169?pwd=IESW94DJBbeBlbA4WQOfIvOtz6aVU8.1 \nPasscode (required): 412138 \nOr you may call into the meeting and enter the Webinar ID. \nCall (toll charges may apply):  1-888-788-0099 or 1-253-215-8782 \n                Webinar ID:  885 7132 5169 \nTo watch live or later via YouTube: https://youtube.com/live/vuSiJTJQHFg?feature=share \nIf you have technical difficulties connecting to the meeting\, call 541-410-9341
URL:https://bendoregon.gov/event/affordable-housing-advisory-committee-ahac-meeting-45/
LOCATION:Virtual meeting – see details below\, United States
CATEGORIES:Affordable Housing Advisory Committee
END:VEVENT
END:VCALENDAR