BEGIN:VCALENDAR
VERSION:2.0
PRODID:-//City of Bend - ECPv6.15.20//NONSGML v1.0//EN
CALSCALE:GREGORIAN
METHOD:PUBLISH
X-ORIGINAL-URL:https://bendoregon.gov
X-WR-CALDESC:Events for City of Bend
REFRESH-INTERVAL;VALUE=DURATION:PT1H
X-Robots-Tag:noindex
X-PUBLISHED-TTL:PT1H
BEGIN:VTIMEZONE
TZID:America/Los_Angeles
BEGIN:DAYLIGHT
TZOFFSETFROM:-0800
TZOFFSETTO:-0700
TZNAME:PDT
DTSTART:20240310T100000
END:DAYLIGHT
BEGIN:STANDARD
TZOFFSETFROM:-0700
TZOFFSETTO:-0800
TZNAME:PST
DTSTART:20241103T090000
END:STANDARD
BEGIN:DAYLIGHT
TZOFFSETFROM:-0800
TZOFFSETTO:-0700
TZNAME:PDT
DTSTART:20250309T100000
END:DAYLIGHT
BEGIN:STANDARD
TZOFFSETFROM:-0700
TZOFFSETTO:-0800
TZNAME:PST
DTSTART:20251102T090000
END:STANDARD
BEGIN:DAYLIGHT
TZOFFSETFROM:-0800
TZOFFSETTO:-0700
TZNAME:PDT
DTSTART:20260308T100000
END:DAYLIGHT
BEGIN:STANDARD
TZOFFSETFROM:-0700
TZOFFSETTO:-0800
TZNAME:PST
DTSTART:20261101T090000
END:STANDARD
END:VTIMEZONE
BEGIN:VEVENT
DTSTART;TZID=America/Los_Angeles:20250212T150000
DTEND;TZID=America/Los_Angeles:20250212T170000
DTSTAMP:20260425T095703
CREATED:20251210T232107Z
LAST-MODIFIED:20251210T232107Z
UID:10003879-1739372400-1739379600@bendoregon.gov
SUMMARY:Affordable Housing Advisory Committee (AHAC) Meeting
DESCRIPTION:This meeting will be held in City Hall Council Chambers and via Zoom.  Meeting time is 3:00 – 5:00pm \nAgenda \nPublic comments for this meeting will be accepted two ways.  \n\nTo comment live at the meeting\, you must join the meeting via Zoom. \nOr send comments to mdriggers@bendoreong.gov prior to 12:00 pm on Wednesday\, February 12\, 2025.  Comments will be shared with committee members.\n\nTo join via Computer (Zoom) use the following link: https://bendoregon-gov.zoom.us/j/83018566749?pwd=TzO1PfRoq3kPJjESv3e95hbXb46oyb.1 \nPasscode (required): 443494 \nOr you may call into the meeting and enter the Webinar ID. \nCall (toll charges may apply): 669-444-9171 \n                Webinar ID:  830 1856 6749 \nTo watch live or later via YouTube: https://youtube.com/live/E_JqoqlyTVo?feature=share \nIf you have technical difficulties connecting to the meeting\, call 541-410-9341
URL:https://bendoregon.gov/event/affordable-housing-advisory-committee-ahac-meeting-47/
LOCATION:Council Chambers (City Hall)\, 710 NW Wall St\, Bend\, 97703\, United States
CATEGORIES:Affordable Housing Advisory Committee
END:VEVENT
BEGIN:VEVENT
DTSTART;TZID=America/Los_Angeles:20250224T140000
DTEND;TZID=America/Los_Angeles:20250224T160000
DTSTAMP:20260425T095703
CREATED:20251210T232137Z
LAST-MODIFIED:20251210T232137Z
UID:10003887-1740405600-1740412800@bendoregon.gov
SUMMARY:Joint Advisory Body (ECC/BEDAB/AHAC) Electrification Policy Meeting
DESCRIPTION:The Environment & Climate Committee (ECC)\, Bend Economic Development Advisory Board (BEDAB)\, and Affordable Housing Advisory Committee (AHAC) will conduct a joint meeting regarding electrification policy in person in Council Chambers at City Hall (710 NW Wall Street\, Bend OR) and online on Monday\, February 24\, from 2-4 p.m. \nAgenda  \nTo attend via zoom\, pre-register. \nTo attend by phone: \nCall-in Phone Number: 1-888-788-0099 \nWebinar ID: 822 5827 1569  \nPasscode\, if prompted: 712572Hide \n\n\n\n\n\n\n\nYouTube Link: Livestream the Electrification Policy Meeting \nTechnical Difficulties Connecting to this Meeting: Call 541-410-9341.
URL:https://bendoregon.gov/event/joint-advisory-body-ecc-bedab-ahac-electrification-policy-meeting/
LOCATION:Council Chambers (City Hall)\, 710 NW Wall St\, Bend\, 97703\, United States
CATEGORIES:Affordable Housing Advisory Committee
END:VEVENT
END:VCALENDAR