BEGIN:VCALENDAR
VERSION:2.0
PRODID:-//City of Bend - ECPv6.15.20//NONSGML v1.0//EN
CALSCALE:GREGORIAN
METHOD:PUBLISH
X-ORIGINAL-URL:https://bendoregon.gov
X-WR-CALDESC:Events for City of Bend
REFRESH-INTERVAL;VALUE=DURATION:PT1H
X-Robots-Tag:noindex
X-PUBLISHED-TTL:PT1H
BEGIN:VTIMEZONE
TZID:America/Los_Angeles
BEGIN:DAYLIGHT
TZOFFSETFROM:-0800
TZOFFSETTO:-0700
TZNAME:PDT
DTSTART:20240310T100000
END:DAYLIGHT
BEGIN:STANDARD
TZOFFSETFROM:-0700
TZOFFSETTO:-0800
TZNAME:PST
DTSTART:20241103T090000
END:STANDARD
BEGIN:DAYLIGHT
TZOFFSETFROM:-0800
TZOFFSETTO:-0700
TZNAME:PDT
DTSTART:20250309T100000
END:DAYLIGHT
BEGIN:STANDARD
TZOFFSETFROM:-0700
TZOFFSETTO:-0800
TZNAME:PST
DTSTART:20251102T090000
END:STANDARD
BEGIN:DAYLIGHT
TZOFFSETFROM:-0800
TZOFFSETTO:-0700
TZNAME:PDT
DTSTART:20260308T100000
END:DAYLIGHT
BEGIN:STANDARD
TZOFFSETFROM:-0700
TZOFFSETTO:-0800
TZNAME:PST
DTSTART:20261101T090000
END:STANDARD
END:VTIMEZONE
BEGIN:VEVENT
DTSTART;TZID=America/Los_Angeles:20250409T150000
DTEND;TZID=America/Los_Angeles:20250409T170000
DTSTAMP:20260425T062555
CREATED:20251210T232322Z
LAST-MODIFIED:20251210T232322Z
UID:10003925-1744210800-1744218000@bendoregon.gov
SUMMARY:Affordable Housing Advisory Committee (AHAC) Meeting
DESCRIPTION:This meeting will be held in City Hall Council Chambers and via Zoom.  Meeting time is 3:00 – 5:00pm \nAgenda \nPublic comments for this meeting will be accepted two ways.  \n\nTo comment live at the meeting\, you must join the meeting via Zoom. \nOr send comments to mdriggers@bendoreong.gov prior to 12:00 pm on Wednesday\, April 9\, 2025.  Comments will be shared with committee members.\n\nTo join via Computer (Zoom) use the following link: https://bendoregon-gov.zoom.us/j/87019426744?pwd=oB3AbWUSfa8yDA7kE01XqNGQMSkOaw.1 \nPasscode (required): 812416 \nOr you may call into the meeting and enter the Webinar ID. \nCall (toll charges may apply):  1-346-248-7799 \n                Webinar ID:  870 1942 6744 \nTo watch live or later via YouTube:  https://youtube.com/live/BID57aW8Ow4?feature=share  \nIf you have technical difficulties connecting to the meeting\, call 541-410-9341
URL:https://bendoregon.gov/event/affordable-housing-advisory-committee-ahac-meeting-49/
LOCATION:Council Chambers (City Hall)\, 710 NW Wall St\, Bend\, 97703\, United States
CATEGORIES:Affordable Housing Advisory Committee
END:VEVENT
END:VCALENDAR