BEGIN:VCALENDAR
VERSION:2.0
PRODID:-//City of Bend - ECPv6.15.20//NONSGML v1.0//EN
CALSCALE:GREGORIAN
METHOD:PUBLISH
X-WR-CALNAME:City of Bend
X-ORIGINAL-URL:https://bendoregon.gov
X-WR-CALDESC:Events for City of Bend
REFRESH-INTERVAL;VALUE=DURATION:PT1H
X-Robots-Tag:noindex
X-PUBLISHED-TTL:PT1H
BEGIN:VTIMEZONE
TZID:America/Los_Angeles
BEGIN:DAYLIGHT
TZOFFSETFROM:-0800
TZOFFSETTO:-0700
TZNAME:PDT
DTSTART:20250309T100000
END:DAYLIGHT
BEGIN:STANDARD
TZOFFSETFROM:-0700
TZOFFSETTO:-0800
TZNAME:PST
DTSTART:20251102T090000
END:STANDARD
BEGIN:DAYLIGHT
TZOFFSETFROM:-0800
TZOFFSETTO:-0700
TZNAME:PDT
DTSTART:20260308T100000
END:DAYLIGHT
BEGIN:STANDARD
TZOFFSETFROM:-0700
TZOFFSETTO:-0800
TZNAME:PST
DTSTART:20261101T090000
END:STANDARD
BEGIN:DAYLIGHT
TZOFFSETFROM:-0800
TZOFFSETTO:-0700
TZNAME:PDT
DTSTART:20270314T100000
END:DAYLIGHT
BEGIN:STANDARD
TZOFFSETFROM:-0700
TZOFFSETTO:-0800
TZNAME:PST
DTSTART:20271107T090000
END:STANDARD
END:VTIMEZONE
BEGIN:VEVENT
DTSTART;TZID=America/Los_Angeles:20260507T150000
DTEND;TZID=America/Los_Angeles:20260507T170000
DTSTAMP:20260424T055240
CREATED:20260302T215227Z
LAST-MODIFIED:20260302T215442Z
UID:10004599-1778166000-1778173200@bendoregon.gov
SUMMARY:Affordable Housing Advisory Committee (AHAC) Meeting
DESCRIPTION:  \nThis meeting will be held in City Hall Council Chambers and via Zoom.  Meeting time is 3:00 – 5:00pm \n  \nAll Committee meeting information\, to include how to attend virtually\, can be found in the agenda located at Affordable Housing Advisory Committee – City of Bend
URL:https://bendoregon.gov/event/affordable-housing-advisory-committee-ahac-meeting-56/2026-05-07/
CATEGORIES:Affordable Housing Advisory Committee
END:VEVENT
END:VCALENDAR