BEGIN:VCALENDAR
VERSION:2.0
PRODID:-//City of Bend - ECPv6.15.20//NONSGML v1.0//EN
CALSCALE:GREGORIAN
METHOD:PUBLISH
X-ORIGINAL-URL:https://bendoregon.gov
X-WR-CALDESC:Events for City of Bend
REFRESH-INTERVAL;VALUE=DURATION:PT1H
X-Robots-Tag:noindex
X-PUBLISHED-TTL:PT1H
BEGIN:VTIMEZONE
TZID:America/Los_Angeles
BEGIN:DAYLIGHT
TZOFFSETFROM:-0800
TZOFFSETTO:-0700
TZNAME:PDT
DTSTART:20250309T100000
END:DAYLIGHT
BEGIN:STANDARD
TZOFFSETFROM:-0700
TZOFFSETTO:-0800
TZNAME:PST
DTSTART:20251102T090000
END:STANDARD
BEGIN:DAYLIGHT
TZOFFSETFROM:-0800
TZOFFSETTO:-0700
TZNAME:PDT
DTSTART:20260308T100000
END:DAYLIGHT
BEGIN:STANDARD
TZOFFSETFROM:-0700
TZOFFSETTO:-0800
TZNAME:PST
DTSTART:20261101T090000
END:STANDARD
BEGIN:DAYLIGHT
TZOFFSETFROM:-0800
TZOFFSETTO:-0700
TZNAME:PDT
DTSTART:20270314T100000
END:DAYLIGHT
BEGIN:STANDARD
TZOFFSETFROM:-0700
TZOFFSETTO:-0800
TZNAME:PST
DTSTART:20271107T090000
END:STANDARD
END:VTIMEZONE
BEGIN:VEVENT
DTSTART;TZID=America/Los_Angeles:20260507T150000
DTEND;TZID=America/Los_Angeles:20260507T170000
DTSTAMP:20260424T022159
CREATED:20260302T215227Z
LAST-MODIFIED:20260302T215442Z
UID:10004599-1778166000-1778173200@bendoregon.gov
SUMMARY:Affordable Housing Advisory Committee (AHAC) Meeting
DESCRIPTION:  \nThis meeting will be held in City Hall Council Chambers and via Zoom.  Meeting time is 3:00 – 5:00pm \n  \nAll Committee meeting information\, to include how to attend virtually\, can be found in the agenda located at Affordable Housing Advisory Committee – City of Bend
URL:https://bendoregon.gov/event/affordable-housing-advisory-committee-ahac-meeting-56/2026-05-07/
CATEGORIES:Affordable Housing Advisory Committee
END:VEVENT
BEGIN:VEVENT
DTSTART;TZID=America/Los_Angeles:20260604T150000
DTEND;TZID=America/Los_Angeles:20260604T170000
DTSTAMP:20260424T022159
CREATED:20260302T215227Z
LAST-MODIFIED:20260302T215442Z
UID:10004600-1780585200-1780592400@bendoregon.gov
SUMMARY:Affordable Housing Advisory Committee (AHAC) Meeting
DESCRIPTION:  \nThis meeting will be held in City Hall Council Chambers and via Zoom.  Meeting time is 3:00 – 5:00pm \n  \nAll Committee meeting information\, to include how to attend virtually\, can be found in the agenda located at Affordable Housing Advisory Committee – City of Bend
URL:https://bendoregon.gov/event/affordable-housing-advisory-committee-ahac-meeting-56/2026-06-04/
CATEGORIES:Affordable Housing Advisory Committee
END:VEVENT
BEGIN:VEVENT
DTSTART;TZID=America/Los_Angeles:20260702T150000
DTEND;TZID=America/Los_Angeles:20260702T170000
DTSTAMP:20260424T022159
CREATED:20260302T215227Z
LAST-MODIFIED:20260302T215442Z
UID:10004601-1783004400-1783011600@bendoregon.gov
SUMMARY:Affordable Housing Advisory Committee (AHAC) Meeting
DESCRIPTION:  \nThis meeting will be held in City Hall Council Chambers and via Zoom.  Meeting time is 3:00 – 5:00pm \n  \nAll Committee meeting information\, to include how to attend virtually\, can be found in the agenda located at Affordable Housing Advisory Committee – City of Bend
URL:https://bendoregon.gov/event/affordable-housing-advisory-committee-ahac-meeting-56/2026-07-02/
CATEGORIES:Affordable Housing Advisory Committee
END:VEVENT
BEGIN:VEVENT
DTSTART;TZID=America/Los_Angeles:20260806T150000
DTEND;TZID=America/Los_Angeles:20260806T170000
DTSTAMP:20260424T022159
CREATED:20260302T215227Z
LAST-MODIFIED:20260302T215442Z
UID:10004602-1786028400-1786035600@bendoregon.gov
SUMMARY:Affordable Housing Advisory Committee (AHAC) Meeting
DESCRIPTION:  \nThis meeting will be held in City Hall Council Chambers and via Zoom.  Meeting time is 3:00 – 5:00pm \n  \nAll Committee meeting information\, to include how to attend virtually\, can be found in the agenda located at Affordable Housing Advisory Committee – City of Bend
URL:https://bendoregon.gov/event/affordable-housing-advisory-committee-ahac-meeting-56/2026-08-06/
CATEGORIES:Affordable Housing Advisory Committee
END:VEVENT
BEGIN:VEVENT
DTSTART;TZID=America/Los_Angeles:20260903T150000
DTEND;TZID=America/Los_Angeles:20260903T170000
DTSTAMP:20260424T022159
CREATED:20260302T215227Z
LAST-MODIFIED:20260302T215442Z
UID:10004603-1788447600-1788454800@bendoregon.gov
SUMMARY:Affordable Housing Advisory Committee (AHAC) Meeting
DESCRIPTION:  \nThis meeting will be held in City Hall Council Chambers and via Zoom.  Meeting time is 3:00 – 5:00pm \n  \nAll Committee meeting information\, to include how to attend virtually\, can be found in the agenda located at Affordable Housing Advisory Committee – City of Bend
URL:https://bendoregon.gov/event/affordable-housing-advisory-committee-ahac-meeting-56/2026-09-03/
CATEGORIES:Affordable Housing Advisory Committee
END:VEVENT
BEGIN:VEVENT
DTSTART;TZID=America/Los_Angeles:20261001T150000
DTEND;TZID=America/Los_Angeles:20261001T170000
DTSTAMP:20260424T022159
CREATED:20260302T215227Z
LAST-MODIFIED:20260302T215442Z
UID:10004604-1790866800-1790874000@bendoregon.gov
SUMMARY:Affordable Housing Advisory Committee (AHAC) Meeting
DESCRIPTION:  \nThis meeting will be held in City Hall Council Chambers and via Zoom.  Meeting time is 3:00 – 5:00pm \n  \nAll Committee meeting information\, to include how to attend virtually\, can be found in the agenda located at Affordable Housing Advisory Committee – City of Bend
URL:https://bendoregon.gov/event/affordable-housing-advisory-committee-ahac-meeting-56/2026-10-01/
CATEGORIES:Affordable Housing Advisory Committee
END:VEVENT
BEGIN:VEVENT
DTSTART;TZID=America/Los_Angeles:20261105T150000
DTEND;TZID=America/Los_Angeles:20261105T170000
DTSTAMP:20260424T022159
CREATED:20260302T215227Z
LAST-MODIFIED:20260302T215442Z
UID:10004605-1793890800-1793898000@bendoregon.gov
SUMMARY:Affordable Housing Advisory Committee (AHAC) Meeting
DESCRIPTION:  \nThis meeting will be held in City Hall Council Chambers and via Zoom.  Meeting time is 3:00 – 5:00pm \n  \nAll Committee meeting information\, to include how to attend virtually\, can be found in the agenda located at Affordable Housing Advisory Committee – City of Bend
URL:https://bendoregon.gov/event/affordable-housing-advisory-committee-ahac-meeting-56/2026-11-05/
CATEGORIES:Affordable Housing Advisory Committee
END:VEVENT
BEGIN:VEVENT
DTSTART;TZID=America/Los_Angeles:20261203T150000
DTEND;TZID=America/Los_Angeles:20261203T170000
DTSTAMP:20260424T022159
CREATED:20260302T215227Z
LAST-MODIFIED:20260302T215442Z
UID:10004606-1796310000-1796317200@bendoregon.gov
SUMMARY:Affordable Housing Advisory Committee (AHAC) Meeting
DESCRIPTION:  \nThis meeting will be held in City Hall Council Chambers and via Zoom.  Meeting time is 3:00 – 5:00pm \n  \nAll Committee meeting information\, to include how to attend virtually\, can be found in the agenda located at Affordable Housing Advisory Committee – City of Bend
URL:https://bendoregon.gov/event/affordable-housing-advisory-committee-ahac-meeting-56/2026-12-03/
CATEGORIES:Affordable Housing Advisory Committee
END:VEVENT
END:VCALENDAR