BEGIN:VCALENDAR
VERSION:2.0
PRODID:-//City of Bend - ECPv6.15.20//NONSGML v1.0//EN
CALSCALE:GREGORIAN
METHOD:PUBLISH
X-ORIGINAL-URL:https://bendoregon.gov
X-WR-CALDESC:Events for City of Bend
REFRESH-INTERVAL;VALUE=DURATION:PT1H
X-Robots-Tag:noindex
X-PUBLISHED-TTL:PT1H
BEGIN:VTIMEZONE
TZID:America/Los_Angeles
BEGIN:DAYLIGHT
TZOFFSETFROM:-0800
TZOFFSETTO:-0700
TZNAME:PDT
DTSTART:20250309T100000
END:DAYLIGHT
BEGIN:STANDARD
TZOFFSETFROM:-0700
TZOFFSETTO:-0800
TZNAME:PST
DTSTART:20251102T090000
END:STANDARD
BEGIN:DAYLIGHT
TZOFFSETFROM:-0800
TZOFFSETTO:-0700
TZNAME:PDT
DTSTART:20260308T100000
END:DAYLIGHT
BEGIN:STANDARD
TZOFFSETFROM:-0700
TZOFFSETTO:-0800
TZNAME:PST
DTSTART:20261101T090000
END:STANDARD
BEGIN:DAYLIGHT
TZOFFSETFROM:-0800
TZOFFSETTO:-0700
TZNAME:PDT
DTSTART:20270314T100000
END:DAYLIGHT
BEGIN:STANDARD
TZOFFSETFROM:-0700
TZOFFSETTO:-0800
TZNAME:PST
DTSTART:20271107T090000
END:STANDARD
END:VTIMEZONE
BEGIN:VEVENT
DTSTART;TZID=America/Los_Angeles:20260107T154500
DTEND;TZID=America/Los_Angeles:20260107T164500
DTSTAMP:20260425T083103
CREATED:20251223T003000Z
LAST-MODIFIED:20260122T175447Z
UID:10004281-1767800700-1767804300@bendoregon.gov
SUMMARY:Audit Subcommittee
DESCRIPTION:The Audit Subcommittee will meet on January 7\, 2026\, at 3:45 p.m. in person at Bend City Hall\, Floor 2\, Awbrey Butte Conference Room located at 710 NW Wall St\, Bend\, Oregon\, and online. \nAgenda \nVirtual/Remote \n\nZoom: Register to receive the Zoom link to the meeting. No public comment is taken at this meeting. After registering\, you will receive a confirmation email containing information about joining the webinar. Registration link: https://bendoregon-gov.zoom.us/webinar/register/WN_KwckEPxSShWcgNI8g-OJsA\nYouTube: Livestream the meeting on YouTube: https://youtube.com/live/zOv8mR1wCmI?feature=share\nPhone (toll-charges may apply): Call 1-888-788-0099 or 1-253-215-87822 and enter the webinar ID# 895 9795 1501 followed by the passcode 621222
URL:https://bendoregon.gov/event/audit-committee-010726/
LOCATION:Awbrey Butte (City Hall)\, 710 NW Wall St\, Bend\, 97703\, United States
CATEGORIES:Audit Subcommittee
END:VEVENT
END:VCALENDAR