BEGIN:VCALENDAR
VERSION:2.0
PRODID:-//City of Bend - ECPv6.15.20//NONSGML v1.0//EN
CALSCALE:GREGORIAN
METHOD:PUBLISH
X-WR-CALNAME:City of Bend
X-ORIGINAL-URL:https://bendoregon.gov
X-WR-CALDESC:Events for City of Bend
REFRESH-INTERVAL;VALUE=DURATION:PT1H
X-Robots-Tag:noindex
X-PUBLISHED-TTL:PT1H
BEGIN:VTIMEZONE
TZID:America/Los_Angeles
BEGIN:DAYLIGHT
TZOFFSETFROM:-0800
TZOFFSETTO:-0700
TZNAME:PDT
DTSTART:20220313T100000
END:DAYLIGHT
BEGIN:STANDARD
TZOFFSETFROM:-0700
TZOFFSETTO:-0800
TZNAME:PST
DTSTART:20221106T090000
END:STANDARD
BEGIN:DAYLIGHT
TZOFFSETFROM:-0800
TZOFFSETTO:-0700
TZNAME:PDT
DTSTART:20230312T100000
END:DAYLIGHT
BEGIN:STANDARD
TZOFFSETFROM:-0700
TZOFFSETTO:-0800
TZNAME:PST
DTSTART:20231105T090000
END:STANDARD
BEGIN:DAYLIGHT
TZOFFSETFROM:-0800
TZOFFSETTO:-0700
TZNAME:PDT
DTSTART:20240310T100000
END:DAYLIGHT
BEGIN:STANDARD
TZOFFSETFROM:-0700
TZOFFSETTO:-0800
TZNAME:PST
DTSTART:20241103T090000
END:STANDARD
END:VTIMEZONE
BEGIN:VEVENT
DTSTART;TZID=America/Los_Angeles:20230523T160000
DTEND;TZID=America/Los_Angeles:20230523T210000
DTSTAMP:20260424T170814
CREATED:20251205T194005Z
LAST-MODIFIED:20251205T194005Z
UID:10003286-1684857600-1684875600@bendoregon.gov
SUMMARY:Budget Committee Meeting
DESCRIPTION:The Budget Committee will meet virtually through Zoom and in person in the Fire Training Center\, 63377 NE Jamison Street\, Bend\, Oregon 97701\, Tuesday\, May 23\, 2023 from 4:00 to 9:00 p.m. \nTo Attend by Computer: Pre-register.You will receive an email confirmation with a personal link/information to connect via computer or phone. \nTo Attend by Phone (No Pre-registering Required): \n\nCall-in Phone Number: 1-888-788-0099\nWebinar ID: 878 3955 0563\nPasscode: 406733\n\nYouTube Link: Live Stream the May 23 Budget Committee Meeting \n\nMeeting Agenda
URL:https://bendoregon.gov/event/budget-committee-meeting-17/
LOCATION:Fire Training Center\, 63377 NE Jamison St.\, Bend\, 97701\, United States
CATEGORIES:Budget Committee
END:VEVENT
BEGIN:VEVENT
DTSTART;TZID=America/Los_Angeles:20230522T160000
DTEND;TZID=America/Los_Angeles:20230522T210000
DTSTAMP:20260424T170814
CREATED:20251205T193951Z
LAST-MODIFIED:20251205T193951Z
UID:10003284-1684771200-1684789200@bendoregon.gov
SUMMARY:Budget Committee Meeting
DESCRIPTION:The Budget Committee will meet virtually through Zoom and in person in the Fire Training Center\, 63377 NE Jamison Street\, Bend\, Oregon 97701\, Monday\, May 22\, 2023 from 4:00 to 9:00 p.m. \nTo Attend by Computer: Pre-register.You will receive an email confirmation with a personal link/information to connect via computer or phone. \nTo Attend by Phone (No Pre-registering Required): \n\nCall-in Phone Number: 1-888-788-0099\nWebinar ID: 851 0939 8783\nPasscode: 795215\n\nYouTube Link: Live Stream the May 22 Budget Committee Meeting \n\nMeeting Agenda
URL:https://bendoregon.gov/event/budget-committee-meeting-16/
LOCATION:Fire Training Center\, 63377 NE Jamison St.\, Bend\, 97701\, United States
CATEGORIES:Budget Committee
END:VEVENT
BEGIN:VEVENT
DTSTART;TZID=America/Los_Angeles:20230503T170000
DTEND;TZID=America/Los_Angeles:20230503T173000
DTSTAMP:20260424T170814
CREATED:20251205T193836Z
LAST-MODIFIED:20251205T193836Z
UID:10003263-1683133200-1683135000@bendoregon.gov
SUMMARY:Budget Committee Meeting
DESCRIPTION:
URL:https://bendoregon.gov/event/budget-committee-meeting-15/
LOCATION:Council Chambers (City Hall)\, 710 NW Wall St\, Bend\, 97703\, United States
CATEGORIES:Budget Committee
END:VEVENT
END:VCALENDAR