BEGIN:VCALENDAR
VERSION:2.0
PRODID:-//City of Bend - ECPv6.15.20//NONSGML v1.0//EN
CALSCALE:GREGORIAN
METHOD:PUBLISH
X-ORIGINAL-URL:https://bendoregon.gov
X-WR-CALDESC:Events for City of Bend
REFRESH-INTERVAL;VALUE=DURATION:PT1H
X-Robots-Tag:noindex
X-PUBLISHED-TTL:PT1H
BEGIN:VTIMEZONE
TZID:America/Los_Angeles
BEGIN:DAYLIGHT
TZOFFSETFROM:-0800
TZOFFSETTO:-0700
TZNAME:PDT
DTSTART:20240310T100000
END:DAYLIGHT
BEGIN:STANDARD
TZOFFSETFROM:-0700
TZOFFSETTO:-0800
TZNAME:PST
DTSTART:20241103T090000
END:STANDARD
BEGIN:DAYLIGHT
TZOFFSETFROM:-0800
TZOFFSETTO:-0700
TZNAME:PDT
DTSTART:20250309T100000
END:DAYLIGHT
BEGIN:STANDARD
TZOFFSETFROM:-0700
TZOFFSETTO:-0800
TZNAME:PST
DTSTART:20251102T090000
END:STANDARD
BEGIN:DAYLIGHT
TZOFFSETFROM:-0800
TZOFFSETTO:-0700
TZNAME:PDT
DTSTART:20260308T100000
END:DAYLIGHT
BEGIN:STANDARD
TZOFFSETFROM:-0700
TZOFFSETTO:-0800
TZNAME:PST
DTSTART:20261101T090000
END:STANDARD
END:VTIMEZONE
BEGIN:VEVENT
DTSTART;TZID=America/Los_Angeles:20250903T180000
DTEND;TZID=America/Los_Angeles:20250903T210000
DTSTAMP:20260425T133654
CREATED:20251210T232822Z
LAST-MODIFIED:20251210T232822Z
UID:10004022-1756922400-1756933200@bendoregon.gov
SUMMARY:City Council Business Meeting
DESCRIPTION:
URL:https://bendoregon.gov/event/city-council-business-meeting/
LOCATION:Council Chambers (City Hall)\, 710 NW Wall St\, Bend\, 97703\, United States
CATEGORIES:City Council
END:VEVENT
BEGIN:VEVENT
DTSTART;TZID=America/Los_Angeles:20250910T160000
DTEND;TZID=America/Los_Angeles:20250910T180000
DTSTAMP:20260425T133654
CREATED:20251210T232837Z
LAST-MODIFIED:20251210T232837Z
UID:10004026-1757520000-1757527200@bendoregon.gov
SUMMARY:City Council Work Session
DESCRIPTION:
URL:https://bendoregon.gov/event/city-council-work-session/
LOCATION:Council Chambers (City Hall)\, 710 NW Wall St\, Bend\, 97703\, United States
CATEGORIES:City Council
END:VEVENT
BEGIN:VEVENT
DTSTART;TZID=America/Los_Angeles:20250917T180000
DTEND;TZID=America/Los_Angeles:20250917T210000
DTSTAMP:20260425T133654
CREATED:20251210T232907Z
LAST-MODIFIED:20251210T232907Z
UID:10004037-1758132000-1758142800@bendoregon.gov
SUMMARY:City Council Business Meeting
DESCRIPTION:
URL:https://bendoregon.gov/event/city-council-business-meeting-2/
LOCATION:Council Chambers (City Hall)\, 710 NW Wall St\, Bend\, 97703\, United States
CATEGORIES:City Council
END:VEVENT
BEGIN:VEVENT
DTSTART;TZID=America/Los_Angeles:20250924T160000
DTEND;TZID=America/Los_Angeles:20250924T180000
DTSTAMP:20260425T133654
CREATED:20251210T232937Z
LAST-MODIFIED:20251210T232937Z
UID:10004048-1758729600-1758736800@bendoregon.gov
SUMMARY:City Council Work Session
DESCRIPTION:
URL:https://bendoregon.gov/event/city-council-work-session-2/
LOCATION:Council Chambers (City Hall)\, 710 NW Wall St\, Bend\, 97703\, United States
CATEGORIES:City Council
END:VEVENT
BEGIN:VEVENT
DTSTART;TZID=America/Los_Angeles:20250930T090000
DTEND;TZID=America/Los_Angeles:20250930T103000
DTSTAMP:20260425T133654
CREATED:20251210T232952Z
LAST-MODIFIED:20251210T232952Z
UID:10004053-1759222800-1759228200@bendoregon.gov
SUMMARY:Public Contracts Subcommittee
DESCRIPTION:
URL:https://bendoregon.gov/event/public-contracts-subcommittee/
LOCATION:Awbrey Butte (City Hall)\, 710 NW Wall St\, Bend\, 97703\, United States
CATEGORIES:City Council
END:VEVENT
END:VCALENDAR