BEGIN:VCALENDAR
VERSION:2.0
PRODID:-//City of Bend - ECPv6.15.20//NONSGML v1.0//EN
CALSCALE:GREGORIAN
METHOD:PUBLISH
X-ORIGINAL-URL:https://bendoregon.gov
X-WR-CALDESC:Events for City of Bend
REFRESH-INTERVAL;VALUE=DURATION:PT1H
X-Robots-Tag:noindex
X-PUBLISHED-TTL:PT1H
BEGIN:VTIMEZONE
TZID:America/Los_Angeles
BEGIN:DAYLIGHT
TZOFFSETFROM:-0800
TZOFFSETTO:-0700
TZNAME:PDT
DTSTART:20240310T100000
END:DAYLIGHT
BEGIN:STANDARD
TZOFFSETFROM:-0700
TZOFFSETTO:-0800
TZNAME:PST
DTSTART:20241103T090000
END:STANDARD
BEGIN:DAYLIGHT
TZOFFSETFROM:-0800
TZOFFSETTO:-0700
TZNAME:PDT
DTSTART:20250309T100000
END:DAYLIGHT
BEGIN:STANDARD
TZOFFSETFROM:-0700
TZOFFSETTO:-0800
TZNAME:PST
DTSTART:20251102T090000
END:STANDARD
BEGIN:DAYLIGHT
TZOFFSETFROM:-0800
TZOFFSETTO:-0700
TZNAME:PDT
DTSTART:20260308T100000
END:DAYLIGHT
BEGIN:STANDARD
TZOFFSETFROM:-0700
TZOFFSETTO:-0800
TZNAME:PST
DTSTART:20261101T090000
END:STANDARD
END:VTIMEZONE
BEGIN:VEVENT
DTSTART;TZID=America/Los_Angeles:20251001T180000
DTEND;TZID=America/Los_Angeles:20251001T210000
DTSTAMP:20260425T084725
CREATED:20251210T233007Z
LAST-MODIFIED:20251210T233007Z
UID:10004057-1759341600-1759352400@bendoregon.gov
SUMMARY:City Council Business Meeting
DESCRIPTION:
URL:https://bendoregon.gov/event/city-council-business-meeting-3/
LOCATION:Council Chambers (City Hall)\, 710 NW Wall St\, Bend\, 97703\, United States
CATEGORIES:City Council
END:VEVENT
BEGIN:VEVENT
DTSTART;TZID=America/Los_Angeles:20251008T160000
DTEND;TZID=America/Los_Angeles:20251008T180000
DTSTAMP:20260425T084725
CREATED:20251210T233022Z
LAST-MODIFIED:20251210T233022Z
UID:10004064-1759939200-1759946400@bendoregon.gov
SUMMARY:City Council Work Session & Budget Committee Meeting
DESCRIPTION:
URL:https://bendoregon.gov/event/city-council-work-session-budget-committee-meeting/
LOCATION:Council Chambers (City Hall)\, 710 NW Wall St\, Bend\, 97703\, United States
CATEGORIES:City Council
END:VEVENT
BEGIN:VEVENT
DTSTART;TZID=America/Los_Angeles:20251015T160000
DTEND;TZID=America/Los_Angeles:20251015T210000
DTSTAMP:20260425T084725
CREATED:20251210T233037Z
LAST-MODIFIED:20251210T233037Z
UID:10004068-1760544000-1760562000@bendoregon.gov
SUMMARY:City Council Business Meeting (Council Goals Update at 4PM)
DESCRIPTION:
URL:https://bendoregon.gov/event/city-council-business-meeting-council-goals-update-at-4pm/
LOCATION:Council Chambers (City Hall)\, 710 NW Wall St\, Bend\, 97703\, United States
CATEGORIES:City Council
END:VEVENT
BEGIN:VEVENT
DTSTART;TZID=America/Los_Angeles:20251022T160000
DTEND;TZID=America/Los_Angeles:20251022T180000
DTSTAMP:20260425T084725
CREATED:20251210T233052Z
LAST-MODIFIED:20251210T233052Z
UID:10004075-1761148800-1761156000@bendoregon.gov
SUMMARY:City Council Work Session
DESCRIPTION:
URL:https://bendoregon.gov/event/city-council-work-session-3/
LOCATION:Council Chambers (City Hall)\, 710 NW Wall St\, Bend\, 97703\, United States
CATEGORIES:City Council
END:VEVENT
BEGIN:VEVENT
DTSTART;TZID=America/Los_Angeles:20251027T120000
DTEND;TZID=America/Los_Angeles:20251027T140000
DTSTAMP:20260425T084725
CREATED:20251210T233107Z
LAST-MODIFIED:20251210T233107Z
UID:10004079-1761566400-1761573600@bendoregon.gov
SUMMARY:Community Building Subcommittee
DESCRIPTION:
URL:https://bendoregon.gov/event/community-building-subcommittee-13/
LOCATION:Council Chambers (City Hall)\, 710 NW Wall St\, Bend\, 97703\, United States
CATEGORIES:City Council
END:VEVENT
END:VCALENDAR