BEGIN:VCALENDAR
VERSION:2.0
PRODID:-//City of Bend - ECPv6.15.20//NONSGML v1.0//EN
CALSCALE:GREGORIAN
METHOD:PUBLISH
X-ORIGINAL-URL:https://bendoregon.gov
X-WR-CALDESC:Events for City of Bend
REFRESH-INTERVAL;VALUE=DURATION:PT1H
X-Robots-Tag:noindex
X-PUBLISHED-TTL:PT1H
BEGIN:VTIMEZONE
TZID:America/Los_Angeles
BEGIN:DAYLIGHT
TZOFFSETFROM:-0800
TZOFFSETTO:-0700
TZNAME:PDT
DTSTART:20240310T100000
END:DAYLIGHT
BEGIN:STANDARD
TZOFFSETFROM:-0700
TZOFFSETTO:-0800
TZNAME:PST
DTSTART:20241103T090000
END:STANDARD
BEGIN:DAYLIGHT
TZOFFSETFROM:-0800
TZOFFSETTO:-0700
TZNAME:PDT
DTSTART:20250309T100000
END:DAYLIGHT
BEGIN:STANDARD
TZOFFSETFROM:-0700
TZOFFSETTO:-0800
TZNAME:PST
DTSTART:20251102T090000
END:STANDARD
BEGIN:DAYLIGHT
TZOFFSETFROM:-0800
TZOFFSETTO:-0700
TZNAME:PDT
DTSTART:20260308T100000
END:DAYLIGHT
BEGIN:STANDARD
TZOFFSETFROM:-0700
TZOFFSETTO:-0800
TZNAME:PST
DTSTART:20261101T090000
END:STANDARD
END:VTIMEZONE
BEGIN:VEVENT
DTSTART;TZID=America/Los_Angeles:20251203T163000
DTEND;TZID=America/Los_Angeles:20251203T210000
DTSTAMP:20260425T032017
CREATED:20251210T233237Z
LAST-MODIFIED:20251210T233237Z
UID:10004106-1764779400-1764795600@bendoregon.gov
SUMMARY:City Council Executive Session (4:30pm) and Business Meeting (6pm)
DESCRIPTION:
URL:https://bendoregon.gov/event/city-council-executive-session-430pm-and-business-meeting-6pm/
LOCATION:Council Chambers (City Hall)\, 710 NW Wall St\, Bend\, 97703\, United States
CATEGORIES:City Council
END:VEVENT
BEGIN:VEVENT
DTSTART;TZID=America/Los_Angeles:20251210T160000
DTEND;TZID=America/Los_Angeles:20251210T180000
DTSTAMP:20260425T032017
CREATED:20251219T174936Z
LAST-MODIFIED:20251219T174936Z
UID:10004226-1765382400-1765389600@bendoregon.gov
SUMMARY:City Council Work Session
DESCRIPTION:
URL:https://bendoregon.gov/event/city-council-work-session-5/2025-12-10/
LOCATION:Bend City Council Chambers\, 710 NW Wall Street\, Bend\, 97701\, United States
CATEGORIES:City Council
END:VEVENT
BEGIN:VEVENT
DTSTART;TZID=America/Los_Angeles:20251224T160000
DTEND;TZID=America/Los_Angeles:20251224T180000
DTSTAMP:20260425T032017
CREATED:20251219T175152Z
LAST-MODIFIED:20251219T175152Z
UID:10004250-1766592000-1766599200@bendoregon.gov
SUMMARY:Cancelled: City Council Work Session
DESCRIPTION:
URL:https://bendoregon.gov/event/city-council-work-session-6-2/
LOCATION:Bend City Council Chambers\, 710 NW Wall Street\, Bend\, 97701\, United States
CATEGORIES:City Council
END:VEVENT
END:VCALENDAR