BEGIN:VCALENDAR
VERSION:2.0
PRODID:-//City of Bend - ECPv6.15.20//NONSGML v1.0//EN
CALSCALE:GREGORIAN
METHOD:PUBLISH
X-WR-CALNAME:City of Bend
X-ORIGINAL-URL:https://bendoregon.gov
X-WR-CALDESC:Events for City of Bend
REFRESH-INTERVAL;VALUE=DURATION:PT1H
X-Robots-Tag:noindex
X-PUBLISHED-TTL:PT1H
BEGIN:VTIMEZONE
TZID:America/Los_Angeles
BEGIN:DAYLIGHT
TZOFFSETFROM:-0800
TZOFFSETTO:-0700
TZNAME:PDT
DTSTART:20250309T100000
END:DAYLIGHT
BEGIN:STANDARD
TZOFFSETFROM:-0700
TZOFFSETTO:-0800
TZNAME:PST
DTSTART:20251102T090000
END:STANDARD
BEGIN:DAYLIGHT
TZOFFSETFROM:-0800
TZOFFSETTO:-0700
TZNAME:PDT
DTSTART:20260308T100000
END:DAYLIGHT
BEGIN:STANDARD
TZOFFSETFROM:-0700
TZOFFSETTO:-0800
TZNAME:PST
DTSTART:20261101T090000
END:STANDARD
BEGIN:DAYLIGHT
TZOFFSETFROM:-0800
TZOFFSETTO:-0700
TZNAME:PDT
DTSTART:20270314T100000
END:DAYLIGHT
BEGIN:STANDARD
TZOFFSETFROM:-0700
TZOFFSETTO:-0800
TZNAME:PST
DTSTART:20271107T090000
END:STANDARD
END:VTIMEZONE
BEGIN:VEVENT
DTSTART;TZID=America/Los_Angeles:20260501T170000
DTEND;TZID=America/Los_Angeles:20260501T190000
DTSTAMP:20260425T064915
CREATED:20260330T212446Z
LAST-MODIFIED:20260407T225404Z
UID:10004680-1777654800-1777662000@bendoregon.gov
SUMMARY:CityFest at First Friday
DESCRIPTION:Brought to you by the City of Bend \nJoin the City of Bend and Mayor Melanie Kebler for CityFest\, a celebration of community\, creativity\, and Bend’s future in the heart of the Downtown Bend Business Association First Friday Art Walk. ​ \nMayor Kebler will share a brief “State of the City” message\, highlighting City Council goals and priorities and sharing how they support Bend’s economic growth\, downtown vitality and long term future. Community members are encouraged to connect with City staff\, ask questions\, and learn more about current projects shaping Bend. ​ \nAs you explore the art walk\, stop in at Scalehouse Gallery and the Tin Pan Theater to experience creative spaces and join a hands-on community art activity for kids and families in partnership with Visit Bend (that will\, upon completion\, be featured in the Tin Pan Alley Art Collection!). ​ \nPlus\, enter a free raffle for a chance to win a Downtown Bend Business Association gift card – good at all downtown businesses.
URL:https://bendoregon.gov/event/cityfest-at-first-friday/
LOCATION:Lift Fitness Studio Parking Lot\, 514 NW Franklin Ave.\, Bend\, 97703\, United States
CATEGORIES:CityFest
ATTACH;FMTTYPE=image/jpeg:https://bendoregon.gov/wp-content/uploads/2026/03/2026-cityfest-graphic.jpg
END:VEVENT
END:VCALENDAR