BEGIN:VCALENDAR
VERSION:2.0
PRODID:-//City of Bend - ECPv6.15.20//NONSGML v1.0//EN
CALSCALE:GREGORIAN
METHOD:PUBLISH
X-WR-CALNAME:City of Bend
X-ORIGINAL-URL:https://bendoregon.gov
X-WR-CALDESC:Events for City of Bend
REFRESH-INTERVAL;VALUE=DURATION:PT1H
X-Robots-Tag:noindex
X-PUBLISHED-TTL:PT1H
BEGIN:VTIMEZONE
TZID:America/Los_Angeles
BEGIN:DAYLIGHT
TZOFFSETFROM:-0800
TZOFFSETTO:-0700
TZNAME:PDT
DTSTART:20220313T100000
END:DAYLIGHT
BEGIN:STANDARD
TZOFFSETFROM:-0700
TZOFFSETTO:-0800
TZNAME:PST
DTSTART:20221106T090000
END:STANDARD
BEGIN:DAYLIGHT
TZOFFSETFROM:-0800
TZOFFSETTO:-0700
TZNAME:PDT
DTSTART:20230312T100000
END:DAYLIGHT
BEGIN:STANDARD
TZOFFSETFROM:-0700
TZOFFSETTO:-0800
TZNAME:PST
DTSTART:20231105T090000
END:STANDARD
BEGIN:DAYLIGHT
TZOFFSETFROM:-0800
TZOFFSETTO:-0700
TZNAME:PDT
DTSTART:20240310T100000
END:DAYLIGHT
BEGIN:STANDARD
TZOFFSETFROM:-0700
TZOFFSETTO:-0800
TZNAME:PST
DTSTART:20241103T090000
END:STANDARD
BEGIN:DAYLIGHT
TZOFFSETFROM:-0800
TZOFFSETTO:-0700
TZNAME:PDT
DTSTART:20250309T100000
END:DAYLIGHT
BEGIN:STANDARD
TZOFFSETFROM:-0700
TZOFFSETTO:-0800
TZNAME:PST
DTSTART:20251102T090000
END:STANDARD
BEGIN:DAYLIGHT
TZOFFSETFROM:-0800
TZOFFSETTO:-0700
TZNAME:PDT
DTSTART:20260308T100000
END:DAYLIGHT
BEGIN:STANDARD
TZOFFSETFROM:-0700
TZOFFSETTO:-0800
TZNAME:PST
DTSTART:20261101T090000
END:STANDARD
END:VTIMEZONE
BEGIN:VEVENT
DTSTART;TZID=America/Los_Angeles:20250410T110000
DTEND;TZID=America/Los_Angeles:20250410T130000
DTSTAMP:20260424T042912
CREATED:20251210T232337Z
LAST-MODIFIED:20251210T232337Z
UID:10003926-1744282800-1744290000@bendoregon.gov
SUMMARY:Environment and Climate Committee
DESCRIPTION:
URL:https://bendoregon.gov/event/environment-and-climate-committee-8/
LOCATION:Council Chambers (City Hall)\, 710 NW Wall St\, Bend\, 97703\, United States
CATEGORIES:Environment & Climate Committee
END:VEVENT
BEGIN:VEVENT
DTSTART;TZID=America/Los_Angeles:20250313T110000
DTEND;TZID=America/Los_Angeles:20250313T130000
DTSTAMP:20260424T042912
CREATED:20251210T232222Z
LAST-MODIFIED:20251210T232222Z
UID:10003903-1741863600-1741870800@bendoregon.gov
SUMMARY:Environment and Climate Committee
DESCRIPTION:
URL:https://bendoregon.gov/event/environment-and-climate-committee-7/
LOCATION:Council Chambers (City Hall)\, 710 NW Wall St\, Bend\, 97703\, United States
CATEGORIES:Environment & Climate Committee
END:VEVENT
BEGIN:VEVENT
DTSTART;TZID=America/Los_Angeles:20250213T110000
DTEND;TZID=America/Los_Angeles:20250213T130000
DTSTAMP:20260424T042912
CREATED:20251210T232107Z
LAST-MODIFIED:20251210T232107Z
UID:10003880-1739444400-1739451600@bendoregon.gov
SUMMARY:Environment and Climate Committee
DESCRIPTION:
URL:https://bendoregon.gov/event/environment-and-climate-committee-6/
LOCATION:Council Chambers (City Hall)\, 710 NW Wall St\, Bend\, 97703\, United States
CATEGORIES:Environment & Climate Committee
END:VEVENT
BEGIN:VEVENT
DTSTART;TZID=America/Los_Angeles:20250109T113000
DTEND;TZID=America/Los_Angeles:20250109T130000
DTSTAMP:20260424T042912
CREATED:20251210T232007Z
LAST-MODIFIED:20251210T232007Z
UID:10003856-1736422200-1736427600@bendoregon.gov
SUMMARY:Environment and Climate Committee (Alternate Start Time)
DESCRIPTION:
URL:https://bendoregon.gov/event/environment-and-climate-committee-alternate-start-time/
LOCATION:Council Chambers (City Hall)\, 710 NW Wall St\, Bend\, 97703\, United States
CATEGORIES:Environment & Climate Committee
END:VEVENT
BEGIN:VEVENT
DTSTART;TZID=America/Los_Angeles:20241212T110000
DTEND;TZID=America/Los_Angeles:20241212T130000
DTSTAMP:20260424T042912
CREATED:20251210T231907Z
LAST-MODIFIED:20251210T231907Z
UID:10003840-1734001200-1734008400@bendoregon.gov
SUMMARY:Environment and Climate Committee
DESCRIPTION:
URL:https://bendoregon.gov/event/environment-and-climate-committee-5/
LOCATION:Council Chambers (City Hall)\, 710 NW Wall St\, Bend\, 97703\, United States
CATEGORIES:Environment & Climate Committee
END:VEVENT
BEGIN:VEVENT
DTSTART;TZID=America/Los_Angeles:20241114T110000
DTEND;TZID=America/Los_Angeles:20241114T130000
DTSTAMP:20260424T042912
CREATED:20251210T231752Z
LAST-MODIFIED:20251210T231752Z
UID:10003815-1731582000-1731589200@bendoregon.gov
SUMMARY:Environment and Climate Committee
DESCRIPTION:
URL:https://bendoregon.gov/event/environment-and-climate-committee-4/
LOCATION:Council Chambers (City Hall)\, 710 NW Wall St\, Bend\, 97703\, United States
CATEGORIES:Environment & Climate Committee
END:VEVENT
BEGIN:VEVENT
DTSTART;TZID=America/Los_Angeles:20241104T091500
DTEND;TZID=America/Los_Angeles:20241104T111500
DTSTAMP:20260424T042912
CREATED:20251210T231722Z
LAST-MODIFIED:20251210T231722Z
UID:10003803-1730711700-1730718900@bendoregon.gov
SUMMARY:Environment and Climate Committee Electrification Policy Working Group
DESCRIPTION:
URL:https://bendoregon.gov/event/environment-and-climate-committee-electrification-policy-working-group-2/
LOCATION:Council Chambers (City Hall)\, 710 NW Wall St\, Bend\, 97703\, United States
CATEGORIES:Environment & Climate Committee
END:VEVENT
BEGIN:VEVENT
DTSTART;TZID=America/Los_Angeles:20241010T110000
DTEND;TZID=America/Los_Angeles:20241010T130000
DTSTAMP:20260424T042912
CREATED:20251210T231637Z
LAST-MODIFIED:20251210T231637Z
UID:10003786-1728558000-1728565200@bendoregon.gov
SUMMARY:Environment and Climate Committee
DESCRIPTION:
URL:https://bendoregon.gov/event/environment-and-climate-committee-3/
LOCATION:Council Chambers (City Hall)\, 710 NW Wall St\, Bend\, 97703\, United States
CATEGORIES:Environment & Climate Committee
END:VEVENT
BEGIN:VEVENT
DTSTART;TZID=America/Los_Angeles:20240912T110000
DTEND;TZID=America/Los_Angeles:20240912T130000
DTSTAMP:20260424T042912
CREATED:20251210T231407Z
LAST-MODIFIED:20251210T231407Z
UID:10003736-1726138800-1726146000@bendoregon.gov
SUMMARY:Environment and Climate Committee
DESCRIPTION:The Environment and Climate Committee will hold a meeting on Thursday\, September 12\, 2024\, in Council Chambers\, 710 NW Wall Street from 11 a.m. – 1 p.m. \nTo Attend by Computer\, Pre-register. \nYou will receive an email confirmation with a personal link/information to connect via computer or phone. \nCall-in Phone Number: 1-888-788-0099 \nWebinar ID: 826 7365 4187 \nPasscode: 534662 \nYouTube Livestream Link: Live Stream the September Meeting. \nAgenda
URL:https://bendoregon.gov/event/environment-and-climate-committee-2/
LOCATION:Council Chambers (City Hall)\, 710 NW Wall St\, Bend\, 97703\, United States
CATEGORIES:Environment & Climate Committee
END:VEVENT
BEGIN:VEVENT
DTSTART;TZID=America/Los_Angeles:20240808T110000
DTEND;TZID=America/Los_Angeles:20240808T130000
DTSTAMP:20260424T042912
CREATED:20251210T231237Z
LAST-MODIFIED:20251210T231237Z
UID:10003710-1723114800-1723122000@bendoregon.gov
SUMMARY:Environment and Climate Committee Transportation Working Group CCAP Update Workshop
DESCRIPTION:The Environment and Climate Committee will be holding its Transportation Working Group CCAP Update Workshop on Thursday\, August 8 from 11 a.m. to 1 p.m. in Council Chambers at City Hall (710 NW Wall Street). \nTo Attend by Computer\, Pre-register. \n\nYou will receive an email confirmation with a personal link/information to connect via computer or phone.\n\nTo Attend by Phone: \n\nCall-in Phone Number: 1-888-788-0099\nWebinar ID: 882 0584 4426\nPasscode: 700438\n\nYouTube Livestream Link: Live Stream the Transportation Working Group CCAP Update Workshop. \nAgenda \nBest Practices and State Policy Memo \nTransportation CCAP Update Workshop Memo
URL:https://bendoregon.gov/event/environment-and-climate-committee-transportation-working-group-ccap-update-workshop/
LOCATION:Council Chambers (City Hall)\, 710 NW Wall St\, Bend\, 97703\, United States
CATEGORIES:Environment & Climate Committee
END:VEVENT
BEGIN:VEVENT
DTSTART;TZID=America/Los_Angeles:20240805T140000
DTEND;TZID=America/Los_Angeles:20240805T160000
DTSTAMP:20260424T042912
CREATED:20251210T231237Z
LAST-MODIFIED:20251210T231237Z
UID:10003706-1722866400-1722873600@bendoregon.gov
SUMMARY:Environment and Climate Committee Energy Supply Working Group CCAP Update Workshop
DESCRIPTION:The Environment and Climate Committee will be holding its Energy Supply Working Group CCAP Update Workshop on Monday\, August 5\, from 2 p.m. to 4 p.m. in Awbrey Butte Conference Room at City Hall (710 NW Wall Street). \nTo Attend by Computer\, Pre-register. \n\nYou will receive an email confirmation with a personal link/information to connect via computer or phone.\n\nTo Attend by Phone: \n\nCall-in Phone Number: 1-888-788-0099\nWebinar ID: 885 6002 5772\nPasscode: 233262\n\nYouTube Livestream Link: Live Stream the Energy Supply Working Group CCAP Update Workshop. \nAgenda \nBest Practices and State Policy Memo \nEnergy Supply CCAP Update Workshop Memo
URL:https://bendoregon.gov/event/environment-and-climate-committee-energy-supply-working-group-ccap-update-workshop/
LOCATION:Awbrey Butte (City Hall)\, 710 NW Wall St\, Bend\, 97703\, United States
CATEGORIES:Environment & Climate Committee
END:VEVENT
BEGIN:VEVENT
DTSTART;TZID=America/Los_Angeles:20240801T090000
DTEND;TZID=America/Los_Angeles:20240801T110000
DTSTAMP:20260424T042912
CREATED:20251210T231222Z
LAST-MODIFIED:20251210T231222Z
UID:10003704-1722502800-1722510000@bendoregon.gov
SUMMARY:Environment and Climate Committee Energy in Buildings Working Group CCAP Update Workshop
DESCRIPTION:The Environment and Climate Committee will be holding its Energy in Buildings Working Group CCAP Update Workshop on Thursday\, August 1 from 9 a.m. to 11 a.m. in Council Chambers at City Hall (710 NW Wall Street). \nTo Attend by Computer\, Pre-register. \n\nYou will receive an email confirmation with a personal link/information to connect via computer or phone.\n\nTo Attend by Phone: \n\nCall-in Phone Number: 1-888-788-0099\nWebinar ID: 880 9129 5094\nPasscode: 677924\n\nYouTube Livestream Link: Live Stream the Energy in Buildings Working Group CCAP Update Workshop. \nAgenda \nBest Practices and State Policy Memo \nEnergy in Buildings CCAP Update Workshop Memo
URL:https://bendoregon.gov/event/environment-and-climate-committee-energy-in-buildings-working-group-ccap-update-workshop/
LOCATION:Council Chambers (City Hall)\, 710 NW Wall St\, Bend\, 97703\, United States
CATEGORIES:Environment & Climate Committee
END:VEVENT
BEGIN:VEVENT
DTSTART;TZID=America/Los_Angeles:20240731T110000
DTEND;TZID=America/Los_Angeles:20240731T130000
DTSTAMP:20260424T042912
CREATED:20251210T231222Z
LAST-MODIFIED:20251210T231222Z
UID:10003701-1722423600-1722430800@bendoregon.gov
SUMMARY:Environment and Climate Committee Waste & Materials Working Group CCAP Update Workshop
DESCRIPTION:The Environment and Climate Committee will be holding its Waste & Materials Working Group CCAP Update Workshop on Wednesday\, July 31 from 11 a.m. to 1 p.m. in Board Room at City Hall (710 NW Wall Street). \nTo Attend by Computer\, Pre-register. \n\nYou will receive an email confirmation with a personal link/information to connect via computer or phone.\n\nTo Attend by Phone: \n\nCall-in Phone Number: 1-888-788-0099\nWebinar ID: 828 5446 3924\nPasscode: 04627\n\nYouTube Livestream Link: Live Stream the Waste & Materials Working Group CCAP Update Workshop. \nAgenda \n Best Practices and State Policy Memo \nWaste & Materials CCAP Update Workshop Memo \n 
URL:https://bendoregon.gov/event/environment-and-climate-committee-waste-materials-working-group-ccap-update-workshop/
LOCATION:Boardroom (City Hall)\, 710 NW Wall St\, Bend\, 97703\, United States
CATEGORIES:Environment & Climate Committee
END:VEVENT
BEGIN:VEVENT
DTSTART;TZID=America/Los_Angeles:20240711T110000
DTEND;TZID=America/Los_Angeles:20240711T130000
DTSTAMP:20260424T042912
CREATED:20251210T231152Z
LAST-MODIFIED:20251210T231152Z
UID:10003692-1720695600-1720702800@bendoregon.gov
SUMMARY:Cancelled - Environment and Climate Committee Meeting
DESCRIPTION:
URL:https://bendoregon.gov/event/cancelled-environment-and-climate-committee-meeting-2/
LOCATION:Council Chambers (City Hall)\, 710 NW Wall St\, Bend\, 97703\, United States
CATEGORIES:Environment & Climate Committee
END:VEVENT
BEGIN:VEVENT
DTSTART;TZID=America/Los_Angeles:20240613T110000
DTEND;TZID=America/Los_Angeles:20240613T130000
DTSTAMP:20260424T042912
CREATED:20251210T231037Z
LAST-MODIFIED:20251210T231037Z
UID:10003669-1718276400-1718283600@bendoregon.gov
SUMMARY:Environment and Climate Committee Meeting
DESCRIPTION:
URL:https://bendoregon.gov/event/environment-and-climate-committee-meeting-41/
LOCATION:Council Chambers (City Hall)\, 710 NW Wall St\, Bend\, 97703\, United States
CATEGORIES:Environment & Climate Committee
END:VEVENT
BEGIN:VEVENT
DTSTART;TZID=America/Los_Angeles:20240509T110000
DTEND;TZID=America/Los_Angeles:20240509T130000
DTSTAMP:20260424T042912
CREATED:20251210T230852Z
LAST-MODIFIED:20251210T230852Z
UID:10003640-1715252400-1715259600@bendoregon.gov
SUMMARY:Environment and Climate Committee Meeting
DESCRIPTION:
URL:https://bendoregon.gov/event/environment-and-climate-committee-meeting-40/
LOCATION:Council Chambers (City Hall)\, 710 NW Wall St\, Bend\, 97703\, United States
CATEGORIES:Environment & Climate Committee
END:VEVENT
BEGIN:VEVENT
DTSTART;TZID=America/Los_Angeles:20240411T110000
DTEND;TZID=America/Los_Angeles:20240411T130000
DTSTAMP:20260424T042912
CREATED:20251210T230752Z
LAST-MODIFIED:20251210T230752Z
UID:10003618-1712833200-1712840400@bendoregon.gov
SUMMARY:Environment and Climate Committee Meeting
DESCRIPTION:
URL:https://bendoregon.gov/event/environment-and-climate-committee-meeting-39/
LOCATION:Council Chambers (City Hall)\, 710 NW Wall St\, Bend\, 97703\, United States
CATEGORIES:Environment & Climate Committee
END:VEVENT
BEGIN:VEVENT
DTSTART;TZID=America/Los_Angeles:20240314T110000
DTEND;TZID=America/Los_Angeles:20240314T130000
DTSTAMP:20260424T042912
CREATED:20251210T230555Z
LAST-MODIFIED:20251210T230555Z
UID:10003595-1710414000-1710421200@bendoregon.gov
SUMMARY:Environment and Climate Committee Meeting
DESCRIPTION:
URL:https://bendoregon.gov/event/environment-and-climate-committee-meeting-38/
LOCATION:Council Chambers (City Hall)\, 710 NW Wall St\, Bend\, 97703\, United States
CATEGORIES:Environment & Climate Committee
END:VEVENT
BEGIN:VEVENT
DTSTART;TZID=America/Los_Angeles:20240208T110000
DTEND;TZID=America/Los_Angeles:20240208T130000
DTSTAMP:20260424T042912
CREATED:20251210T230440Z
LAST-MODIFIED:20251210T230440Z
UID:10003567-1707390000-1707397200@bendoregon.gov
SUMMARY:Environment and Climate Committee Meeting
DESCRIPTION:
URL:https://bendoregon.gov/event/environment-and-climate-committee-meeting-37/
LOCATION:Council Chambers (City Hall)\, 710 NW Wall St\, Bend\, 97703\, United States
CATEGORIES:Environment & Climate Committee
END:VEVENT
BEGIN:VEVENT
DTSTART;TZID=America/Los_Angeles:20240111T110000
DTEND;TZID=America/Los_Angeles:20240111T130000
DTSTAMP:20260424T042912
CREATED:20251210T230325Z
LAST-MODIFIED:20251210T230325Z
UID:10003549-1704970800-1704978000@bendoregon.gov
SUMMARY:Environment and Climate Committee Meeting
DESCRIPTION:
URL:https://bendoregon.gov/event/environment-and-climate-committee-meeting-36/
LOCATION:Council Chambers (City Hall)\, 710 NW Wall St\, Bend\, 97703\, United States
CATEGORIES:Environment & Climate Committee
END:VEVENT
BEGIN:VEVENT
DTSTART;TZID=America/Los_Angeles:20231214T110000
DTEND;TZID=America/Los_Angeles:20231214T130000
DTSTAMP:20260424T042912
CREATED:20251210T230225Z
LAST-MODIFIED:20251210T230225Z
UID:10003526-1702551600-1702558800@bendoregon.gov
SUMMARY:Environment and Climate Committee Meeting
DESCRIPTION:
URL:https://bendoregon.gov/event/environment-and-climate-committee-meeting-35/
LOCATION:Council Chambers (City Hall)\, 710 NW Wall St\, Bend\, 97703\, United States
CATEGORIES:Environment & Climate Committee
END:VEVENT
BEGIN:VEVENT
DTSTART;TZID=America/Los_Angeles:20231109T110000
DTEND;TZID=America/Los_Angeles:20231109T130000
DTSTAMP:20260424T042912
CREATED:20251210T230053Z
LAST-MODIFIED:20251210T230053Z
UID:10003497-1699527600-1699534800@bendoregon.gov
SUMMARY:Environment and Climate Committee Meeting
DESCRIPTION:
URL:https://bendoregon.gov/event/environment-and-climate-committee-meeting-34/
LOCATION:Council Chambers (City Hall)\, 710 NW Wall St\, Bend\, 97703\, United States
CATEGORIES:Environment & Climate Committee
END:VEVENT
BEGIN:VEVENT
DTSTART;TZID=America/Los_Angeles:20231012T110000
DTEND;TZID=America/Los_Angeles:20231012T130000
DTSTAMP:20260424T042912
CREATED:20251205T194843Z
LAST-MODIFIED:20251205T194843Z
UID:10003415-1697108400-1697115600@bendoregon.gov
SUMMARY:CANCELLED Environment and Climate Committee Meeting
DESCRIPTION:Due to an ongoing power outage\, the October 12th Environment and Climate Committee meeting is cancelled. 
URL:https://bendoregon.gov/event/cancelled-environment-and-climate-committee-meeting/
LOCATION:Council Chambers (City Hall)\, 710 NW Wall St\, Bend\, 97703\, United States
CATEGORIES:Environment & Climate Committee
END:VEVENT
BEGIN:VEVENT
DTSTART;TZID=America/Los_Angeles:20230914T110000
DTEND;TZID=America/Los_Angeles:20230914T130000
DTSTAMP:20260424T042912
CREATED:20251205T194650Z
LAST-MODIFIED:20251205T194650Z
UID:10003384-1694689200-1694696400@bendoregon.gov
SUMMARY:Environment and Climate Committee Meeting
DESCRIPTION:
URL:https://bendoregon.gov/event/environment-and-climate-committee-meeting-33/
LOCATION:Council Chambers (City Hall)\, 710 NW Wall St\, Bend\, 97703\, United States
CATEGORIES:Environment & Climate Committee
END:VEVENT
BEGIN:VEVENT
DTSTART;TZID=America/Los_Angeles:20230810T110000
DTEND;TZID=America/Los_Angeles:20230810T130000
DTSTAMP:20260424T042912
CREATED:20251205T194520Z
LAST-MODIFIED:20251205T194520Z
UID:10003352-1691665200-1691672400@bendoregon.gov
SUMMARY:Environment and Climate Committee Meeting
DESCRIPTION:
URL:https://bendoregon.gov/event/environment-and-climate-committee-meeting-32/
LOCATION:Council Chambers (City Hall)\, 710 NW Wall St\, Bend\, 97703\, United States
CATEGORIES:Environment & Climate Committee
END:VEVENT
BEGIN:VEVENT
DTSTART;TZID=America/Los_Angeles:20230608T110000
DTEND;TZID=America/Los_Angeles:20230608T130000
DTSTAMP:20260424T042912
CREATED:20251205T194230Z
LAST-MODIFIED:20251205T194230Z
UID:10003302-1686222000-1686229200@bendoregon.gov
SUMMARY:Environment and Climate Committee Meeting
DESCRIPTION:
URL:https://bendoregon.gov/event/environment-and-climate-committee-meeting-31/
LOCATION:Council Chambers (City Hall)\, 710 NW Wall St\, Bend\, 97703\, United States
CATEGORIES:Environment & Climate Committee
END:VEVENT
BEGIN:VEVENT
DTSTART;TZID=America/Los_Angeles:20230511T110000
DTEND;TZID=America/Los_Angeles:20230511T130000
DTSTAMP:20260424T042912
CREATED:20251205T193921Z
LAST-MODIFIED:20251205T193921Z
UID:10003274-1683802800-1683810000@bendoregon.gov
SUMMARY:Environment and Climate Committee Meeting
DESCRIPTION:
URL:https://bendoregon.gov/event/environment-and-climate-committee-meeting-30/
LOCATION:Council Chambers (City Hall)\, 710 NW Wall St\, Bend\, 97703\, United States
CATEGORIES:Environment & Climate Committee
END:VEVENT
BEGIN:VEVENT
DTSTART;TZID=America/Los_Angeles:20230413T110000
DTEND;TZID=America/Los_Angeles:20230413T130000
DTSTAMP:20260424T042912
CREATED:20251205T193720Z
LAST-MODIFIED:20251205T193720Z
UID:10003240-1681383600-1681390800@bendoregon.gov
SUMMARY:Environment and Climate Committee Meeting
DESCRIPTION:
URL:https://bendoregon.gov/event/environment-and-climate-committee-meeting-29/
LOCATION:Council Chambers (City Hall)\, 710 NW Wall St\, Bend\, 97703\, United States
CATEGORIES:Environment & Climate Committee
END:VEVENT
BEGIN:VEVENT
DTSTART;TZID=America/Los_Angeles:20230309T110000
DTEND;TZID=America/Los_Angeles:20230309T130000
DTSTAMP:20260424T042912
CREATED:20251205T193440Z
LAST-MODIFIED:20251205T193440Z
UID:10003209-1678359600-1678366800@bendoregon.gov
SUMMARY:Environment and Climate Committee Meeting
DESCRIPTION:
URL:https://bendoregon.gov/event/environment-and-climate-committee-meeting-28/
LOCATION:Council Chambers (City Hall)\, 710 NW Wall St\, Bend\, 97703\, United States
CATEGORIES:Environment & Climate Committee
END:VEVENT
BEGIN:VEVENT
DTSTART;TZID=America/Los_Angeles:20230228T130000
DTEND;TZID=America/Los_Angeles:20230228T140000
DTSTAMP:20260424T042912
CREATED:20251205T193355Z
LAST-MODIFIED:20251205T193355Z
UID:10003195-1677589200-1677592800@bendoregon.gov
SUMMARY:ECC Waste & Materials Working Group
DESCRIPTION:
URL:https://bendoregon.gov/event/ecc-waste-materials-working-group-2/
LOCATION:Awbrey Butte (City Hall)\, 710 NW Wall St\, Bend\, 97703\, United States
CATEGORIES:Environment & Climate Committee
END:VEVENT
END:VCALENDAR